Workbook

Sheet Home
F2: =INDEX({"Planilha de Resultados 2T26";"Results Spreadsheet 2Q26"},Home!$R$30) -> Planilha de Resultados 2T26 | O2: Selecione o idioma Choose Language
C7: =INDEX({"Pré-IFRS";"Pre-IFRS"},Home!$R$30) -> Pré-IFRS | H7: =INDEX({"Indicadores";"Indicators"},Home!$R$30) -> Indicadores
C10: =INDEX({"DRE Ajustado";"Adjusted P&L"},Home!$R$30) -> DRE Ajustado | M10: =INDEX({"DRE Ajustado";"Adjusted P&L"},Home!$R$30) -> DRE Ajustado
H11: =INDEX({"Operacionais";"Operational"},Home!$R$30) -> Operacionais
C13: =INDEX({"DRE";"P&L"},Home!$R$30) -> DRE | M13: =INDEX({"DRE";"P&L"},Home!$R$30) -> DRE
H14: =INDEX({"Curvas de Maturação";"Maturation Curves"},Home!$R$30) -> Curvas de Maturação
C16: =INDEX({"Balanço Patrimonial";"Balance Sheet"},Home!$R$30) -> Balanço Patrimonial | M16: =INDEX({"Balanço Patrimonial";"Balance Sheet"},Home!$R$30) -> Balanço Patrimonial
H17: =INDEX({"Proventos";"Proceeds"},Home!$R$30) -> Proventos
C19: =INDEX({"Fluxo de Caixa";"Cash Flow"},Home!$R$30) -> Fluxo de Caixa | M19: =INDEX({"Fluxo de Caixa";"Cash Flow"},Home!$R$30) -> Fluxo de Caixa
C26: =INDEX({"As Demonstrações Financeiras são preparadas de acordo com o IFRS 16. Para melhor representar a realidade econômica do negócio, as informações no arquivo também são apresentadas pré-IFRS.";"The Financial Statements are prepared in accordance with IFRS 16. In order to better represent the economics of the business, the figures in this file are also presented pre-IFRS."},Home!$R$30) -> As Demonstrações Financeiras são preparadas de acordo com o IFRS 16. Para melhor representar a realidade econômica do negócio, as informações no arquivo também são apresentadas pré-IFRS. | R26: PORT
R27: ENG
D29: =INDEX({"Contato RI: ri.rdsaude.com.br";"Contact IR: ri.rdsaude.com.br"},Home!$R$30) -> Contato RI: ri.rdsaude.com.br
R30: 1

Sheet AdjP&L
A1: =INDEX({"DRE Consolidado Ajustado IAS 17 (R$ mil)";"Adjusted Cons. Income Statement IAS 17 (R$ thousands)"},Home!$R$30) -> DRE Consolidado Ajustado IAS 17 (R$ mil) | B1: =INDEX({"1T12";"1Q12"},Home!$R$30) -> 1T12 | C1: =INDEX({"2T12";"2Q12"},Home!$R$30) -> 2T12 | D1: =INDEX({"3T12";"3Q12"},Home!$R$30) -> 3T12 | E1: =INDEX({"4T12";"4Q12"},Home!$R$30) -> 4T12 | F1: =INDEX({"1T13";"1Q13"},Home!$R$30) -> 1T13 | G1: =INDEX({"2T13";"2Q13"},Home!$R$30) -> 2T13 | H1: =INDEX({"3T13";"3Q13"},Home!$R$30) -> 3T13 | I1: =INDEX({"4T13";"4Q13"},Home!$R$30) -> 4T13 | J1: =INDEX({"1T14*";"1Q14*"},Home!$R$30) -> 1T14* | K1: =INDEX({"2T14";"2Q14"},Home!$R$30) -> 2T14 | L1: =INDEX({"3T14";"3Q14"},Home!$R$30) -> 3T14 | M1: =INDEX({"4T14";"4Q14"},Home!$R$30) -> 4T14 | N1: =INDEX({"1T15";"1Q15"},Home!$R$30) -> 1T15 | O1: =INDEX({"2T15";"2Q15"},Home!$R$30) -> 2T15 | P1: =INDEX({"3T15";"3Q15"},Home!$R$30) -> 3T15 | Q1: =INDEX({"4T15";"4Q15"},Home!$R$30) -> 4T15 | R1: =INDEX({"1T16";"1Q16"},Home!$R$30) -> 1T16 | S1: =INDEX({"2T16";"2Q16"},Home!$R$30) -> 2T16 | T1: =INDEX({"3T16";"3Q16"},Home!$R$30) -> 3T16 | U1: =INDEX({"4T16";"4Q16"},Home!$R$30) -> 4T16 | V1: =INDEX({"1T17";"1Q17"},Home!$R$30) -> 1T17 | W1: =INDEX({"2T17";"2Q17"},Home!$R$30) -> 2T17 | X1: =INDEX({"3T17";"3Q17"},Home!$R$30) -> 3T17 | Y1: =INDEX({"4T17";"4Q17"},Home!$R$30) -> 4T17 | Z1: =INDEX({"1T18";"1Q18"},Home!$R$30) -> 1T18 | AA1: =INDEX({"2T18";"2Q18"},Home!$R$30) -> 2T18 | AB1: =INDEX({"3T18";"3Q18"},Home!$R$30) -> 3T18 | AC1: =INDEX({"4T18";"4Q18"},Home!$R$30) -> 4T18 | AD1: =INDEX({"1T19";"1Q19"},Home!$R$30) -> 1T19 | AE1: =INDEX({"2T19";"2Q19"},Home!$R$30) -> 2T19 | AF1: =INDEX({"3T19**";"3Q19**"},Home!$R$30) -> 3T19** | AG1: =INDEX({"4T19";"4Q19"},Home!$R$30) -> 4T19 | AH1: =INDEX({"1T20";"1Q20"},Home!$R$30) -> 1T20 | AI1: =INDEX({"2T20";"2Q20"},Home!$R$30) -> 2T20 | AJ1: =INDEX({"3T20";"3Q20"},Home!$R$30) -> 3T20 | AK1: =INDEX({"4T20";"4Q20"},Home!$R$30) -> 4T20 | AL1: =INDEX({"1T21";"1Q21"},Home!$R$30) -> 1T21 | AM1: =INDEX({"2T21";"2Q21"},Home!$R$30) -> 2T21 | AN1: =INDEX({"3T21";"3Q21"},Home!$R$30) -> 3T21 | AO1: =INDEX({"4T21";"4Q21"},Home!$R$30) -> 4T21 | AP1: =INDEX({"1T22";"1Q22"},Home!$R$30) -> 1T22 | AQ1: =INDEX({"2T22";"2Q22"},Home!$R$30) -> 2T22 | AR1: =INDEX({"3T22";"3Q22"},Home!$R$30) -> 3T22 | AS1: =INDEX({"4T22";"4Q22"},Home!$R$30) -> 4T22 | AT1: =INDEX({"1T23";"1Q23"},Home!$R$30) -> 1T23 | AU1: =INDEX({"2T23";"2Q23"},Home!$R$30) -> 2T23 | AV1: =INDEX({"3T23";"3Q23"},Home!$R$30) -> 3T23 | AW1: =INDEX({"4T23";"4Q23"},Home!$R$30) -> 4T23 | AX1: =INDEX({"1T24";"1Q24"},Home!$R$30) -> 1T24 | AY1: =INDEX({"2T24";"2Q24"},Home!$R$30) -> 2T24 | AZ1: =INDEX({"3T24";"3Q24"},Home!$R$30) -> 3T24 | BA1: =INDEX({"4T24";"4Q24"},Home!$R$30) -> 4T24 | BB1: =INDEX({"1T25";"1Q25"},Home!$R$30) -> 1T25 | BC1: =INDEX({"2T25";"2Q25"},Home!$R$30) -> 2T25 | BD1: =INDEX({"3T25";"3Q25"},Home!$R$30) -> 3T25 | BE1: =INDEX({"4T25";"4Q25"},Home!$R$30) -> 4T25 | BF1: =INDEX({"1T26";"1Q26"},Home!$R$30) -> 1T26 | BG1: =INDEX({"2T26";"2Q26"},Home!$R$30) -> 2T26 | BI1: 2012 | BJ1: =BI1+1 -> 2013 | BK1: =BJ1+1 -> 2014 | BL1: =BK1+1 -> 2015 | BM1: =BL1+1 -> 2016 | BN1: =BM1+1 -> 2017 | BO1: =BN1+1 -> 2018 | BP1: =BO1+1 -> 2019 | BQ1: =BP1+1 -> 2020 | ... BV1: =BU1+1 -> 2025
AT2: =INDEX({"Reclassif.";"Reclassif."},Home!$R$30) -> Reclassif. | AU2: =INDEX({"Reclassif.";"Reclassif."},Home!$R$30) -> Reclassif. | AV2: =INDEX({"Reclassif.";"Reclassif."},Home!$R$30) -> Reclassif. | AW2: =INDEX({"Reclassif.";"Reclassif."},Home!$R$30) -> Reclassif. | BB2: =INDEX({"Reapresentado";"Resubmitted"},Home!$R$30) -> Reapresentado | BC2: =INDEX({"Reapresentado";"Resubmitted"},Home!$R$30) -> Reapresentado | BD2: =INDEX({"Reapresentado";"Resubmitted"},Home!$R$30) -> Reapresentado | BE2: =INDEX({"Reapresentado";"Resubmitted"},Home!$R$30) -> Reapresentado | BT2: =INDEX({"Reclassif.";"Reclassif."},Home!$R$30) -> Reclassif. | BV2: =INDEX({"Reapresentado";"Resubmitted"},Home!$R$30) -> Reapresentado
A3: =INDEX({"Receita bruta de vendas e serviços";"Gross revenue"},Home!$R$30) -> Receita bruta de vendas e serviços | B3: 1286847 | C3: 1375186 | D3: 1451824 | E3: 1479979 | F3: 1438405 | G3: 1604091 | H3: 1682958 | I3: 1738649 | J3: 1746332 | K3: 1885310 | L3: 2024309 | M3: 2128284 | N3: 2090599 | O3: 2323102 | P3: 2436860.9 | Q3: 2574215 | R3: 2641079.1 | S3: 2930451.4 | T3: 3050163.1 | U3: 3205873 | V3: 3212406.1 | W3: 3397859.9 | X3: 3580024.5 | Y3: 3662178.2 | Z3: 3603969 | AA3: 3791577.7 | AB3: 3944676.8 | AC3: 4178909.4 | AD3: 4153922.9 | AE3: 4440683.3 | AF3: 4771279.9 | AG3: 5030160.1 | AH3: 5206320.2 | AI3: 4721872.3 | AJ3: 5384230.3 | AK3: 5868052.5 | AL3: 5979507 | AM3: 6245162 | AN3: 6527874.7 | AO3: 6853140.2 | AP3: 6972490 | AQ3: 7641161.4 | AR3: 7985786 | AS3: 8351126.3 | AT3: 8471318.9 | AU3: 9013830 | AV3: 9274782.4 | AW3: 9538835.7 | AX3: 9767155.5 | AY3: 10402635 | AZ3: 10749830 | BA3: 10862353 | BB3: 9947885.9 | BC3: 10803986 | BD3: 11347942 | BE3: 12186767 | BF3: 11979521 | BG3: 12777743 | BI3: =SUM(B3:E3) -> 5593836 | BJ3: =SUM(F3:I3) -> 6464103 | BK3: =SUM(J3:M3) -> 7784235 | BL3: =SUM(N3:Q3) -> 9424776.9 | BM3: =SUM(R3:U3) -> 11827567 | BN3: =SUM(V3:Y3) -> 13852469 | BO3: =SUM(Z3:AC3) -> 15519133 | BP3: =SUM(AD3:AG3) -> 18396046 | BQ3: =SUM(AH3:AK3) -> 21180475 | BR3: =SUM(AL3:AO3) -> 25605684 | BS3: =SUM(AP3:AS3) -> 30950564 | BT3: =SUM(AT3:AW3) -> 36298767 | BU3: =SUM(AX3:BA3) -> 41781973 | BV3: =SUM(BB3:BE3) -> 44286581
A4: =INDEX({"Deduções";"Taxes, Discounts and Returns"},Home!$R$30) -> Deduções | B4: -56820 | C4: -58392 | D4: -62240 | E4: -58048 | F4: -54634 | G4: -60231 | H4: -64687 | I4: -66660 | J4: -69646.87 | K4: -76491.81 | L4: -80757.84 | M4: -86688.69 | N4: -86608 | O4: -96900 | P4: -105037 | Q4: -114277 | R4: -125651.82 | S4: -147239.9 | T4: -149233.27 | U4: -148876.21 | V4: -155295.65 | W4: -160601.76 | X4: -163184.37 | Y4: -160881.96 | Z4: -170391.34 | AA4: -177588.81 | AB4: -187862.87 | AC4: -181845.1 | AD4: -200571.39 | AE4: -215189.34 | AF4: -232343.88 | AG4: -245045.46 | AH4: -256448.92 | AI4: -252097.95 | AJ4: -290778.77 | AK4: -314311.33 | AL4: -359456.14 | AM4: -376898.38 | AN4: -363013 | AO4: -379314.78 | AP4: -409985.51 | AQ4: -462399.96 | AR4: -495920.3 | AS4: -514877.67 | AT4: -546933 | AU4: -581161.81 | AV4: -610296.09 | AW4: -629677.57 | AX4: -666661.6 | AY4: -715414.97 | AZ4: -760708.15 | BA4: -767666.77 | BB4: -674903.76 | BC4: -729302.57 | BD4: -767440.05 | BE4: -817574.63 | BF4: -1410931.5 | BG4: -1715344.4 | BI4: =SUM(B4:E4) -> -235500 | BJ4: =SUM(F4:I4) -> -246212 | BK4: =SUM(J4:M4) -> -313585.21 | BL4: =SUM(N4:Q4) -> -402822 | BM4: =SUM(R4:U4) -> -571001.2 | BN4: =SUM(V4:Y4) -> -639963.74 | BO4: =SUM(Z4:AC4) -> -717688.12 | BP4: =SUM(AD4:AG4) -> -893150.08 | BQ4: =SUM(AH4:AK4) -> -1113637 | BR4: =SUM(AL4:AO4) -> -1478682.3 | BS4: =SUM(AP4:AS4) -> -1883183.4 | BT4: =SUM(AT4:AW4) -> -2368068.5 | BU4: =SUM(AX4:BA4) -> -2910451.5 | BV4: =SUM(BB4:BE4) -> -2989221
A6: =INDEX({"Receita líquida de vendas e serviços";"Net revenue"},Home!$R$30) -> Receita líquida de vendas e serviços | B6: =B3+B4 -> 1230027 | C6: =C3+C4 -> 1316794 | D6: =D3+D4 -> 1389584 | E6: =E3+E4 -> 1421931 | F6: =F3+F4 -> 1383771 | G6: =G3+G4 -> 1543860 | H6: =H3+H4 -> 1618271 | I6: =I3+I4 -> 1671989 | ... BG6: =BG3+BG4 -> 11062399 | BI6: =BI3+BI4 -> 5358336 | BJ6: =BJ3+BJ4 -> 6217891 | BK6: =BK3+BK4 -> 7470649.8 | BL6: =BL3+BL4 -> 9021954.9 | BM6: =BM3+BM4 -> 11256565 | BN6: =BN3+BN4 -> 13212505 | BO6: =BO3+BO4 -> 14801445 | BP6: =BP3+BP4 -> 17502896 | ... BV6: =BV3+BV4 -> 41297360
A8: =INDEX({"Custo das mercadorias vendidas";"Cost of Goods Sold"},Home!$R$30) -> Custo das mercadorias vendidas | B8: -901262 | C8: -927000 | D8: -1006215 | E8: -1018360 | F8: -998533 | G8: -1106963 | H8: -1162904 | I8: -1201509 | J8: -1203125.6 | K8: -1273265.9 | L8: -1382641.4 | M8: -1447626.7 | N8: -1407428 | O8: -1523427 | P8: -1635505 | Q8: -1719854 | R8: -1758487.2 | S8: -1858386.4 | T8: -2000895.6 | U8: -2134653.2 | V8: -2135486.5 | W8: -2237537.5 | X8: -2396443.8 | Y8: -2455037.9 | Z8: -2406819.2 | AA8: -2509789.6 | AB8: -2640038.2 | AC8: -2799276.5 | AD8: -2791688.2 | AE8: -2936208.7 | AF8: -3217586 | AG8: -3374111.5 | AH8: -3508020.7 | AI8: -3149651.9 | AJ8: -3598455.3 | AK8: -3919528.3 | AL8: -3978198.9 | AM8: -4071212.6 | AN8: -4349401.3 | AO8: -4522020.6 | AP8: -4634073.7 | AQ8: -4860664.4 | AR8: -5265091.6 | AS8: -5498082.2 | AT8: -5609601.9 | AU8: -5832247.6 | AV8: -6085664.3 | AW8: -6238926.2 | AX8: -6441229.8 | AY8: -6755221.2 | AZ8: -7018436.4 | BA8: -7100566.3 | BB8: -6452871.5 | BC8: -6940850.2 | BD8: -7323210.8 | BE8: -7860591.2 | BF8: -7175953.3 | BG8: -7366327.7 | BI8: =SUM(B8:E8) -> -3852837 | BJ8: =SUM(F8:I8) -> -4469909 | BK8: =SUM(J8:M8) -> -5306659.6 | BL8: =SUM(N8:Q8) -> -6286214 | BM8: =SUM(R8:U8) -> -7752422.4 | BN8: =SUM(V8:Y8) -> -9224505.7 | BO8: =SUM(Z8:AC8) -> -10355924 | BP8: =SUM(AD8:AG8) -> -12319594 | BQ8: =SUM(AH8:AK8) -> -14175656 | BR8: =SUM(AL8:AO8) -> -16920834 | BS8: =SUM(AP8:AS8) -> -20257912 | BT8: =SUM(AT8:AW8) -> -23766440 | BU8: =SUM(AX8:BA8) -> -27315454 | BV8: =SUM(BB8:BE8) -> -28577524
A10: =INDEX({"Lucro bruto";"Gross profit"},Home!$R$30) -> Lucro bruto | B10: =B6+B8 -> 328765 | C10: =C6+C8 -> 389794 | D10: =D6+D8 -> 383369 | E10: =E6+E8 -> 403571 | F10: =F6+F8 -> 385238 | G10: =G6+G8 -> 436897 | H10: =H6+H8 -> 455367 | I10: =I6+I8 -> 470480 | ... BG10: =BG6+BG8 -> 3696071.1 | BI10: =BI6+BI8 -> 1505499 | BJ10: =BJ6+BJ8 -> 1747982 | BK10: =BK6+BK8 -> 2163990.2 | BL10: =BL6+BL8 -> 2735740.9 | BM10: =BM6+BM8 -> 3504143 | BN10: =BN6+BN8 -> 3987999.2 | BO10: =BO6+BO8 -> 4445521.2 | BP10: =BP6+BP8 -> 5183301.6 | ... BV10: =BV6+BV8 -> 12719836
A12: =INDEX({"Despesas";"Expenses"},Home!$R$30) -> Despesas
A13: =INDEX({"Vendas";"Selling Expenses"},Home!$R$30) -> Vendas | B13: -224401 | C13: -241982 | D13: -261867 | E13: -272853 | F13: -271761 | G13: -289794 | H13: -317061 | I13: -320641 | J13: -328931 | K13: -341034 | L13: -365150 | M13: -385467 | N13: -390161 | O13: -419952 | P13: -452371 | Q13: -490616 | R13: -501633.34 | S13: -546841.84 | T13: -571422.57 | U13: -598867.25 | V13: -599142.03 | W13: -616900.31 | X13: -642400.37 | Y13: -670608.11 | Z13: -674838.78 | AA13: -704268.15 | AB13: -735402.58 | AC13: -786501.87 | AD13: -795119.66 | AE13: -823210.02 | AF13: -851825.15 | AG13: -918901.68 | AH13: -940499.74 | AI13: -945308.37 | AJ13: -963626.3 | AK13: -1027786.2 | AL13: -1060049.8 | AM13: -1119754.2 | AN13: -1164751.6 | AO13: -1261758.2 | AP13: -1296525.9 | AQ13: -1330304.4 | AR13: -1393832.4 | AS13: -1429542.2 | AT13: -1484700.3 | AU13: -1543981.5 | AV13: -1614133.1 | AW13: -1726604.9 | AX13: -1675501.8 | AY13: -1789657.1 | AZ13: -1836993.9 | BA13: -1953049.5 | BB13: -1902460.4 | BC13: -1982851.1 | BD13: -2064780.6 | BE13: -2258851.2 | BF13: -2275228.1 | BG13: -2370424 | BI13: =SUM(B13:E13) -> -1001103 | BJ13: =SUM(F13:I13) -> -1199257 | BK13: =SUM(J13:M13) -> -1420582 | BL13: =SUM(N13:Q13) -> -1753100 | BM13: =SUM(R13:U13) -> -2218765 | BN13: =SUM(V13:Y13) -> -2529050.8 | BO13: =SUM(Z13:AC13) -> -2901011.4 | BP13: =SUM(AD13:AG13) -> -3389056.5 | BQ13: =SUM(AH13:AK13) -> -3877220.6 | BR13: =SUM(AL13:AO13) -> -4606313.9 | BS13: =SUM(AP13:AS13) -> -5450204.9 | BT13: =SUM(AT13:AW13) -> -6369419.8 | BU13: =SUM(AX13:BA13) -> -7255202.4 | BV13: =SUM(BB13:BE13) -> -8208943.3
A14: =INDEX({"Gerais e administrativas";"General and Administrative"},Home!$R$30) -> Gerais e administrativas | B14: -40753 | C14: -44832 | D14: -37094 | E14: -44631 | F14: -44414 | G14: -40495 | H14: -43933 | I14: -47164 | J14: -49482 | K14: -53840 | L14: -47050 | M14: -48915 | N14: -52527 | O14: -63913 | P14: -61337 | Q14: -61348 | R14: -62467.71 | S14: -73172.41 | T14: -74607.92 | U14: -87480.27 | V14: -78464.22 | W14: -81734.9 | X14: -81533.05 | Y14: -86931.31 | Z14: -79734.7 | AA14: -83283.46 | AB14: -86122.87 | AC14: -100177.32 | AD14: -96474.049 | AE14: -102387.71 | AF14: -110118.17 | AG14: -141670.12 | AH14: -131994.98 | AI14: -143003.33 | AJ14: -134210.87 | AK14: -175583.89 | AL14: -165947.37 | AM14: -180183.03 | AN14: -204543.97 | AO14: -241936.42 | AP14: -243528.18 | AQ14: -260283.83 | AR14: -284142.14 | AS14: -309186.38 | AT14: -267103.13 | AU14: -288814.47 | AV14: -306591.93 | AW14: -329083.02 | AX14: -303912.25 | AY14: -317946.13 | AZ14: -322976.67 | BA14: -363548.93 | BB14: -294489.03 | BC14: -288001.92 | BD14: -299918.95 | BE14: -325432.01 | BF14: -296621.88 | BG14: -308299.11 | BI14: =SUM(B14:E14) -> -167310 | BJ14: =SUM(F14:I14) -> -176006 | BK14: =SUM(J14:M14) -> -199287 | BL14: =SUM(N14:Q14) -> -239125 | BM14: =SUM(R14:U14) -> -297728.31 | BN14: =SUM(V14:Y14) -> -328663.48 | BO14: =SUM(Z14:AC14) -> -349318.35 | BP14: =SUM(AD14:AG14) -> -450650.05 | BQ14: =SUM(AH14:AK14) -> -584793.06 | BR14: =SUM(AL14:AO14) -> -792610.8 | BS14: =SUM(AP14:AS14) -> -1097140.5 | BT14: =SUM(AT14:AW14) -> -1191592.5 | BU14: =SUM(AX14:BA14) -> -1308384 | BV14: =SUM(BB14:BE14) -> -1207841.9
A15: =INDEX({"Outras despesas operacionais, líquidas";"Other Operating Expenses, Net"},Home!$R$30) -> Outras despesas operacionais, líquidas
A16: =INDEX({"Despesas operacionais";"Total expenses"},Home!$R$30) -> Despesas operacionais | B16: =SUM(B13:B15) -> -265154 | C16: =SUM(C13:C15) -> -286814 | D16: =SUM(D13:D15) -> -298961 | E16: =SUM(E13:E15) -> -317484 | F16: =SUM(F13:F15) -> -316175 | G16: =SUM(G13:G15) -> -330289 | H16: =SUM(H13:H15) -> -360994 | I16: =SUM(I13:I15) -> -367805 | ... BG16: =SUM(BG13:BG15) -> -2678723.1 | BI16: =SUM(BI13:BI15) -> -1168413 | BJ16: =SUM(BJ13:BJ15) -> -1375263 | BK16: =SUM(BK13:BK15) -> -1619869 | BL16: =SUM(BL13:BL15) -> -1992225 | BM16: =SUM(BM13:BM15) -> -2516493.3 | BN16: =SUM(BN13:BN15) -> -2857714.3 | BO16: =SUM(BO13:BO15) -> -3250329.7 | BP16: =SUM(BP13:BP15) -> -3839706.6 | ... BV16: =SUM(BV13:BV15) -> -9416785.2
A18: =INDEX({"EBITDA";"EBITDA"},Home!$R$30) -> EBITDA | B18: =B16+B10 -> 63611 | C18: =C16+C10 -> 102980 | D18: =D16+D10 -> 84408 | E18: =E16+E10 -> 86087 | F18: =F16+F10 -> 69063 | G18: =G16+G10 -> 106608 | H18: =H16+H10 -> 94373 | I18: =I16+I10 -> 102675 | ... BG18: =BG16+BG10 -> 1017348 | BI18: =BI16+BI10 -> 337086 | BJ18: =BJ16+BJ10 -> 372719 | BK18: =BK16+BK10 -> 544121.21 | BL18: =BL16+BL10 -> 743515.92 | BM18: =BM16+BM10 -> 987649.69 | BN18: =BN16+BN10 -> 1130284.9 | BO18: =BO16+BO10 -> 1195191.5 | BP18: =BP16+BP10 -> 1343595 | ... BV18: =BV16+BV10 -> 3303051
A20: =INDEX({"Depreciação e Amortização";"Depreciation and Amortization"},Home!$R$30) -> Depreciação e Amortização | B20: -28913 | C20: -30384 | D20: -31868 | E20: -33162 | F20: -36065 | G20: -39005 | H20: -41220 | I20: -42446 | J20: -43699 | K20: -44081 | L20: -48364 | M20: -51669 | N20: -53573 | O20: -55640 | P20: -57760 | Q20: -60086 | R20: -62929.8 | S20: -66609.36 | T20: -70498.54 | U20: -74396.6 | V20: -77521.92 | W20: -81509.78 | X20: -86759.9 | Y20: -92122.99 | Z20: -96037.82 | AA20: -100267.72 | AB20: -105518.24 | AC20: -112309.8 | AD20: -117817.55 | AE20: -124442.45 | AF20: -127447.17 | AG20: -133255.71 | AH20: -135810.74 | AI20: -138933.67 | AJ20: -141530.99 | AK20: -147571.34 | AL20: -147342.72 | AM20: -150430.4 | AN20: -158034.22 | AO20: -171187.45 | AP20: -167692 | AQ20: -171807.52 | AR20: -176883.63 | AS20: -184667.68 | AT20: -188601.54 | AU20: -194594.86 | AV20: -204298.33 | AW20: -212194.05 | AX20: -216969.19 | AY20: -223047.96 | AZ20: -231510.63 | BA20: -238323.99 | BB20: -247286.79 | BC20: -251535.42 | BD20: -264817.09 | BE20: -274658.59 | BF20: -272450.48 | BG20: -277133.99 | BI20: =SUM(B20:E20) -> -124327 | BJ20: =SUM(F20:I20) -> -158736 | BK20: =SUM(J20:M20) -> -187813 | BL20: =SUM(N20:Q20) -> -227059 | BM20: =SUM(R20:U20) -> -274434.3 | BN20: =SUM(V20:Y20) -> -337914.59 | BO20: =SUM(Z20:AC20) -> -414133.58 | BP20: =SUM(AD20:AG20) -> -502962.88 | BQ20: =SUM(AH20:AK20) -> -563846.74 | BR20: =SUM(AL20:AO20) -> -626994.79 | BS20: =SUM(AP20:AS20) -> -701050.83 | BT20: =SUM(AT20:AW20) -> -799688.78 | BU20: =SUM(AX20:BA20) -> -909851.78 | BV20: =SUM(BB20:BE20) -> -1038297.9
A22: =INDEX({"Lucro operacional antes do resultado financeiro";"Operational Earnings before Financial Results"},Home!$R$30) -> Lucro operacional antes do resultado financeiro | B22: =B20+B18 -> 34698 | C22: =C20+C18 -> 72596 | D22: =D20+D18 -> 52540 | E22: =E20+E18 -> 52925 | F22: =F20+F18 -> 32998 | G22: =G20+G18 -> 67603 | H22: =H20+H18 -> 53153 | I22: =I20+I18 -> 60229 | ... BG22: =BG20+BG18 -> 740213.98 | BI22: =BI20+BI18 -> 212759 | BJ22: =BJ20+BJ18 -> 213983 | BK22: =BK20+BK18 -> 356308.21 | BL22: =BL20+BL18 -> 516456.92 | BM22: =BM20+BM18 -> 713215.39 | BN22: =BN20+BN18 -> 792370.34 | BO22: =BO20+BO18 -> 781057.88 | BP22: =BP20+BP18 -> 840632.13 | ... BV22: =BV20+BV18 -> 2264753.1
A24: =INDEX({"Despesas financeiras";"Financial Expenses"},Home!$R$30) -> Despesas financeiras | B24: -13400 | C24: -13162 | D24: -13554 | E24: -12421 | F24: -13194 | G24: -13856 | H24: -15671 | I24: -19025 | J24: -14304.44 | K24: -15541.05 | L24: -14655.6 | M24: -18642.33 | N24: -29962 | O24: -37060 | P24: -42015 | Q24: -47855 | R24: -42893.71 | S24: -47918 | T24: -59842.13 | U24: -69165.22 | V24: -57709.52 | W24: -57946.98 | X24: -57199.32 | Y24: -40066.39 | Z24: -32605.02 | AA24: -44198.83 | AB24: -46218.17 | AC24: -31414.58 | AD24: -46015.171 | AE24: -48678.218 | AF24: -62145.724 | AG24: -43722.399 | AH24: -38290.618 | AI24: -35123.54 | AJ24: -31776.601 | AK24: -30289.495 | AL24: -29544.26 | AM24: -40397.12 | AN24: -62946.025 | AO24: -102557.29 | AP24: -125001.73 | AQ24: -164735.15 | AR24: -213800.62 | AS24: -191085.43 | AT24: -250952.16 | AU24: -246783.63 | AV24: -244874.23 | AW24: -236585.59 | AX24: -258087.72 | AY24: -248520.11 | AZ24: -238923.33 | BA24: -253311.38 | BB24: -265005.7 | BC24: -310427.93 | BD24: -340849.66 | BE24: -369879.05 | BF24: -349769.49 | BG24: -336869.45 | BI24: =SUM(B24:E24) -> -52537 | BJ24: =SUM(F24:I24) -> -61746 | BK24: =SUM(J24:M24) -> -63143.42 | BL24: =SUM(N24:Q24) -> -156892 | BM24: =SUM(R24:U24) -> -219819.06 | BN24: =SUM(V24:Y24) -> -212922.21 | BO24: =SUM(Z24:AC24) -> -154436.6 | BP24: =SUM(AD24:AG24) -> -200561.51 | BQ24: =SUM(AH24:AK24) -> -135480.25 | BR24: =SUM(AL24:AO24) -> -235444.7 | BS24: =SUM(AP24:AS24) -> -694622.93 | BT24: =SUM(AT24:AW24) -> -979195.6 | BU24: =SUM(AX24:BA24) -> -998842.54 | BV24: =SUM(BB24:BE24) -> -1286162.3
A25: =INDEX({"Receitas financeiras";"Financial Revenues"},Home!$R$30) -> Receitas financeiras | B25: 12964 | C25: 9032 | D25: 8724 | E25: 8024 | F25: 6681 | G25: 7671 | H25: 9449 | I25: 11813 | J25: 5478.87 | K25: 4403.81 | L25: 5753.84 | M25: 5707.69 | N25: 14785 | O25: 21344 | P25: 26388 | Q25: 26799 | R25: 25704.74 | S25: 23282 | T25: 29281.12 | U25: 31229.2 | V25: 28219.38 | W25: 28806.45 | X25: 28231.15 | Y25: 21626.25 | Z25: 16467.19 | AA25: 18335.94 | AB25: 19468.38 | AC25: 17511.51 | AD25: 17654.269 | AE25: 15902.565 | AF25: 21221.724 | AG25: 21291.488 | AH25: 15859.035 | AI25: 14936.425 | AJ25: 9786.6876 | AK25: 13600.097 | AL25: 10712.15 | AM25: 13491.534 | AN25: 23014.121 | AO25: 32799.436 | AP25: 46762.404 | AQ25: 66566.171 | AR25: 88286.656 | AS25: 91971.026 | AT25: 91224.002 | AU25: 100245.04 | AV25: 95159.607 | AW25: 142106.07 | AX25: 102544.76 | AY25: 105837.66 | AZ25: 97334.06 | BA25: 138875.44 | BB25: 86174.236 | BC25: 106401.07 | BD25: 129924.1 | BE25: 116092.66 | BF25: 134488.07 | BG25: 139545.17 | BI25: =SUM(B25:E25) -> 38744 | BJ25: =SUM(F25:I25) -> 35614 | BK25: =SUM(J25:M25) -> 21344.21 | BL25: =SUM(N25:Q25) -> 89316 | BM25: =SUM(R25:U25) -> 109497.06 | BN25: =SUM(V25:Y25) -> 106883.23 | BO25: =SUM(Z25:AC25) -> 71783.02 | BP25: =SUM(AD25:AG25) -> 76070.046 | BQ25: =SUM(AH25:AK25) -> 54182.245 | BR25: =SUM(AL25:AO25) -> 80017.241 | BS25: =SUM(AP25:AS25) -> 293586.26 | BT25: =SUM(AT25:AW25) -> 428734.72 | BU25: =SUM(AX25:BA25) -> 444591.92 | BV25: =SUM(BB25:BE25) -> 438592.06
A26: =INDEX({"Despesas / Receitas Financeiras";"Financial Expenses/Revenues"},Home!$R$30) -> Despesas / Receitas Financeiras | B26: =B25+B24 -> -436 | C26: =C25+C24 -> -4130 | D26: =D25+D24 -> -4830 | E26: =E25+E24 -> -4397 | F26: =F25+F24 -> -6513 | G26: =G25+G24 -> -6185 | H26: =H25+H24 -> -6222 | I26: =I25+I24 -> -7212 | ... BG26: =BG25+BG24 -> -197324.29 | BI26: =BI25+BI24 -> -13793 | BJ26: =BJ25+BJ24 -> -26132 | BK26: =BK25+BK24 -> -41799.21 | BL26: =BL25+BL24 -> -67576 | BM26: =BM25+BM24 -> -110322 | BN26: =BN25+BN24 -> -106038.98 | BO26: =BO25+BO24 -> -82653.58 | BP26: =BP25+BP24 -> -124491.46 | ... BV26: =BV25+BV24 -> -847570.28
A28: =INDEX({"Equivalência Patrimonial";"Equity Equivalence"},Home!$R$30) -> Equivalência Patrimonial | B28: 0 | C28: 0 | D28: 0 | E28: 0 | F28: 0 | G28: 0 | H28: 0 | I28: 0 | J28: 0 | K28: 0 | L28: 0 | M28: 0 | N28: 0 | O28: 0 | P28: 0 | Q28: 0 | R28: 0 | S28: 0 | T28: 0 | U28: 0 | V28: 0 | W28: 0 | X28: 0 | Y28: 0 | Z28: 0 | AA28: 0 | AB28: 0 | AC28: 0 | AD28: 0 | AE28: 0 | AF28: 0 | AG28: 0 | AH28: 0 | AI28: 0 | AJ28: -4316.2465 | AK28: -3550.9015 | AL28: -1514.8494 | AM28: -1486.2648 | AN28: 179.12029 | AO28: 1693.8713 | AP28: 43.870832 | AQ28: 266.69691 | AR28: 188.73402 | AS28: -2031.5396 | AT28: -2382.2872 | AU28: -836.91611 | AV28: -1854.3451 | AW28: -5547.2047 | AX28: 2501.1031 | AY28: -523.69014 | AZ28: -209.30289 | BA28: 2492.115 | BB28: -1429.3415 | BC28: -466.5781 | BD28: 1033.7813 | BE28: 2700.8939 | BF28: -201.23325 | BG28: -180.30821 | BI28: =SUM(B28:E28) -> 0 | BJ28: =SUM(F28:I28) -> 0 | BK28: =SUM(J28:M28) -> 0 | BL28: =SUM(N28:Q28) -> 0 | BM28: =SUM(R28:U28) -> 0 | BN28: =SUM(V28:Y28) -> 0 | BO28: =SUM(Z28:AC28) -> 0 | BP28: =SUM(AD28:AG28) -> 0 | BQ28: =SUM(AH28:AK28) -> -7867.148 | BR28: =SUM(AL28:AO28) -> -1128.1226 | BS28: =SUM(AP28:AS28) -> -1532.2378 | BT28: =SUM(AT28:AW28) -> -10620.753 | BU28: =SUM(AX28:BA28) -> 4260.225 | BV28: =SUM(BB28:BE28) -> 1838.7556
A30: =INDEX({"Lucro antes do IR e da contribuição social";"Earnings before Income Tax and Social Charges"},Home!$R$30) -> Lucro antes do IR e da contribuição social | B30: =B26+B22+B28 -> 34262 | C30: =C26+C22+C28 -> 68466 | D30: =D26+D22+D28 -> 47710 | E30: =E26+E22+E28 -> 48528 | F30: =F26+F22+F28 -> 26485 | G30: =G26+G22+G28 -> 61418 | H30: =H26+H22+H28 -> 46931 | I30: =I26+I22+I28 -> 53017 | ... BG30: =BG26+BG22+BG28 -> 542709.39 | BI30: =BI26+BI22+BI28 -> 198966 | BJ30: =BJ26+BJ22+BJ28 -> 187851 | BK30: =BK26+BK22+BK28 -> 314509 | BL30: =BL26+BL22+BL28 -> 448880.92 | BM30: =BM26+BM22+BM28 -> 602893.39 | BN30: =BN26+BN22+BN28 -> 686331.36 | BO30: =BO26+BO22+BO28 -> 698404.3 | BP30: =BP26+BP22+BP28 -> 716140.67 | ... BV30: =BV26+BV22+BV28 -> 1419021.6
A32: =INDEX({"Imposto de renda e contribuição social";"Income Tax and Social Charges"},Home!$R$30) -> Imposto de renda e contribuição social | B32: -9442.22 | C32: -17339.12 | D32: -10681.9 | E32: -17258.38 | F32: -8444.66 | G32: -15780.88 | H32: -15006.08 | I32: -15646.8 | J32: -12164 | K32: -21814.12 | L32: -20891.36 | M32: -30000.34 | N32: -14366 | O32: -38907 | P32: -24458.59 | Q32: -22811.13 | R32: -22589 | S32: -56497.67 | T32: -36060.52 | U32: -31427.41 | V32: -31578.35 | W32: -52465.29 | X32: -44242.25 | Y32: -45532.94 | Z32: -38721.59 | AA32: -48742.4 | AB32: -31834.06 | AC32: -30492.01 | AD32: -18397.332 | AE32: -45983.497 | AF32: -38559.426 | AG32: -26052.272 | AH32: -58360.903 | AI32: -11001.634 | AJ32: -56450.705 | AK32: -49359.105 | AL32: -70218.639 | AM32: -86270.994 | AN32: -74810.426 | AO32: -4219.5013 | AP32: 2774.9665 | AQ32: -114052.45 | AR32: -42884.367 | AS32: -12523.25 | AT32: -8464.4671 | AU32: -76429.582 | AV32: -33786.433 | AW32: -19008.162 | AX32: -96139.184 | AY32: -101528.77 | AZ32: -100586.14 | BA32: 54160.841 | BB32: -33468.589 | BC32: -62940.603 | BD32: -71070.67 | BE32: -48401.591 | BF32: -49598.61 | BG32: -118284.47 | BI32: =SUM(B32:E32) -> -54721.62 | BJ32: =SUM(F32:I32) -> -54878.42 | BK32: =SUM(J32:M32) -> -84869.82 | BL32: =SUM(N32:Q32) -> -100542.72 | BM32: =SUM(R32:U32) -> -146574.6 | BN32: =SUM(V32:Y32) -> -173818.83 | BO32: =SUM(Z32:AC32) -> -149790.06 | BP32: =SUM(AD32:AG32) -> -128992.53 | BQ32: =SUM(AH32:AK32) -> -175172.35 | BR32: =SUM(AL32:AO32) -> -235519.56 | BS32: =SUM(AP32:AS32) -> -166685.1 | BT32: =SUM(AT32:AW32) -> -137688.64 | BU32: =SUM(AX32:BA32) -> -244093.25 | BV32: =SUM(BB32:BE32) -> -215881.45
A34: =INDEX({"Lucro líq. operações continuadas";"Net income continued operations"},Home!$R$30) -> Lucro líq. operações continuadas | B34: =B32+B30 -> 24819.78 | C34: =C32+C30 -> 51126.88 | D34: =D32+D30 -> 37028.1 | E34: =E32+E30 -> 31269.62 | F34: =F32+F30 -> 18040.34 | G34: =G32+G30 -> 45637.12 | H34: =H32+H30 -> 31924.92 | I34: =I32+I30 -> 37370.2 | ... BG34: =BG32+BG30 -> 424424.92 | BI34: =BI32+BI30 -> 144244.38 | BJ34: =BJ32+BJ30 -> 132972.58 | BK34: =BK32+BK30 -> 229639.18 | BL34: =BL32+BL30 -> 348338.2 | BM34: =BM32+BM30 -> 456318.79 | BN34: =BN32+BN30 -> 512512.53 | BO34: =BO32+BO30 -> 548614.24 | BP34: =BP32+BP30 -> 587148.14 | ... BV34: =BV32+BV30 -> 1203140.1
A36: =INDEX({"Resultado de operações descontinuadas (4Bio)";"Results of discontinued operations (4Bio)"},Home!$R$30) -> Resultado de operações descontinuadas (4Bio) | B36: 0 | C36: 0 | D36: 0 | E36: 0 | F36: 0 | G36: 0 | H36: 0 | I36: 0 | J36: 0 | K36: 0 | L36: 0 | M36: 0 | N36: 0 | O36: 0 | P36: 0 | Q36: 0 | R36: 0 | S36: 0 | T36: 0 | U36: 0 | V36: 0 | W36: 0 | X36: 0 | Y36: 0 | Z36: 0 | AA36: 0 | AB36: 0 | AC36: 0 | AD36: 0 | AE36: 0 | AF36: 0 | AG36: 0 | AH36: 0 | AI36: 0 | AJ36: 0 | AK36: 0 | AL36: 0 | AM36: 0 | AN36: 0 | AO36: 0 | AP36: 0 | AQ36: 0 | AR36: 0 | AS36: 0 | AT36: 0 | AU36: 0 | AV36: 0 | AW36: 0 | AX36: 0 | AY36: 0 | AZ36: 0 | BA36: 0 | BB36: 14961.702 | BC36: 58733.862 | BD36: 55173.661 | BE36: 11481.314 | BF36: 16497.782 | BG36: 8304.2441 | BI36: =SUM(B36:E36) -> 0 | BJ36: =SUM(F36:I36) -> 0 | BK36: =SUM(J36:M36) -> 0 | BL36: =SUM(N36:Q36) -> 0 | BM36: =SUM(R36:U36) -> 0 | BN36: =SUM(V36:Y36) -> 0 | BO36: =SUM(Z36:AC36) -> 0 | BP36: =SUM(AD36:AG36) -> 0 | BQ36: =SUM(AH36:AK36) -> 0 | BR36: =SUM(AL36:AO36) -> 0 | BS36: =SUM(AP36:AS36) -> 0 | BT36: =SUM(AT36:AW36) -> 0 | BU36: =SUM(AX36:BA36) -> 0 | BV36: =SUM(BB36:BE36) -> 140350.54
A37: =INDEX({"Lucro líquido";"Net income"},Home!$R$30) -> Lucro líquido | B37: =B36+B34 -> 24819.78 | C37: =C36+C34 -> 51126.88 | D37: =D36+D34 -> 37028.1 | E37: =E36+E34 -> 31269.62 | F37: =F36+F34 -> 18040.34 | G37: =G36+G34 -> 45637.12 | H37: =H36+H34 -> 31924.92 | I37: =I36+I34 -> 37370.2 | ... BG37: =BG36+BG34 -> 432729.16 | BI37: =BI36+BI34 -> 144244.38 | BJ37: =BJ36+BJ34 -> 132972.58 | BK37: =BK36+BK34 -> 229639.18 | BL37: =BL36+BL34 -> 348338.2 | BM37: =BM36+BM34 -> 456318.79 | BN37: =BN36+BN34 -> 512512.53 | BO37: =BO36+BO34 -> 548614.24 | BP37: =BP36+BP34 -> 587148.14 | ... BV37: =BV36+BV34 -> 1343490.6
A39: =INDEX({"*Inclui 4Bio a partir do 1T14.";"*Includes 4Bio as of 1Q14."},Home!$R$30) -> *Inclui 4Bio a partir do 1T14.
A40: =INDEX({"**Ajustado para considerar as operações da Onofre somente após suas respectivas integrações. As lojas foram incluídas de agosto em diante, enquanto a operação de e-commerce e as estruturas corporativa e de logística foram excluídas nesse trimestre.";"**Adjusted to consider Onofre’s operations only after their respective integration. Therefore, the stores are included from August onwards, while the e-commerce operations, as well as the corporate and logistics structures, have been fully excluded."},Home!$R$30) -> **Ajustado para considerar as operações da Onofre somente após suas respectivas integrações. As lojas foram incluídas de agosto em diante, enquanto a operação de e-commerce e as estruturas corporativa e de logística foram excluídas nesse trimestre.

Sheet P&L
A1: =INDEX({"DRE Consolidado IAS 17 (R$ mil)";"Consolidated Income Statement IAS 17 (R$ thousands)"},Home!$R$30) -> DRE Consolidado IAS 17 (R$ mil) | B1: =INDEX({"1T12";"1Q12"},Home!$R$30) -> 1T12 | C1: =INDEX({"2T12";"2Q12"},Home!$R$30) -> 2T12 | D1: =INDEX({"3T12";"3Q12"},Home!$R$30) -> 3T12 | E1: =INDEX({"4T12";"4Q12"},Home!$R$30) -> 4T12 | F1: =INDEX({"1T13";"1Q13"},Home!$R$30) -> 1T13 | G1: =INDEX({"2T13";"2Q13"},Home!$R$30) -> 2T13 | H1: =INDEX({"3T13";"3Q13"},Home!$R$30) -> 3T13 | I1: =INDEX({"4T13";"4Q13"},Home!$R$30) -> 4T13 | J1: =INDEX({"1T14*";"1Q14*"},Home!$R$30) -> 1T14* | K1: =INDEX({"2T14";"2Q14"},Home!$R$30) -> 2T14 | L1: =INDEX({"3T14";"3Q14"},Home!$R$30) -> 3T14 | M1: =INDEX({"4T14";"4Q14"},Home!$R$30) -> 4T14 | N1: =INDEX({"1T15";"1Q15"},Home!$R$30) -> 1T15 | O1: =INDEX({"2T15";"2Q15"},Home!$R$30) -> 2T15 | P1: =INDEX({"3T15";"3Q15"},Home!$R$30) -> 3T15 | Q1: =INDEX({"4T15";"4Q15"},Home!$R$30) -> 4T15 | R1: =INDEX({"1T16";"1Q16"},Home!$R$30) -> 1T16 | S1: =INDEX({"2T16";"2Q16"},Home!$R$30) -> 2T16 | T1: =INDEX({"3T16";"3Q16"},Home!$R$30) -> 3T16 | U1: =INDEX({"4T16";"4Q16"},Home!$R$30) -> 4T16 | V1: =INDEX({"1T17";"1Q17"},Home!$R$30) -> 1T17 | W1: =INDEX({"2T17";"2Q17"},Home!$R$30) -> 2T17 | X1: =INDEX({"3T17";"3Q17"},Home!$R$30) -> 3T17 | Y1: =INDEX({"4T17";"4Q17"},Home!$R$30) -> 4T17 | Z1: =INDEX({"1T18";"1Q18"},Home!$R$30) -> 1T18 | AA1: =INDEX({"2T18";"2Q18"},Home!$R$30) -> 2T18 | AB1: =INDEX({"3T18";"3Q18"},Home!$R$30) -> 3T18 | AC1: =INDEX({"4T18";"4Q18"},Home!$R$30) -> 4T18 | AD1: =INDEX({"1T19";"1Q19"},Home!$R$30) -> 1T19 | AE1: =INDEX({"2T19";"2Q19"},Home!$R$30) -> 2T19 | AF1: =INDEX({"3T19**";"3Q19**"},Home!$R$30) -> 3T19** | AG1: =INDEX({"4T19";"4Q19"},Home!$R$30) -> 4T19 | AH1: =INDEX({"1T20";"1Q20"},Home!$R$30) -> 1T20 | AI1: =INDEX({"2T20";"2Q20"},Home!$R$30) -> 2T20 | AJ1: =INDEX({"3T20";"3Q20"},Home!$R$30) -> 3T20 | AK1: =INDEX({"4T20";"4Q20"},Home!$R$30) -> 4T20 | AL1: =INDEX({"1T21";"1Q21"},Home!$R$30) -> 1T21 | AM1: =INDEX({"2T21";"2Q21"},Home!$R$30) -> 2T21 | AN1: =INDEX({"3T21";"3Q21"},Home!$R$30) -> 3T21 | AO1: =INDEX({"4T21";"4Q21"},Home!$R$30) -> 4T21 | AP1: =INDEX({"1T22";"1Q22"},Home!$R$30) -> 1T22 | AQ1: =INDEX({"2T22";"2Q22"},Home!$R$30) -> 2T22 | AR1: =INDEX({"3T22";"3Q22"},Home!$R$30) -> 3T22 | AS1: =INDEX({"4T22";"4Q22"},Home!$R$30) -> 4T22 | AT1: =INDEX({"1T23";"1Q23"},Home!$R$30) -> 1T23 | AU1: =INDEX({"2T23";"2Q23"},Home!$R$30) -> 2T23 | AV1: =INDEX({"3T23";"3Q23"},Home!$R$30) -> 3T23 | AW1: =INDEX({"4T23";"4Q23"},Home!$R$30) -> 4T23 | AX1: =INDEX({"1T24";"1Q24"},Home!$R$30) -> 1T24 | AY1: =INDEX({"2T24";"2Q24"},Home!$R$30) -> 2T24 | AZ1: =INDEX({"3T24";"3Q24"},Home!$R$30) -> 3T24 | BA1: =INDEX({"4T24";"4Q24"},Home!$R$30) -> 4T24 | BB1: =INDEX({"1T25";"1Q25"},Home!$R$30) -> 1T25 | BC1: =INDEX({"2T25";"2Q25"},Home!$R$30) -> 2T25 | BD1: =INDEX({"3T25";"3Q25"},Home!$R$30) -> 3T25 | BE1: =INDEX({"4T25";"4Q25"},Home!$R$30) -> 4T25 | BF1: =INDEX({"1T26";"1Q26"},Home!$R$30) -> 1T26 | BG1: =INDEX({"2T26";"2Q26"},Home!$R$30) -> 2T26 | BI1: 2012 | BJ1: =BI1+1 -> 2013 | BK1: =BJ1+1 -> 2014 | BL1: =BK1+1 -> 2015 | BM1: =BL1+1 -> 2016 | BN1: =BM1+1 -> 2017 | BO1: =BN1+1 -> 2018 | BP1: =BO1+1 -> 2019 | BQ1: =BP1+1 -> 2020 | ... BV1: =BU1+1 -> 2025
AT2: =INDEX({"Reclassif.";"Reclassif."},Home!$R$30) -> Reclassif. | AU2: =INDEX({"Reclassif.";"Reclassif."},Home!$R$30) -> Reclassif. | AV2: =INDEX({"Reclassif.";"Reclassif."},Home!$R$30) -> Reclassif. | AW2: =INDEX({"Reclassif.";"Reclassif."},Home!$R$30) -> Reclassif. | BB2: =INDEX({"Reapresentado";"Resubmitted"},Home!$R$30) -> Reapresentado | BC2: =INDEX({"Reapresentado";"Resubmitted"},Home!$R$30) -> Reapresentado | BD2: =INDEX({"Reapresentado";"Resubmitted"},Home!$R$30) -> Reapresentado | BE2: =INDEX({"Reapresentado";"Resubmitted"},Home!$R$30) -> Reapresentado | BT2: =INDEX({"Reclassif.";"Reclassif."},Home!$R$30) -> Reclassif. | BV2: =INDEX({"Reapresentado";"Resubmitted"},Home!$R$30) -> Reapresentado
A3: =INDEX({"Receita bruta de vendas e serviços";"Gross revenue"},Home!$R$30) -> Receita bruta de vendas e serviços | B3: 1286847 | C3: 1375186 | D3: 1451823 | E3: 1479979 | F3: 1438405 | G3: 1604091 | H3: 1682958 | I3: 1738649 | J3: 1746332 | K3: 1885310 | L3: 2024309 | M3: 2128284 | N3: 2090599 | O3: 2323102 | P3: 2436861 | Q3: 2574215 | R3: 2641079.1 | S3: 2930451.4 | T3: 3050163.1 | U3: 3205873 | V3: 3212406.1 | W3: 3397859.9 | X3: 3580024.5 | Y3: 3662178.2 | Z3: 3603969 | AA3: 3791577.7 | AB3: 3944676.8 | AC3: 4178909.4 | AD3: 4153922.9 | AE3: 4440683.3 | AF3: 4771279.9 | AG3: 5030160.1 | AH3: 5206320.2 | AI3: 4721872.3 | AJ3: 5384230.3 | AK3: 5868052.5 | AL3: 5979507 | AM3: 6245162 | AN3: 6527874.7 | AO3: 6853140.2 | AP3: 6972490 | AQ3: 7641161.4 | AR3: 7985786 | AS3: 8351126.3 | AT3: 8471318.9 | AU3: 9013830 | AV3: 9274782.4 | AW3: 9538835.7 | AX3: 9767155.5 | AY3: 10402635 | AZ3: 10749830 | BA3: 10862353 | BB3: 9947885.9 | BC3: 10803986 | BD3: 11347942 | BE3: 12186767 | BF3: 11979521 | BG3: 12777743 | BI3: =SUM(B3:E3) -> 5593835 | BJ3: =SUM(F3:I3) -> 6464103 | BK3: =SUM(J3:M3) -> 7784235 | BL3: =SUM(N3:Q3) -> 9424777 | BM3: =SUM(R3:U3) -> 11827567 | BN3: =SUM(V3:Y3) -> 13852469 | BO3: =SUM(Z3:AC3) -> 15519133 | BP3: =SUM(AD3:AG3) -> 18396046 | BQ3: =SUM(AH3:AK3) -> 21180475 | BR3: =SUM(AL3:AO3) -> 25605684 | BS3: =SUM(AP3:AS3) -> 30950564 | BT3: =SUM(AT3:AW3) -> 36298767 | BU3: =SUM(AX3:BA3) -> 41781973 | BV3: =SUM(BB3:BE3) -> 44286581
A4: =INDEX({"Deduções";"Taxes, Discounts and Returns"},Home!$R$30) -> Deduções | B4: -56820 | C4: -58392 | D4: -62240 | E4: -58048 | F4: -54634 | G4: -70953 | H4: -64687 | I4: -66660 | J4: -69356 | K4: -76180 | L4: -80346 | M4: -86264 | N4: -86153 | O4: -96387 | P4: -104321 | Q4: -115961 | R4: -125651.82 | S4: -147239.9 | T4: -149233.27 | U4: -148876.21 | V4: -155295.65 | W4: -160601.76 | X4: -163184.37 | Y4: -160881.96 | Z4: -170391.34 | AA4: -177588.81 | AB4: -187862.87 | AC4: -181845.1 | AD4: -200571.39 | AE4: -215189.34 | AF4: -232343.88 | AG4: -245045.46 | AH4: -256448.92 | AI4: -252097.95 | AJ4: -290778.77 | AK4: -314311.33 | AL4: -359456.14 | AM4: -376898.38 | AN4: -363013 | AO4: -379314.78 | AP4: -409985.51 | AQ4: -462399.96 | AR4: -495920.3 | AS4: -514877.67 | AT4: -546933 | AU4: -581161.81 | AV4: -610296.09 | AW4: -629677.57 | AX4: -666661.6 | AY4: -715414.97 | AZ4: -760708.15 | BA4: -767666.77 | BB4: -674903.76 | BC4: -729302.57 | BD4: -767440.05 | BE4: -817574.63 | BF4: -1410931.5 | BG4: -1715344.4 | BI4: =SUM(B4:E4) -> -235500 | BJ4: =SUM(F4:I4) -> -256934 | BK4: =SUM(J4:M4) -> -312146 | BL4: =SUM(N4:Q4) -> -402822 | BM4: =SUM(R4:U4) -> -571001.2 | BN4: =SUM(V4:Y4) -> -639963.74 | BO4: =SUM(Z4:AC4) -> -717688.12 | BP4: =SUM(AD4:AG4) -> -893150.08 | BQ4: =SUM(AH4:AK4) -> -1113637 | BR4: =SUM(AL4:AO4) -> -1478682.3 | BS4: =SUM(AP4:AS4) -> -1883183.4 | BT4: =SUM(AT4:AW4) -> -2368068.5 | BU4: =SUM(AX4:BA4) -> -2910451.5 | BV4: =SUM(BB4:BE4) -> -2989221
A6: =INDEX({"Receita líquida de vendas e serviços";"Net revenue"},Home!$R$30) -> Receita líquida de vendas e serviços | B6: =B3+B4 -> 1230027 | C6: =C3+C4 -> 1316794 | D6: =D3+D4 -> 1389583 | E6: =E3+E4 -> 1421931 | F6: =F3+F4 -> 1383771 | G6: =G3+G4 -> 1533138 | H6: =H3+H4 -> 1618271 | I6: =I3+I4 -> 1671989 | ... BG6: =BG3+BG4 -> 11062399 | BI6: =BI3+BI4 -> 5358335 | BJ6: =BJ3+BJ4 -> 6207169 | BK6: =BK3+BK4 -> 7472089 | BL6: =BL3+BL4 -> 9021955 | BM6: =BM3+BM4 -> 11256565 | BN6: =BN3+BN4 -> 13212505 | BO6: =BO3+BO4 -> 14801445 | BP6: =BP3+BP4 -> 17502896 | ... BV6: =BV3+BV4 -> 41297360
A8: =INDEX({"Custo das mercadorias vendidas";"Cost of Goods Sold"},Home!$R$30) -> Custo das mercadorias vendidas | B8: -902871 | C8: -927000 | D8: -1006215 | E8: -1018360 | F8: -999932 | G8: -1106963 | H8: -1162904 | I8: -1201509 | J8: -1203327 | K8: -1273489 | L8: -1382945 | M8: -1447960 | N8: -1407841 | O8: -1523893 | P8: -1636130 | Q8: -1718350 | R8: -1758487.2 | S8: -1858386.4 | T8: -2000895.6 | U8: -2134653.2 | V8: -2135486.5 | W8: -2237537.5 | X8: -2396443.8 | Y8: -2455037.9 | Z8: -2406819.2 | AA8: -2509789.6 | AB8: -2640038.2 | AC8: -2799276.5 | AD8: -2791688.2 | AE8: -2936208.7 | AF8: -3217586 | AG8: -3374111.5 | AH8: -3508020.7 | AI8: -3149651.9 | AJ8: -3598455.3 | AK8: -3919528.3 | AL8: -3978198.9 | AM8: -4071212.6 | AN8: -4349401.3 | AO8: -4522020.6 | AP8: -4634073.7 | AQ8: -4860664.4 | AR8: -5265091.6 | AS8: -5498082.2 | AT8: -5609601.9 | AU8: -5832247.6 | AV8: -6085664.3 | AW8: -6238926.2 | AX8: -6441229.8 | AY8: -6755221.2 | AZ8: -7018436.4 | BA8: -7100566.3 | BB8: -6452871.5 | BC8: -6940850.2 | BD8: -7323210.8 | BE8: -7860591.2 | BF8: -7175953.3 | BG8: -7366327.7 | BI8: =SUM(B8:E8) -> -3854446 | BJ8: =SUM(F8:I8) -> -4471308 | BK8: =SUM(J8:M8) -> -5307721 | BL8: =SUM(N8:Q8) -> -6286214 | BM8: =SUM(R8:U8) -> -7752422.4 | BN8: =SUM(V8:Y8) -> -9224505.7 | BO8: =SUM(Z8:AC8) -> -10355924 | BP8: =SUM(AD8:AG8) -> -12319594 | BQ8: =SUM(AH8:AK8) -> -14175656 | BR8: =SUM(AL8:AO8) -> -16920834 | BS8: =SUM(AP8:AS8) -> -20257912 | BT8: =SUM(AT8:AW8) -> -23766440 | BU8: =SUM(AX8:BA8) -> -27315454 | BV8: =SUM(BB8:BE8) -> -28577524
A10: =INDEX({"Lucro bruto";"Gross profit"},Home!$R$30) -> Lucro bruto | B10: =B6+B8 -> 327156 | C10: =C6+C8 -> 389794 | D10: =D6+D8 -> 383368 | E10: =E6+E8 -> 403571 | F10: =F6+F8 -> 383839 | G10: =G6+G8 -> 426175 | H10: =H6+H8 -> 455367 | I10: =I6+I8 -> 470480 | ... BG10: =BG6+BG8 -> 3696071.1 | BI10: =BI6+BI8 -> 1503889 | BJ10: =BJ6+BJ8 -> 1735861 | BK10: =BK6+BK8 -> 2164368 | BL10: =BL6+BL8 -> 2735741 | BM10: =BM6+BM8 -> 3504143 | BN10: =BN6+BN8 -> 3987999.2 | BO10: =BO6+BO8 -> 4445521.2 | BP10: =BP6+BP8 -> 5183301.6 | ... BV10: =BV6+BV8 -> 12719836
A12: =INDEX({"Despesas";"Expenses"},Home!$R$30) -> Despesas
A13: =INDEX({"Vendas";"Selling Expenses"},Home!$R$30) -> Vendas | B13: -223716 | C13: -241654 | D13: -261255 | E13: -275705 | F13: -266660 | G13: -278613 | H13: -322162 | I13: -320641 | J13: -328931 | K13: -341034 | L13: -365150 | M13: -385467 | N13: -390161 | O13: -419952 | P13: -452371 | Q13: -490616 | R13: -501633.34 | S13: -546841.84 | T13: -571422.57 | U13: -598867.25 | V13: -599142.03 | W13: -616900.31 | X13: -642400.37 | Y13: -670608.11 | Z13: -674838.78 | AA13: -704268.15 | AB13: -735402.58 | AC13: -786501.87 | AD13: -795119.66 | AE13: -823210.02 | AF13: -851825.15 | AG13: -918901.68 | AH13: -940499.74 | AI13: -945308.37 | AJ13: -963626.3 | AK13: -1027786.2 | AL13: -1060049.8 | AM13: -1119754.2 | AN13: -1164751.6 | AO13: -1261758.2 | AP13: -1296525.9 | AQ13: -1330304.4 | AR13: -1393832.4 | AS13: -1429542.2 | AT13: -1484700.3 | AU13: -1543981.5 | AV13: -1614133.1 | AW13: -1726604.9 | AX13: -1675501.8 | AY13: -1789657.1 | AZ13: -1836993.9 | BA13: -1953049.5 | BB13: -1902460.4 | BC13: -1982851.1 | BD13: -2064780.6 | BE13: -2258851.2 | BF13: -2275228.1 | BG13: -2370424 | BI13: =SUM(B13:E13) -> -1002330 | BJ13: =SUM(F13:I13) -> -1188076 | BK13: =SUM(J13:M13) -> -1420582 | BL13: =SUM(N13:Q13) -> -1753100 | BM13: =SUM(R13:U13) -> -2218765 | BN13: =SUM(V13:Y13) -> -2529050.8 | BO13: =SUM(Z13:AC13) -> -2901011.4 | BP13: =SUM(AD13:AG13) -> -3389056.5 | BQ13: =SUM(AH13:AK13) -> -3877220.6 | BR13: =SUM(AL13:AO13) -> -4606313.9 | BS13: =SUM(AP13:AS13) -> -5450204.9 | BT13: =SUM(AT13:AW13) -> -6369419.8 | BU13: =SUM(AX13:BA13) -> -7255202.4 | BV13: =SUM(BB13:BE13) -> -8208943.3
A14: =INDEX({"Gerais e administrativas";"General and Administrative"},Home!$R$30) -> Gerais e administrativas | B14: -41438 | C14: -45160 | D14: -37704 | E14: -47146 | F14: -43652 | G14: -40954 | H14: -44694 | I14: -47164 | J14: -49482 | K14: -53840 | L14: -47050 | M14: -48915 | N14: -52527 | O14: -63913 | P14: -61337 | Q14: -61348 | R14: -62467.71 | S14: -73172.41 | T14: -74607.92 | U14: -87480.27 | V14: -78464.22 | W14: -81734.9 | X14: -81533.05 | Y14: -86931.31 | Z14: -79734.7 | AA14: -83283.46 | AB14: -86122.87 | AC14: -100177.32 | AD14: -96474.049 | AE14: -102387.71 | AF14: -110118.17 | AG14: -141670.12 | AH14: -131994.98 | AI14: -143003.33 | AJ14: -134210.87 | AK14: -175583.89 | AL14: -165947.37 | AM14: -180183.03 | AN14: -204543.97 | AO14: -241936.42 | AP14: -243528.18 | AQ14: -260283.83 | AR14: -284142.14 | AS14: -309186.38 | AT14: -267103.13 | AU14: -288814.47 | AV14: -306591.93 | AW14: -329083.02 | AX14: -303912.25 | AY14: -317946.13 | AZ14: -322976.67 | BA14: -363548.93 | BB14: -294489.03 | BC14: -288001.92 | BD14: -299918.95 | BE14: -325432.01 | BF14: -296621.88 | BG14: -308299.11 | BI14: =SUM(B14:E14) -> -171448 | BJ14: =SUM(F14:I14) -> -176464 | BK14: =SUM(J14:M14) -> -199287 | BL14: =SUM(N14:Q14) -> -239125 | BM14: =SUM(R14:U14) -> -297728.31 | BN14: =SUM(V14:Y14) -> -328663.48 | BO14: =SUM(Z14:AC14) -> -349318.35 | BP14: =SUM(AD14:AG14) -> -450650.05 | BQ14: =SUM(AH14:AK14) -> -584793.06 | BR14: =SUM(AL14:AO14) -> -792610.8 | BS14: =SUM(AP14:AS14) -> -1097140.5 | BT14: =SUM(AT14:AW14) -> -1191592.5 | BU14: =SUM(AX14:BA14) -> -1308384 | BV14: =SUM(BB14:BE14) -> -1207841.9
A15: =INDEX({"Outras despesas operacionais, líquidas";"Other Operating Expenses, Net"},Home!$R$30) -> Outras despesas operacionais, líquidas | B15: -6624 | C15: -2718 | D15: -3486 | E15: -21090 | F15: -10163 | G15: -8132 | H15: -14300 | I15: -14470 | J15: -1350 | K15: -1518 | L15: -2754 | M15: -3851 | N15: 0 | O15: 0 | P15: -1160 | Q15: -8818 | R15: 0 | S15: 0 | T15: 0 | U15: -7676.7 | V15: -2159.65 | W15: 0 | X15: 0 | Y15: 2372.13 | Z15: 0 | AA15: -6239.64 | AB15: -3501.86 | AC15: -49806.61 | AD15: -5205.3168 | AE15: -13867.027 | AF15: -9438.5595 | AG15: -38510.9 | AH15: -10473.737 | AI15: -2239.8836 | AJ15: 2796.805 | AK15: -23000.327 | AL15: 16427.311 | AM15: 52153.111 | AN15: -1215.2066 | AO15: -26491.45 | AP15: 12606.841 | AQ15: 43159.046 | AR15: 35849.576 | AS15: -34987.465 | AT15: 3972.3549 | AU15: 21104.727 | AV15: 42615.936 | AW15: 2024.4519 | AX15: -1039.3103 | AY15: -12406.481 | AZ15: 38329.25 | BA15: -45360.817 | BB15: -5761.7732 | BC15: -2795.5179 | BD15: 56243.708 | BE15: -53858.432 | BF15: -196548.85 | BG15: 8850.0234 | BI15: =SUM(B15:E15) -> -33918 | BJ15: =SUM(F15:I15) -> -47065 | BK15: =SUM(J15:M15) -> -9473 | BL15: =SUM(N15:Q15) -> -9978 | BM15: =SUM(R15:U15) -> -7676.7 | BN15: =SUM(V15:Y15) -> 212.48 | BO15: =SUM(Z15:AC15) -> -59548.11 | BP15: =SUM(AD15:AG15) -> -67021.803 | BQ15: =SUM(AH15:AK15) -> -32917.143 | BR15: =SUM(AL15:AO15) -> 40873.765 | BS15: =SUM(AP15:AS15) -> 56627.998 | BT15: =SUM(AT15:AW15) -> 69717.469 | BU15: =SUM(AX15:BA15) -> -20477.358 | BV15: =SUM(BB15:BE15) -> -6172.015
A16: =INDEX({"Despesas operacionais";"Total expenses"},Home!$R$30) -> Despesas operacionais | B16: =SUM(B13:B15) -> -271778 | C16: =SUM(C13:C15) -> -289532 | D16: =SUM(D13:D15) -> -302445 | E16: =SUM(E13:E15) -> -343941 | F16: =SUM(F13:F15) -> -320475 | G16: =SUM(G13:G15) -> -327699 | H16: =SUM(H13:H15) -> -381156 | I16: =SUM(I13:I15) -> -382275 | ... BG16: =SUM(BG13:BG15) -> -2669873.1 | BI16: =SUM(BI13:BI15) -> -1207696 | BJ16: =SUM(BJ13:BJ15) -> -1411605 | BK16: =SUM(BK13:BK15) -> -1629342 | BL16: =SUM(BL13:BL15) -> -2002203 | BM16: =SUM(BM13:BM15) -> -2524170 | BN16: =SUM(BN13:BN15) -> -2857501.8 | BO16: =SUM(BO13:BO15) -> -3309877.8 | BP16: =SUM(BP13:BP15) -> -3906728.4 | ... BV16: =SUM(BV13:BV15) -> -9422957.2
A18: =INDEX({"EBITDA";"EBITDA"},Home!$R$30) -> EBITDA | B18: =B16+B10 -> 55378 | C18: =C16+C10 -> 100262 | D18: =D16+D10 -> 80923 | E18: =E16+E10 -> 59630 | F18: =F16+F10 -> 63364 | G18: =G16+G10 -> 98476 | H18: =H16+H10 -> 74211 | I18: =I16+I10 -> 88205 | ... BG18: =BG16+BG10 -> 1026198 | BI18: =BI16+BI10 -> 296193 | BJ18: =BJ16+BJ10 -> 324256 | BK18: =BK16+BK10 -> 535026 | BL18: =BL16+BL10 -> 733538 | BM18: =BM16+BM10 -> 979972.99 | BN18: =BN16+BN10 -> 1130497.4 | BO18: =BO16+BO10 -> 1135643.4 | BP18: =BP16+BP10 -> 1276573.2 | ... BV18: =BV16+BV10 -> 3296879
A20: =INDEX({"Depreciação e Amortização";"Depreciation and Amortization"},Home!$R$30) -> Depreciação e Amortização | B20: -28913 | C20: -30384 | D20: -31868 | E20: -33162 | F20: -36065 | G20: -39005 | H20: -41220 | I20: -42446 | J20: -43699 | K20: -44081 | L20: -48364 | M20: -51669 | N20: -53573 | O20: -55640 | P20: -57760 | Q20: -60086 | R20: -62929.8 | S20: -66609.36 | T20: -70498.54 | U20: -74396.6 | V20: -77521.92 | W20: -81509.78 | X20: -86759.9 | Y20: -92122.99 | Z20: -96037.82 | AA20: -100267.72 | AB20: -105518.24 | AC20: -112309.8 | AD20: -117817.55 | AE20: -124442.45 | AF20: -127447.17 | AG20: -133255.71 | AH20: -135810.74 | AI20: -138933.67 | AJ20: -141530.99 | AK20: -147571.34 | AL20: -147342.72 | AM20: -150430.4 | AN20: -158034.22 | AO20: -171187.45 | AP20: -167692 | AQ20: -171807.52 | AR20: -176883.63 | AS20: -184667.68 | AT20: -188601.54 | AU20: -194594.86 | AV20: -204298.33 | AW20: -212194.05 | AX20: -216969.19 | AY20: -223047.96 | AZ20: -231510.63 | BA20: -238323.99 | BB20: -247286.79 | BC20: -251535.42 | BD20: -264817.09 | BE20: -280016.59 | BF20: -272450.48 | BG20: -277133.99 | BI20: =SUM(B20:E20) -> -124327 | BJ20: =SUM(F20:I20) -> -158736 | BK20: =SUM(J20:M20) -> -187813 | BL20: =SUM(N20:Q20) -> -227059 | BM20: =SUM(R20:U20) -> -274434.3 | BN20: =SUM(V20:Y20) -> -337914.59 | BO20: =SUM(Z20:AC20) -> -414133.58 | BP20: =SUM(AD20:AG20) -> -502962.88 | BQ20: =SUM(AH20:AK20) -> -563846.74 | BR20: =SUM(AL20:AO20) -> -626994.79 | BS20: =SUM(AP20:AS20) -> -701050.83 | BT20: =SUM(AT20:AW20) -> -799688.78 | BU20: =SUM(AX20:BA20) -> -909851.78 | BV20: =SUM(BB20:BE20) -> -1043655.9
A22: =INDEX({"Lucro operacional antes do resultado financeiro";"Operational Earnings before Financial Results"},Home!$R$30) -> Lucro operacional antes do resultado financeiro | B22: =B20+B18 -> 26465 | C22: =C20+C18 -> 69878 | D22: =D20+D18 -> 49055 | E22: =E20+E18 -> 26468 | F22: =F20+F18 -> 27299 | G22: =G20+G18 -> 59471 | H22: =H20+H18 -> 32991 | I22: =I20+I18 -> 45759 | ... BG22: =BG20+BG18 -> 749064 | BI22: =BI20+BI18 -> 171866 | BJ22: =BJ20+BJ18 -> 165520 | BK22: =BK20+BK18 -> 347213 | BL22: =BL20+BL18 -> 506479 | BM22: =BM20+BM18 -> 705538.69 | BN22: =BN20+BN18 -> 792582.82 | BO22: =BO20+BO18 -> 721509.77 | BP22: =BP20+BP18 -> 773610.33 | ... BV22: =BV20+BV18 -> 2253223.1
A24: =INDEX({"Despesas financeiras";"Financial Expenses"},Home!$R$30) -> Despesas financeiras | B24: -13400 | C24: -13162 | D24: -13554 | E24: -12421 | F24: -13194 | G24: -13856 | H24: -15671 | I24: -19025 | J24: -14103 | K24: -15318 | L24: -14352 | M24: -18309 | N24: -29548 | O24: -36594 | P24: -41391 | Q24: -49359 | R24: -42893.71 | S24: -47918 | T24: -59842.13 | U24: -69165.22 | V24: -57709.52 | W24: -57946.98 | X24: -57199.32 | Y24: -40066.39 | Z24: -32605.02 | AA24: -44198.83 | AB24: -46218.17 | AC24: -31414.58 | AD24: -46015.171 | AE24: -48678.218 | AF24: -62145.724 | AG24: -43722.399 | AH24: -38290.618 | AI24: -35123.54 | AJ24: -31776.601 | AK24: -30289.495 | AL24: -29544.26 | AM24: -40397.12 | AN24: -62946.025 | AO24: -102557.29 | AP24: -125001.73 | AQ24: -164735.15 | AR24: -213800.62 | AS24: -191085.43 | AT24: -250952.16 | AU24: -246783.63 | AV24: -244874.23 | AW24: -236585.59 | AX24: -258087.72 | AY24: -248520.11 | AZ24: -238926.41 | BA24: -253311.38 | BB24: -265005.7 | BC24: -310427.93 | BD24: -340849.66 | BE24: -394992.31 | BF24: -349769.49 | BG24: -336869.45 | BI24: =SUM(B24:E24) -> -52537 | BJ24: =SUM(F24:I24) -> -61746 | BK24: =SUM(J24:M24) -> -62082 | BL24: =SUM(N24:Q24) -> -156892 | BM24: =SUM(R24:U24) -> -219819.06 | BN24: =SUM(V24:Y24) -> -212922.21 | BO24: =SUM(Z24:AC24) -> -154436.6 | BP24: =SUM(AD24:AG24) -> -200561.51 | BQ24: =SUM(AH24:AK24) -> -135480.25 | BR24: =SUM(AL24:AO24) -> -235444.7 | BS24: =SUM(AP24:AS24) -> -694622.93 | BT24: =SUM(AT24:AW24) -> -979195.6 | BU24: =SUM(AX24:BA24) -> -998845.62 | BV24: =SUM(BB24:BE24) -> -1311275.6
A25: =INDEX({"Receitas financeiras";"Financial Revenues"},Home!$R$30) -> Receitas financeiras | B25: 12964 | C25: 9032 | D25: 8724 | E25: 8024 | F25: 6681 | G25: 7671 | H25: 9449 | I25: 11813 | J25: 5188 | K25: 4092 | L25: 5342 | M25: 5283 | N25: 14330 | O25: 20831 | P25: 25672 | Q25: 28483 | R25: 25704.74 | S25: 23282 | T25: 29281.12 | U25: 31229.2 | V25: 28219.38 | W25: 28806.45 | X25: 28231.15 | Y25: 21626.25 | Z25: 16467.19 | AA25: 18335.94 | AB25: 19468.38 | AC25: 17511.51 | AD25: 17654.269 | AE25: 15902.565 | AF25: 21221.724 | AG25: 21291.488 | AH25: 15859.035 | AI25: 14936.425 | AJ25: 9786.6876 | AK25: 13600.097 | AL25: 10712.15 | AM25: 13491.534 | AN25: 23014.121 | AO25: 32799.436 | AP25: 46762.404 | AQ25: 66566.171 | AR25: 88286.656 | AS25: 91971.026 | AT25: 91224.002 | AU25: 100245.04 | AV25: 95159.607 | AW25: 142106.07 | AX25: 102544.76 | AY25: 105837.66 | AZ25: 97337.126 | BA25: 138875.44 | BB25: 86174.236 | BC25: 106401.07 | BD25: 129924.1 | BE25: 116092.66 | BF25: 146524.98 | BG25: 141704.87 | BI25: =SUM(B25:E25) -> 38744 | BJ25: =SUM(F25:I25) -> 35614 | BK25: =SUM(J25:M25) -> 19905 | BL25: =SUM(N25:Q25) -> 89316 | BM25: =SUM(R25:U25) -> 109497.06 | BN25: =SUM(V25:Y25) -> 106883.23 | BO25: =SUM(Z25:AC25) -> 71783.02 | BP25: =SUM(AD25:AG25) -> 76070.046 | BQ25: =SUM(AH25:AK25) -> 54182.245 | BR25: =SUM(AL25:AO25) -> 80017.241 | BS25: =SUM(AP25:AS25) -> 293586.26 | BT25: =SUM(AT25:AW25) -> 428734.72 | BU25: =SUM(AX25:BA25) -> 444594.99 | BV25: =SUM(BB25:BE25) -> 438592.06
A26: =INDEX({"Despesas / Receitas Financeiras";"Financial Expenses/Revenues"},Home!$R$30) -> Despesas / Receitas Financeiras | B26: =B25+B24 -> -436 | C26: =C25+C24 -> -4130 | D26: =D25+D24 -> -4830 | E26: =E25+E24 -> -4397 | F26: =F25+F24 -> -6513 | G26: =G25+G24 -> -6185 | H26: =H25+H24 -> -6222 | I26: =I25+I24 -> -7212 | ... BG26: =BG25+BG24 -> -195164.58 | BI26: =BI25+BI24 -> -13793 | BJ26: =BJ25+BJ24 -> -26132 | BK26: =BK25+BK24 -> -42177 | BL26: =BL25+BL24 -> -67576 | BM26: =BM25+BM24 -> -110322 | BN26: =BN25+BN24 -> -106038.98 | BO26: =BO25+BO24 -> -82653.58 | BP26: =BP25+BP24 -> -124491.46 | ... BV26: =BV25+BV24 -> -872683.54
A28: =INDEX({"Equivalência Patrimonial";"Equity Equivalence"},Home!$R$30) -> Equivalência Patrimonial | B28: 0 | C28: 0 | D28: 0 | E28: 0 | F28: 0 | G28: 0 | H28: 0 | I28: 0 | J28: 0 | K28: 0 | L28: 0 | M28: 0 | N28: 0 | O28: 0 | P28: 0 | Q28: 0 | R28: 0 | S28: 0 | T28: 0 | U28: 0 | V28: 0 | W28: 0 | X28: 0 | Y28: 0 | Z28: 0 | AA28: 0 | AB28: 0 | AC28: 0 | AD28: 0 | AE28: 0 | AF28: 0 | AG28: 0 | AH28: 0 | AI28: 0 | AJ28: -4316.2465 | AK28: -3550.9015 | AL28: -1514.8494 | AM28: -1486.2648 | AN28: 179.12029 | AO28: 1693.8713 | AP28: 43.870832 | AQ28: 266.69691 | AR28: 188.73402 | AS28: -2031.5396 | AT28: -2382.2872 | AU28: -836.91611 | AV28: -1854.3451 | AW28: -5547.2047 | AX28: 2501.1031 | AY28: -523.69014 | AZ28: -209.30289 | BA28: 2492.115 | BB28: -1429.3415 | BC28: -466.5781 | BD28: 1033.7813 | BE28: 2700.8939 | BF28: -201.23325 | BG28: -180.30821 | BI28: =SUM(B28:E28) -> 0 | BJ28: =SUM(F28:I28) -> 0 | BK28: =SUM(J28:M28) -> 0 | BL28: =SUM(N28:Q28) -> 0 | BM28: =SUM(R28:U28) -> 0 | BN28: =SUM(V28:Y28) -> 0 | BO28: =SUM(Z28:AC28) -> 0 | BP28: =SUM(AD28:AG28) -> 0 | BQ28: =SUM(AH28:AK28) -> -7867.148 | BR28: =SUM(AL28:AO28) -> -1128.1226 | BS28: =SUM(AP28:AS28) -> -1532.2378 | BT28: =SUM(AT28:AW28) -> -10620.753 | BU28: =SUM(AX28:BA28) -> 4260.225 | BV28: =SUM(BB28:BE28) -> 1838.7556
A30: =INDEX({"Lucro antes do IR e da contribuição social";"Earnings before Income Tax and Social Charges"},Home!$R$30) -> Lucro antes do IR e da contribuição social | B30: =B26+B22+B28 -> 26029 | C30: =C26+C22+C28 -> 65748 | D30: =D26+D22+D28 -> 44225 | E30: =E26+E22+E28 -> 22071 | F30: =F26+F22+F28 -> 20786 | G30: =G26+G22+G28 -> 53286 | H30: =H26+H22+H28 -> 26769 | I30: =I26+I22+I28 -> 38547 | ... BG30: =BG26+BG22+BG28 -> 553719.11 | BI30: =BI26+BI22+BI28 -> 158073 | BJ30: =BJ26+BJ22+BJ28 -> 139388 | BK30: =BK26+BK22+BK28 -> 305036 | BL30: =BL26+BL22+BL28 -> 438903 | BM30: =BM26+BM22+BM28 -> 595216.69 | BN30: =BN26+BN22+BN28 -> 686543.84 | BO30: =BO26+BO22+BO28 -> 638856.19 | BP30: =BP26+BP22+BP28 -> 649118.86 | ... BV30: =BV26+BV22+BV28 -> 1382378.3
A32: =INDEX({"Imposto de renda e contribuição social";"Income Tax and Social Charges"},Home!$R$30) -> Imposto de renda e contribuição social | B32: -6643 | C32: -16415 | D32: -9497 | E32: -20663 | F32: -6507 | G32: -13016 | H32: -8151 | I32: -10727 | J32: -11705 | K32: -21298 | L32: -19955 | M32: -28691 | N32: -14366 | O32: -38907 | P32: -24064 | Q32: -19813 | R32: -22589 | S32: -56497.67 | T32: -36060.52 | U32: -28817.33 | V32: -30844.071 | W32: -52465.29 | X32: -44242.25 | Y32: -46339.47 | Z32: -38721.59 | AA32: -48742.4 | AB32: -30643.42 | AC32: -13557.76 | AD32: -16627.525 | AE32: -41268.707 | AF32: -35350.316 | AG32: -12958.566 | AH32: -54799.833 | AI32: -10240.073 | AJ32: -57401.619 | AK32: -41538.994 | AL32: -75803.925 | AM32: -104003.05 | AN32: -74397.256 | AO32: 4787.5918 | AP32: -1511.3595 | AQ32: -128726.53 | AR32: -55073.223 | AS32: -627.51221 | AT32: -9815.0678 | AU32: -83605.189 | AV32: -48275.851 | AW32: -19696.476 | AX32: -95785.819 | AY32: -97310.569 | AZ32: -113618.08 | BA32: 69583.519 | BB32: -31509.586 | BC32: -61990.127 | BD32: -90193.531 | BE32: -19729.496 | BF32: 13135.446 | BG32: -122027.77 | BI32: =SUM(B32:E32) -> -53218 | BJ32: =SUM(F32:I32) -> -38401 | BK32: =SUM(J32:M32) -> -81649 | BL32: =SUM(N32:Q32) -> -97150 | BM32: =SUM(R32:U32) -> -143964.52 | BN32: =SUM(V32:Y32) -> -173891.08 | BO32: =SUM(Z32:AC32) -> -131665.17 | BP32: =SUM(AD32:AG32) -> -106205.11 | BQ32: =SUM(AH32:AK32) -> -163980.52 | BR32: =SUM(AL32:AO32) -> -249416.64 | BS32: =SUM(AP32:AS32) -> -185938.62 | BT32: =SUM(AT32:AW32) -> -161392.58 | BU32: =SUM(AX32:BA32) -> -237130.95 | BV32: =SUM(BB32:BE32) -> -203422.74
A34: =INDEX({"Lucro líq. operações continuadas";"Net income continued operations"},Home!$R$30) -> Lucro líq. operações continuadas | B34: =B32+B30 -> 19386 | C34: =C32+C30 -> 49333 | D34: =D32+D30 -> 34728 | E34: =E32+E30 -> 1408 | F34: =F32+F30 -> 14279 | G34: =G32+G30 -> 40270 | H34: =H32+H30 -> 18618 | I34: =I32+I30 -> 27820 | ... BG34: =BG32+BG30 -> 431691.34 | BI34: =BI32+BI30 -> 104855 | BJ34: =BJ32+BJ30 -> 100987 | BK34: =BK32+BK30 -> 223387 | BL34: =BL32+BL30 -> 341753 | BM34: =BM32+BM30 -> 451252.17 | BN34: =BN32+BN30 -> 512652.76 | BO34: =BO32+BO30 -> 507191.02 | BP34: =BP32+BP30 -> 542913.75 | ... BV34: =BV32+BV30 -> 1178955.5
A36: =INDEX({"Resultado de operações descontinuadas (4Bio)";"Results of discontinued operations (4Bio)"},Home!$R$30) -> Resultado de operações descontinuadas (4Bio) | B36: 0 | C36: 0 | D36: 0 | E36: 0 | F36: 0 | G36: 0 | H36: 0 | I36: 0 | J36: 0 | K36: 0 | L36: 0 | M36: 0 | N36: 0 | O36: 0 | P36: 0 | Q36: 0 | R36: 0 | S36: 0 | T36: 0 | U36: 0 | V36: 0 | W36: 0 | X36: 0 | Y36: 0 | Z36: 0 | AA36: 0 | AB36: 0 | AC36: 0 | AD36: 0 | AE36: 0 | AF36: 0 | AG36: 0 | AH36: 0 | AI36: 0 | AJ36: 0 | AK36: 0 | AL36: 0 | AM36: 0 | AN36: 0 | AO36: 0 | AP36: 0 | AQ36: 0 | AR36: 0 | AS36: 0 | AT36: 0 | AU36: 0 | AV36: 0 | AW36: 0 | AX36: 0 | AY36: 0 | AZ36: 0 | BA36: 0 | BB36: 22782.83 | BC36: 58689.251 | BD36: 92144.972 | BE36: 9921.7264 | BF36: 11720.133 | BG36: 8286.9766 | BI36: =SUM(B36:E36) -> 0 | BJ36: =SUM(F36:I36) -> 0 | BK36: =SUM(J36:M36) -> 0 | BL36: =SUM(N36:Q36) -> 0 | BM36: =SUM(R36:U36) -> 0 | BN36: =SUM(V36:Y36) -> 0 | BO36: =SUM(Z36:AC36) -> 0 | BP36: =SUM(AD36:AG36) -> 0 | BQ36: =SUM(AH36:AK36) -> 0 | BR36: =SUM(AL36:AO36) -> 0 | BS36: =SUM(AP36:AS36) -> 0 | BT36: =SUM(AT36:AW36) -> 0 | BU36: =SUM(AX36:BA36) -> 0 | BV36: =SUM(BB36:BE36) -> 183538.78
A37: =INDEX({"Lucro líquido";"Net income"},Home!$R$30) -> Lucro líquido | B37: =B36+B34 -> 19386 | C37: =C36+C34 -> 49333 | D37: =D36+D34 -> 34728 | E37: =E36+E34 -> 1408 | F37: =F36+F34 -> 14279 | G37: =G36+G34 -> 40270 | H37: =H36+H34 -> 18618 | I37: =I36+I34 -> 27820 | ... BG37: =BG36+BG34 -> 439978.32 | BI37: =BI36+BI34 -> 104855 | BJ37: =BJ36+BJ34 -> 100987 | BK37: =BK36+BK34 -> 223387 | BL37: =BL36+BL34 -> 341753 | BM37: =BM36+BM34 -> 451252.17 | BN37: =BN36+BN34 -> 512652.76 | BO37: =BO36+BO34 -> 507191.02 | BP37: =BP36+BP34 -> 542913.75 | ... BV37: =BV36+BV34 -> 1362494.3
A39: =INDEX({"*Inclui 4Bio a partir do 1T14.";"*Includes 4Bio as of 1Q14."},Home!$R$30) -> *Inclui 4Bio a partir do 1T14.
A40: =INDEX({"**Ajustado para considerar as operações da Onofre somente após suas respectivas integrações. As lojas foram incluídas de agosto em diante, enquanto a operação de e-commerce e as estruturas corporativa e de logística foram excluídas nesse trimestre.";"**Adjusted to consider Onofre’s operations only after their respective integration. Therefore, the stores are included from August onwards, while the e-commerce operations, as well as the corporate and logistics structures, have been fully excluded."},Home!$R$30) -> **Ajustado para considerar as operações da Onofre somente após suas respectivas integrações. As lojas foram incluídas de agosto em diante, enquanto a operação de e-commerce e as estruturas corporativa e de logística foram excluídas nesse trimestre.

Sheet BalanceSheet
