Workbook
Name \0: #N/A
Name \a2: '[1]Cashflow Forecast Port'!$BV$5
Name \p2: '[1]Cashflow Forecast Port'!$BV$22
Name \p3: '[2]Constr, Op & Fin Assmp'!$B$575
Name _____idc1: [3]drawdown!#REF!
Name _____idc1: [3]drawdown!#REF!
Name _____idc2: [3]drawdown!#REF!
Name _____idc2: [3]drawdown!#REF!
Name _____int1: '[3]debt service'!#REF!
Name _____int1: '[3]debt service'!#REF!
Name _____int2: '[3]debt service'!#REF!
Name _____int2: '[3]debt service'!#REF!
Name _____IPC84: #REF!
Name _____IPC84: #REF!
Name _____MAL1: #REF!
Name _____MAL1: #REF!
Name _____new95: #REF!
Name _____new95: #REF!
Name _____NIL1: '[4]P&L CCI Detail'!$T$54
Name _____NIL2: '[4]P&L CCI Detail'!$T$61
Name _____NIL3: '[4]P&L CCI Detail'!$T$76
Name _____NIL4: '[4]P&L CCI Detail'!$T$84
Name _____NIL5: '[4]P&L CCI Detail'!$T$94
Name _____PG1: #REF!
Name _____PG1: #REF!
Name _____PG3: #REF!
Name _____PG3: #REF!
Name _____ppp2: #N/A
Name _____TAB2: #REF!
Name _____TAB2: #REF!
Name _____tax2: '[5]Tax & Depreciation'!$A$102:$IV$102
Name _____tax3: [6]Tax!$D$7:$AJ$79
Name ____1D: '[2]Constr, Op & Fin Assmp'!#REF!
Name ____1D: '[2]Constr, Op & Fin Assmp'!#REF!
Name ____2P: #REF!
Name ____2P: #REF!
Name ____NIL1: '[4]P&L CCI Detail'!$T$54
Name ____NIL2: '[4]P&L CCI Detail'!$T$61
Name ____NIL3: '[4]P&L CCI Detail'!$T$76
Name ____NIL4: '[4]P&L CCI Detail'!$T$84
Name ____NIL5: '[4]P&L CCI Detail'!$T$94
Name ____tax2: '[5]Tax & Depreciation'!$A$102:$IV$102
Name ____tax3: [6]Tax!$D$7:$AJ$79
Name ___NIL1: '[4]P&L CCI Detail'!$T$54
Name ___NIL2: '[4]P&L CCI Detail'!$T$61
Name ___NIL3: '[4]P&L CCI Detail'!$T$76
Name ___NIL4: '[4]P&L CCI Detail'!$T$84
Name ___NIL5: '[4]P&L CCI Detail'!$T$94
Name ___ppp2: #N/A
Name ___tax2: '[5]Tax & Depreciation'!$A$102:$IV$102
Name ___tax3: [6]Tax!$D$7:$AJ$79
Name __100MBAPRO_M: #REF!
Name __100MBAPRO_M: #REF!
Name __101MBAUGO_M: #REF!
Name __101MBAUGO_M: #REF!
Name __102MBDECO_M: #REF!
Name __102MBDECO_M: #REF!
Name __103MBFEBO_M: #REF!
Name __103MBFEBO_M: #REF!
Name __104MBJANO_M: #REF!

Sheet Capa

Sheet Balanço Patrimonial
B5: Ativo, em R$ mil | C5: Dez. 17 | D5: Dez. 18 | E5: Dez. 19 | F5: Jun. 20 | G5: Set. 20 | H5: Dez. 20 | I5: Mar. 21 | J5: Jun. 21 | K5: Set.21 | L5: Dez.21 | M5: Mar.22 | N5: Jun.22 | O5: Set.22 | P5: Dez.22 | Q5: Mar.23 | R5: Jun.23 | S5: Set.23 | T5: Dez.23 | U5: Mar.24 | V5: Jun.24 | W5: Set.24 | X5: Dez.24 - Reap. | Y5: Mar.25 Reap. | Z5: Jun.25 Reap. | AA5: Set.25 | AB5: Dez.25 | AC5: Mar. 26 | AD5: Jun.26
B6: Ativo circulante
B7: Caixa e equivalentes de caixa | C7: 168947 | D7: 271909 | E7: 406905 | F7: 944126 | G7: 811985 | H7: 2112385 | I7: 1796587.1 | J7: 1687023 | K7: 959079 | L7: 877255 | M7: 618570 | N7: 889893 | O7: 694792 | P7: 1795647 | Q7: 1671461 | R7: 1355789 | S7: 1116813 | T7: 1289138 | U7: 1341031 | V7: 1240114 | W7: 698687 | X7: 1664167 | Y7: 1520551 | Z7: 1027777 | AA7: 1182893 | AB7: 1801712 | AC7: 1984238 | AD7: 1631590
B8: Contas a receber | C8: 604741 | D8: 807404 | E8: 804165 | F8: 964031 | G8: 995203.23 | H8: 1305457.6 | I8: 1277833.9 | J8: 1462541.6 | K8: 1544314 | L8: 1816264 | M8: 1872825 | N8: 2080076.4 | O8: 2377348.3 | P8: 2548256.3 | Q8: 2385043.3 | R8: 2582667 | S8: 2868599 | T8: 3457628 | U8: 3085517 | V8: 3181456.7 | W8: 3509695 | X8: 3399130 | Y8: 3650849 | Z8: 3621480 | AA8: 3964078 | AB8: 4080890 | AC8: 4013107 | AD8: 3959317
B9: Estoques | C9: 1139878 | D9: 1422919 | E9: 1518243 | F9: 1587934 | G9: 2092272.7 | H9: 2617533 | I9: 2637474.4 | J9: 2826493 | K9: 3492306 | L9: 3498630 | M9: 3803451 | N9: 3994994 | O9: 4666193 | P9: 3985375 | Q9: 4436302 | R9: 4693948 | S9: 4939475 | T9: 5087655 | U9: 4957342 | V9: 5294057 | W9: 5963407 | X9: 4939518 | Y9: 5242901 | Z9: 5020008 | AA9: 5730287 | AB9: 5170062 | AC9: 5221233 | AD9: 5736020
B10: Tributos a recuperar | C10: 19658 | D10: 38239 | E10: 55392 | F10: 26293 | G10: 89935.836 | H10: 21882 | I10: 96079.427 | J10: 87231.102 | K10: 92043 | L10: 67338 | M10: 105261 | N10: 88476 | O10: 106728 | P10: 379672 | Q10: 388410 | R10: 326169 | S10: 249090 | T10: 419631 | U10: 459811 | V10: 527238 | W10: 527556 | X10: 605142 | Y10: 684671 | Z10: 683545 | AA10: 1122231 | AB10: 1312606 | AC10: 1307822 | AD10: 1294163
B11: Outros ativos CP | C11: 5863 | D11: 15290 | E11: 11772 | F11: 11679 | G11: 8636.8904 | H11: 8757.6049 | I11: 12175.463 | J11: 46294 | K11: 118729 | L11: 12670 | M11: 29611 | N11: 30402 | O11: 41710 | P11: 91317 | Q11: 140407 | R11: 118904 | S11: 132658 | T11: 116483 | U11: 160371 | V11: 186466 | W11: 233914 | X11: 253517 | Y11: 312504 | Z11: 363516 | AA11: 388556 | AB11: 388275 | AC11: 426112 | AD11: 454790
B12: Total do ativo circulante | C12: =SUM(C7:C11) -> 1939087 | D12: =SUM(D7:D11) -> 2555761 | E12: 2796477 | F12: 3534063 | G12: =SUM(G7:G11) -> 3998033.6 | H12: =SUM(H7:H11) -> 6066015.2 | I12: =SUM(I7:I11) -> 5820150.4 | J12: =SUM(J7:J11) -> 6109582.7 | K12: =SUM(K7:K11) -> 6206471 | L12: =SUM(L7:L11) -> 6272157 | M12: =SUM(M7:M11) -> 6429718 | N12: =SUM(N7:N11) -> 7083841.4 | ... AD12: =SUM(AD7:AD11) -> 13075880
B14: Ativo não circulante
B15: Aplicações financeiras | C15: 20820 | D15: 21183 | E15: 14608 | F15: 14603 | G15: 4931.0724 | H15: 14965.107 | I15: 1359.6197 | J15: 1357.1943 | K15: 1338 | L15: 3071 | M15: 2370 | N15: 1287 | O15: 1815 | P15: 1508 | Q15: 1204 | R15: 1681 | S15: 824 | T15: 882 | U15: 264 | V15: 331 | W15: 112 | X15: 46 | Y15: 46 | Z15: 46 | AA15: 46 | AB15: - | AC15: 0 | AD15: 0
B16: Partes relacionadas | C16: 5516 | D16: 68495 | E16: 70740 | F16: 48406 | G16: 46416.913 | H16: 22165.795 | I16: 8402.2568 | J16: 19673.121 | K16: 6767 | L16: 7321 | M16: 7285 | N16: 8607 | O16: 5824.6817 | P16: 7237.6335 | Q16: 6438.9209 | R16: 6568 | S16: 5616 | T16: 103.81072 | U16: 47 | V16: 18 | W16: 32 | X16: 114 | Y16: 47 | Z16: 71.10598 | AA16: 95 | AB16: 39 | AC16: 30 | AD16: 0
B17: Tributos a recuperar | C17: 23261 | D17: 29751 | E17: 29529 | F17: 89579 | G17: 39974.063 | H17: 140240 | I17: 78592.85 | J17: 95340.877 | K17: 112499 | L17: 135289 | M17: 117179 | N17: 139337 | O17: 155282 | P17: 165856 | Q17: 177915 | R17: 300858 | S17: 320271 | T17: 239491 | U17: 245638 | V17: 262028 | W17: 278177 | X17: 227784 | Y17: 244789 | Z17: 486035 | AA17: 600278 | AB17: 548224 | AC17: 577770 | AD17: 674844
B18: Imposto de renda e contribuição social diferidos | C18: 7259 | D18: 8946 | E18: - | F18: - | G18: - | H18: - | I18: - | J18: - | K18: - | L18: - | M18: - | N18: - | O18: - | P18: - | Q18: - | R18: - | S18: - | T18: - | U18: 42100 | V18: 139576 | W18: 203290 | X18: 503543 | Y18: 599643 | Z18: 306893 | AA18: 802623 | AB18: 866468 | AC18: 908878 | AD18: 899443
B19: Outros ativos | C19: 13764 | D19: 8168 | E19: 904 | F19: 479 | G19: 912.77114 | H19: 1618.6523 | I19: 1528.2724 | J19: 1012.1359 | K19: 21663 | L19: 28868 | M19: 28421 | N19: 33049 | O19: 39870 | P19: 42746 | Q19: 48895 | R19: 99377 | S19: 87216 | T19: 84444 | U19: 95970 | V19: 102885 | W19: 106667 | X19: 81824 | Y19: 65887 | Z19: 201382 | AA19: 65589 | AB19: 110796 | AC19: 142466 | AD19: 161601
B20: Depósitos judiciais | C20: 4011 | D20: 9993 | E20: 11912 | F20: 13300 | G20: 14947.113 | H20: 14757.345 | I20: 15148.746 | J20: 15320.57 | K20: 15900 | L20: 16340 | M20: 16480 | N20: 17840 | O20: 19502 | P20: 20808 | Q20: 22319 | R20: 24494 | S20: 26300 | T20: 27436 | U20: 30604 | V20: 28768 | W20: 29568 | X20: 30637 | Y20: 29720 | Z20: 24282 | AA20: 25800 | AB20: 19357 | AC20: 18802 | AD20: 18219
B21: Ativos de direito de uso | C21: 0 | D21: 0 | E21: 408048 | F21: 464426 | G21: 539476.82 | H21: 597051.36 | I21: 662079.67 | J21: 703265.99 | K21: 830842 | L21: 907504 | M21: 998229 | N21: 1194760 | O21: 1257424 | P21: 1260815 | Q21: 1330053 | R21: 1564699 | S21: 1774395 | T21: 1850811 | U21: 2021405 | V21: 1866203 | W21: 1884077 | X21: 2036014 | Y21: 2339617 | Z21: 2641269 | AA21: 3539580 | AB21: 3654264 | AC21: 3696106 | AD21: 3867883
B22: Investimentos | C22: 0 | D22: 0 | E22: 0 | F22: 0 | G22: 0 | H22: 0 | I22: 0 | J22: 0 | K22: 0 | L22: 0 | M22: 0 | N22: 0 | O22: 0 | P22: 0 | Q22: 0 | R22: 0 | S22: 0 | T22: 19238 | U22: 43168 | V22: 43164 | W22: 43144 | X22: 43144 | Y22: 55844 | Z22: 428234 | AA22: 55844 | AB22: - | AC22: 0 | AD22: 0
B23: Intangível | C23: 450 | D23: 450 | E23: 450 | F23: 450 | G23: 450 | H23: 450 | I23: 3240 | J23: 3190 | K23: 2606 | L23: 2556 | M23: 2506 | N23: 2456 | O23: 2406 | P23: 4515 | Q23: 11951 | R23: 26200 | S23: 30907 | T23: 33840 | U23: 39202 | V23: 43174 | W23: 46893 | X23: 61160 | Y23: 63831 | Z23: 69687 | AA23: 729491 | AB23: 651724 | AC23: 663084 | AD23: 748934
B24: Imobilizado | C24: 663594 | D24: 732681 | E24: 860773 | F24: 965038 | G24: 1115377.8 | H24: 1341446.9 | I24: 1591003.5 | J24: 1809858.7 | K24: 2007877 | L24: 2581885 | M24: 2857882 | N24: 2953797 | O24: 3018884 | P24: 2960185 | Q24: 3105771 | R24: 3276785 | S24: 3504174 | T24: 3730515 | U24: 3996864 | V24: 4215529 | W24: 4375436 | X24: 4382427 | Y24: 4531517 | Z24: 4792495 | AA24: 5488702 | AB24: 5747597 | AC24: 5777757 | AD24: 5706318
B25: Total do ativo não circulante | C25: =SUM(C15:C24) -> 738675 | D25: =SUM(D15:D24) -> 879667 | E25: =SUM(E15:E24) -> 1396964 | F25: =SUM(F15:F24) -> 1596281 | G25: =SUM(G15:G24) -> 1762486.6 | H25: =SUM(H15:H24) -> 2132695.1 | I25: =SUM(I15:I24) -> 2361354.9 | J25: =SUM(J15:J24) -> 2649018.6 | ... AD25: =SUM(AD15:AD24) -> 12077242
B27: Total do ativo | C27: =C25+C12 -> 2677762 | D27: =D25+D12 -> 3435428 | E27: 4193441 | F27: 5130344 | G27: 5760519.8 | H27: =SUM(H12,H25) -> 8198710.4 | I27: =SUM(I12,I25) -> 8181505.3 | J27: =SUM(J12,J25) -> 8758601.3 | K27: =SUM(K12,K25) -> 9205963 | L27: 9954991 | M27: 10460070 | N27: 11434974 | O27: 12387779 | P27: =SUM(P12,P25) -> 13263938 | Q27: =SUM(Q12,Q25) -> 13726170 | R27: =SUM(R12,R25) -> 14378139 | S27: =SUM(S12,S25) -> 15056338 | T27: =SUM(T12,T25) -> 16357296 | U27: =SUM(U12,U25) -> 16519334 | V27: =SUM(V12,V25) -> 17131008 | W27: =SUM(W12,W25) -> 17900655 | ... AD27: =SUM(AD12,AD25) -> 25153122
B30: Passivo, em R$ mil | C30: Dez. 17 | D30: Dez. 18 | E30: Dez. 19 | F30: Jun. 20 | G30: Set. 20 | H30: Dez. 20 | I30: Mar. 21 | J30: Jun.21 | K30: Set.21 | L30: =L5 -> Dez.21 | M30: =M5 -> Mar.22 | N30: =N5 -> Jun.22 | O30: =O5 -> Set.22 | P30: =P5 -> Dez.22 | Q30: =Q5 -> Mar.23 | R30: =R5 -> Jun.23 | S30: =S5 -> Set.23 | ... U30: =U5 -> Mar.24 | V30: Jun.24 | W30: =W5 -> Set.24 | X30: =X5 -> Dez.24 - Reap. | Y30: =Y5 -> Mar.25 Reap. | Z30: =Z5 -> Jun.25 Reap. | AA30: =AA5 -> Set.25 | AB30: =AB5 -> Dez.25 | AC30: Mar. 26 | AD30: Jun.26
B31: Passivo circulante
B32: Fornecedores | C32: 593487 | D32: 703372 | E32: 553543 | F32: 694082 | G32: 947405.58 | H32: 944604.7 | I32: 717979.89 | J32: 1041789.9 | K32: 1042603 | L32: 1056585 | M32: 1260097 | N32: 1617196 | O32: 1436143 | P32: 2008574 | Q32: 2198248 | R32: 2183737 | S32: 2308076 | T32: 3039206 | U32: 2623383 | V32: 2787903 | W32: 2958921 | X32: 3078569 | Y32: 3755177 | Z32: 3357777 | AA32: 4133147 | AB32: 4469873 | AC32: 4634788 | AD32: 4790556
B33: Empréstimos, financiamentos e debêntures | C33: 150641 | D33: 221731 | E33: 191862 | F33: 226009 | G33: 246760.87 | H33: 61168.268 | I33: 89709.975 | J33: 88934.053 | K33: 86364 | L33: 172832 | M33: 174013 | N33: 187278 | O33: 191156 | P33: 192831 | Q33: 192110 | R33: 216191 | S33: 231929 | T33: 465402 | U33: 508391 | V33: 537107 | W33: 548585 | X33: 420986 | Y33: 249077 | Z33: 248593 | AA33: 535225 | AB33: 1204737 | AC33: 1537253 | AD33: 1529728
B34: Obrigações trabalhistas | C34: 93306 | D34: 109707 | E34: 132106 | F34: 200715 | G34: 218954.39 | H34: 178802.46 | I34: 199758.05 | J34: 237623.16 | K34: 271913 | L34: 224680 | M34: 237809 | N34: 267690 | O34: 328581 | P34: 301307 | Q34: 309092 | R34: 357078 | S34: 410755 | T34: 394255 | U34: 429905 | V34: 454609 | W34: 494728 | X34: 445071 | Y34: 482103 | Z34: 472507 | AA34: 596021 | AB34: 526602 | AC34: 545443 | AD34: 563536
B35: Obrigações tributárias | C35: 50350 | D35: 51491 | E35: 64362 | F35: 94707 | G35: 109545.54 | H35: 96391.821 | I35: 72394.716 | J35: 74346.643 | K35: 80566 | L35: 98616 | M35: 92553 | N35: 102658 | O35: 108198 | P35: 132164 | Q35: 115657 | R35: 164978 | S35: 145007 | T35: 212910 | U35: 288502 | V35: 511963 | W35: 642737 | X35: 419431 | Y35: 374463 | Z35: 328697 | AA35: 328881 | AB35: 333643 | AC35: 243746 | AD35: 193914
B36: Tributos parcelados | C36: 119 | D36: 636 | E36: 1269 | F36: 1406 | G36: 1412.6222 | H36: 6391.8167 | I36: 9787.4159 | J36: 9888.0023 | K36: 21443 | L36: 30002 | M36: 22891 | N36: 16647 | O36: 10660 | P36: 10402 | Q36: 10288 | R36: 10973 | S36: 11518 | T36: 11977 | U36: 12062 | V36: 12953 | W36: 14731 | X36: 15132 | Y36: 26747 | Z36: 24291 | AA36: 39882 | AB36: 37857 | AC36: 30751 | AD36: 24794
B37: Passivos de arrendamento | C37: 0 | D37: 0 | E37: 69083 | F37: 78374 | G37: 66417.313 | H37: 67184.084 | I37: 71365.509 | J37: 68692.764 | K37: 54577 | L37: 61137 | M37: 70026 | N37: 78059 | O37: 77645 | P37: 80274 | Q37: 81877 | R37: 53549 | S37: 35351 | T37: 35626 | U37: 111740 | V37: 102545 | W37: 100131 | X37: 79464 | Y37: 113741 | Z37: 227857 | AA37: 274631 | AB37: 262150 | AC37: 262498 | AD37: 250873
B38: Juros sobre capital próprio a pagar | C38: 0 | D38: 0 | E38: 0 | F38: 0 | G38: 0 | H38: 0 | I38: 0 | J38: 0 | K38: 0 | L38: 0 | M38: 0 | N38: 0 | O38: 0 | P38: 0 | Q38: 0 | R38: 0 | S38: 0 | T38: 0 | U38: 83274 | V38: 199916 | W38: 286624 | X38: 0 | Y38: 116650 | Z38: 248932 | AA38: 387991 | AB38: 338834 | AC38: 0 | AD38: 0
B39: Outros passivos | C39: 14712 | D39: 23669 | E39: 17719 | F39: 54547 | G39: 2908.3406 | H39: 6787.0716 | I39: 11903.764 | J39: 11025.095 | K39: 10107 | L39: 6485 | M39: 10036 | N39: 104094 | O39: 56304 | P39: 27794 | Q39: 23079 | R39: 40228 | S39: 49173 | T39: 76354 | U39: 95269 | V39: 138811 | W39: 172311 | X39: 214597 | Y39: 114541 | Z39: 141212 | AA39: 119513 | AB39: 163349 | AC39: 312021 | AD39: 161023
B40: Partes relacionadas | C40: 0 | D40: 0 | E40: 0 | F40: 0 | G40: 0 | H40: 0 | I40: 0 | J40: 0 | K40: 0 | L40: 0 | M40: 0 | N40: 0 | O40: 0 | P40: 0 | Q40: 0 | R40: 0 | S40: 0 | T40: 0 | U40: 0 | V40: 0 | W40: 0 | X40: 0 | Y40: 0 | Z40: 0 | AA40: 0 | AB40: - | AC40: - | AD40: -
B41: Total do passivo circulante | C41: 902615 | D41: 1110606 | E41: 1029944 | F41: 1349840 | G41: =SUM(G32:G39) -> 1593404.6 | H41: =SUM(H32:H40) -> 1361330.2 | I41: =SUM(I32:I40) -> 1172899.3 | J41: =SUM(J32:J40) -> 1532299.6 | K41: =SUM(K32:K40) -> 1567573 | L41: =SUM(L32:L40) -> 1650337 | M41: =SUM(M32:M40) -> 1867425 | N41: =SUM(N32:N40) -> 2373622 | O41: =SUM(O32:O40) -> 2208687 | ... AD41: =SUM(AD32:AD40) -> 7514424
B43: Passivo não circulante
B44: Empréstimos, financiamentos e debêntures | C44: 453765 | D44: 573702 | E44: 716588 | F44: 975544 | G44: 1059138.7 | H44: 531326.45 | I44: 482810.74 | J44: 463176.18 | K44: 445125 | L44: 869537 | M44: 872031 | N44: 876531 | O44: 1641207 | P44: 1638222 | Q44: 1616264 | R44: 1582105 | S44: 1546724 | T44: 1313982 | U44: 1305794 | V44: 1287123 | W44: 1259718 | X44: 1852872 | Y44: 1885998 | Z44: 1866925 | AA44: 2086176 | AB44: 1656368 | AC44: 1182868 | AD44: 1194648
B45: Tributos parcelados | C45: 2786 | D45: 6525 | E45: 4614 | F45: 4517 | G45: 4772.4089 | H45: 23353.283 | I45: 35156.915 | J45: 33312.898 | K45: 76916 | L45: 32534 | M45: 24705 | N45: 24199 | O45: 22798 | P45: 20181 | Q45: 17608 | R45: 17715 | S45: 17251 | T45: 17490 | U45: 16448 | V45: 17990 | W45: 22330 | X45: 22771 | Y45: 33544 | Z45: 28707 | AA45: 57355 | AB45: 48966 | AC45: 38827 | AD45: 33089
B46: Provisão para riscos | C46: 2922 | D46: 2922 | E46: 15088 | F46: 15155 | G46: 16222.66 | H46: 17208.047 | I46: 15569.174 | J46: 14750.471 | K46: 14286 | L46: 15187 | M46: 15645 | N46: 13688 | O46: 12276 | P46: 28046 | Q46: 26037 | R46: 55669 | S46: 57918 | T46: 59821 | U46: 58614 | V46: 61745 | W46: 64033 | X46: 305138 | Y46: 389113 | Z46: 475108 | AA46: 181884 | AB46: 97533 | AC46: 115928 | AD46: 123242
B47: Passivo fiscal diferido | C47: 0 | D47: 0 | E47: 0 | F47: 0 | G47: 0 | H47: 0 | I47: 0 | J47: 0 | K47: 0 | L47: 0 | M47: 0 | N47: 0 | O47: 0 | P47: 0 | Q47: 0 | R47: 0 | S47: 0 | T47: 0 | U47: 0 | V47: 0 | W47: 0 | X47: 0 | Y47: 0 | Z47: 0 | AA47: 26377 | AB47: 0 | AC47: 0 | AD47: 0
B48: Passivos de arrendamento | C48: 0 | D48: 0 | E48: 337287 | F48: 382650 | G48: 468673.65 | H48: 523288.12 | I48: 590832 | J48: 634573.23 | K48: 813529 | L48: 890536 | M48: 979426 | N48: 1175417 | O48: 1248706 | P48: 1257061 | Q48: 1332143 | R48: 1603235 | S48: 1839131 | T48: 1927542 | U48: 2030806 | V48: 1891562 | W48: 1926101 | X48: 2089299 | Y48: 2393571 | Z48: 2597466 | AA48: 3513560 | AB48: 3657119 | AC48: 3709792 | AD48: 3908547
B49: Outros passivos | C49: 1442 | D49: 0 | E49: 0 | F49: 0 | G49: 0 | H49: 0 | I49: 0 | J49: 0 | K49: 0 | L49: 0 | M49: 0 | N49: 0 | O49: 0 | P49: 0 | Q49: 0 | R49: 0 | S49: 0 | T49: 0 | U49: 0 | V49: 0 | W49: 0 | X49: 0 | Y49: 0 | Z49: 0 | AA49: 8625 | AB49: 8250 | AC49: 7875 | AD49: 7500
...

Sheet DRE
B5: R$ mil | C5: 2017 | D5: 2018 | E5: 6M 19 | F5: 3T 19 | G5: 4T 19 | H5: 2019 | I5: 1T 20 | J5: 2T 20 | K5: 3T 20 | L5: 4T 20 | M5: 2020 | N5: 2020² | O5: 1T 21 | P5: 2T 21 | Q5: 3T 21 | R5: 4T 21 | S5: 2021 | T5: 1T 22 | U5: 2T 22 | V5: 3T 22 | W5: 4T 22 | X5: 2022 | Y5: 1T 23 | Z5: 2T 23 | AA5: 3T 23 | AB5: 4T 23 | AC5: 2023 | AD5: 1T 24 | AE5: 2T 24 | AF5: 3T 24 | AG5: 3T 24 (Reapresentação) | AH5: 4T 24 | AI5: 4T 24 (Reapresentação) | AJ5: 2024 | AK5: 2024 (Reapresentação) | AL5: 1T 25 | AM5: 1T25 (Reapresentação) | AN5: 2T 25 | AO5: 2T25 (Reapresentação) | AP5: 3T 25 | AQ5: 4T 25 | AR5: 1T 26 | AS5: 2T 26
B6: Receita líquida de vendas ¹ | C6: 5802990 | D6: 6915381 | E6: 3980487 | F6: 2353255.1 | G6: 2372505.5 | H6: 8706248 | I6: 2409284.4 | J6: 2889003.3 | K6: 3463454.2 | L6: 3635295.9 | M6: 12397038 | N6: 12397038 | O6: 3362273.1 | P6: 3724341.7 | Q6: 4349125 | R6: 4441117.2 | S6: 15876857 | T6: 4578779.5 | U6: 5201989 | V6: 5923131 | W6: 6064577 | X6: 21768477 | Y6: 5867879.7 | Z6: 6429472 | AA6: 6934929 | AB6: 7541305.3 | AC6: 26773586 | AD6: 7382470.6 | AE6: 7638924.4 | AF6: 8337057 | AG6: 8337057 | AH6: 8726977 | AI6: 8726977 | AJ6: 32085428 | AK6: 32085428 | AL6: 8331305 | AM6: 8331305 | AN6: 8779636.4 | AO6: 8779636.4 | AP6: 10763538 | AQ6: 10549923 | AR6: 9402270 | AS6: 9852461
B7: Custo dos serviços prestados e mercadorias vendidas | C7: -4256305.4 | D7: -5072216 | E7: -2946774 | F7: -1729167.7 | G7: -1887849.7 | H7: -6563791 | I7: -1805748 | J7: -2195072 | K7: -2625787 | L7: -2781019.9 | M7: -9407627.4 | N7: -9407627.4 | O7: -2560194.1 | P7: -2861692.3 | Q7: -3311219 | R7: -3441309.6 | S7: -12174415 | T7: -3553067.3 | U7: -4019431 | V7: -4568982 | W7: -4752905 | X7: -16893371 | Y7: -4574505.7 | Z7: -4985038 | AA7: -5374203 | AB7: -5849003.3 | AC7: -20782750 | AD7: -5732716 | AE7: -5926460 | AF7: -6443134 | AG7: -6479360 | AH7: -6723045 | AI7: -6821183 | AJ7: -24825355 | AK7: -24919689 | AL7: -6414649 | AM7: -6478662 | AN7: -6756571.4 | AO7: -6685998 | AP7: -8470764 | AQ7: -8175217.4 | AR7: -7251758 | AS7: -7541266
B9: Lucro bruto | C9: =SUM(C6:C7) -> 1546684.6 | D9: =SUM(D6:D7) -> 1843165 | E9: =SUM(E6:E7) -> 1033713 | F9: =SUM(F6:F7) -> 624087.42 | G9: =SUM(G6:G7) -> 484655.83 | H9: =SUM(H6:H7) -> 2142457 | I9: =SUM(I6:I7) -> 603536.42 | J9: =SUM(J6:J7) -> 693931.35 | ... AS9: =SUM(AS6:AS7) -> 2311195
B10: Margem Bruta | C10: =C9/C6 -> 0.26653236 | D10: =D9/D6 -> 0.26653123 | E10: =E9/E6 -> 0.25969511 | F10: =F9/F6 -> 0.26520177 | G10: =G9/G6 -> 0.20428017 | H10: =H9/H6 -> 0.2460827 | I10: =I9/I6 -> 0.25050443 | J10: =J9/J6 -> 0.24019749 | ... S10: =S9/S6 -> 0.23319741 | T10: 0.223 | U10: 0.2256831 | V10: 0.22187961 | W10: =W9/W6 -> 0.21628417 | X10: =X9/X6 -> 0.22395255 | Y10: =Y9/Y6 -> 0.2204159 | Z10: =Z9/Z6 -> 0.22465826 | AA10: =AA9/AA6 -> 0.22505292 | AB10: =AB9/AB6 -> 0.22440438 | AC10: =AC9/AC6 -> 0.22375919 | AD10: =AD9/AD6 -> 0.22346918 | ... AS10: =AS9/AS6 -> 0.23458048
B12: Receitas (despesas) operacionais
B13: Despesas comerciais, administrativas e gerais | C13: -1228371 | D13: -1390997 | E13: -790773 | F13: -458559.7 | G13: -396081 | H13: -1645414 | I13: -463885.89 | J13: -454361.11 | K13: -560733 | L13: -637644 | M13: -2116622 | N13: -2066874 | O13: -610097.06 | P13: -645362.94 | Q13: -723325 | R13: -748223 | S13: -2727008 | T13: -807035.2 | U13: -858244.8 | V13: -953504 | W13: -992449 | X13: -3611233 | Y13: -981450.33 | Z13: -1058239 | AA13: -1147111 | AB13: -1203353.6 | AC13: -4390154.9 | AD13: -1244723.6 | AE13: -1236882 | AF13: -1310428 | AG13: -1310428 | AH13: -1369239.5 | AI13: -1369239.5 | AJ13: -5161273.1 | AK13: -5161273 | AL13: -1373306 | AM13: -1373306 | AN13: -1428519 | AO13: -1428519 | AP13: -1769134 | AQ13: -1873881 | AR13: -1798334 | AS13: -1796066
B14: Outras receitas (despesas) operacionais, líquidas | C14: 4372 | D14: -2972 | E14: -5077 | F14: -343.79003 | G14: -10414.21 | H14: -15835 | I14: -143.26486 | J14: -100.73514 | K14: -935 | L14: -1923 | M14: -3102.486 | N14: -3102.486 | O14: -10481.574 | P14: -2207.6126 | Q14: -54456 | R14: 7879 | S14: -59267 | T14: 11130.955 | U14: 1745 | V14: -12453 | W14: 102003 | X14: 101411 | Y14: 1067 | Z14: 27385 | AA14: 413 | AB14: 53065.045 | AC14: 81930.045 | AD14: 421 | AE14: -18179 | AF14: 5492 | AG14: 5492 | AH14: 4281 | AI14: 4281 | AJ14: -7985 | AK14: -7985 | AL14: 1301 | AM14: 1301 | AN14: -2721 | AO14: -2721 | AP14: 147417 | AQ14: -47369.189 | AR14: 32416 | AS14: -11212
B15: Total | C15: =SUM(C13:C14) -> -1223999 | D15: =SUM(D13:D14) -> -1393969 | E15: =SUM(E13:E14) -> -795850 | F15: =SUM(F13:F14) -> -458903.49 | G15: =SUM(G13:G14) -> -406495.21 | H15: =SUM(H13:H14) -> -1661249 | I15: =SUM(I13:I14) -> -464029.15 | J15: =SUM(J13:J14) -> -454461.85 | ... AL15: =SUM(AL13:AL14) -> -1372005 | AM15: =AM13+AM14 -> -1372005 | AN15: =SUM(AN13:AN14) -> -1431240 | AO15: =SUM(AO13:AO14) -> -1431240 | AP15: =SUM(AP13:AP14) -> -1621717 | AQ15: =SUM(AQ13:AQ14) -> -1921250.2 | AR15: =SUM(AR13:AR14) -> -1765918 | AS15: =SUM(AS13:AS14) -> -1807278
B17: Lucro operacional antes do resultado financeiro | C17: =SUM(C9,C15) -> 322685.63 | D17: =SUM(D9,D15) -> 449196 | E17: =SUM(E9,E15) -> 237863 | F17: =SUM(F9,F15) -> 165183.93 | G17: =SUM(G9,G15) -> 78160.619 | H17: =SUM(H9,H15) -> 481208 | I17: =SUM(I9,I15) -> 139507.27 | J17: =SUM(J9,J15) -> 239469.5 | ... AQ17: =SUM(AQ9,AQ15) -> 453455 | AR17: 384594 | AS17: 503917
B19: Resultado financeiro
B20: Receitas financeiras | C20: 15664 | D20: 31956 | E20: 48688 | F20: 11268.873 | G20: 14017.127 | H20: 73974 | I20: 16478.863 | J20: 18931.137 | K20: 18504 | L20: 29563 | M20: 83476.888 | N20: 83476.888 | O20: 25690.766 | P20: 31700.554 | Q20: 44510 | R20: 39361 | S20: 141263 | T20: 44146.335 | U20: 36200.665 | V20: 47128 | W20: 56191 | X20: 183666 | Y20: 63202 | Z20: 62773 | AA20: 63855 | AB20: 52167 | AC20: 241997 | AD20: 54595.66 | AE20: 71540.34 | AF20: 58966 | AG20: 58966 | AH20: 82206 | AI20: 82206 | AJ20: 267308 | AK20: 267308 | AL20: 69356 | AM20: 69356 | AN20: 58754 | AO20: 58754 | AP20: 87088 | AQ20: 96761 | AR20: 87895 | AS20: 90775
B21: Despesas financeiras | C21: -140368 | D21: -152359 | E21: -102963 | F21: -30305.456 | G21: -40659.544 | H21: -173928 | I21: -54162.167 | J21: -63048.833 | K21: -57591 | L21: -53821 | M21: -228622.91 | N21: -228622.91 | O21: -50470 | P21: -56216 | Q21: -91211 | R21: -71983 | S21: -269880 | T21: -73218 | U21: -94761.779 | V21: -137924 | W21: -154732.22 | X21: -460636 | Y21: -135960 | Z21: -166879 | AA21: -163903 | AB21: -180578 | AC21: -647320 | AD21: -187301.66 | AE21: -198208.74 | AF21: -208790 | AG21: -208790 | AH21: -244955.6 | AI21: -244955.6 | AJ21: -839256 | AK21: -839256 | AL21: -250609 | AM21: -250609 | AN21: -267809 | AO21: -267809 | AP21: -305637 | AQ21: -403524 | AR21: -310031 | AS21: -338073
B22: Total | C22: =SUM(C20:C21) -> -124704 | D22: =SUM(D20:D21) -> -120403 | E22: =SUM(E20:E21) -> -54275 | F22: =SUM(F20:F21) -> -19036.583 | G22: =SUM(G20:G21) -> -26642.417 | H22: =SUM(H20:H21) -> -99954 | I22: =SUM(I20:I21) -> -37683.304 | J22: =SUM(J20:J21) -> -44117.696 | ... AL22: =SUM(AL20:AL21) -> -181253 | AM22: =AM20+AM21 -> -181253 | AN22: =SUM(AN20:AN21) -> -209055 | AO22: =SUM(AO20:AO21) -> -209055 | AP22: =SUM(AP20:AP21) -> -218549 | AQ22: =SUM(AQ20:AQ21) -> -306763 | AR22: =AR20+AR21 -> -222136 | AS22: =SUM(AS20:AS21) -> -247298
B24: Lucro antes do imposto de renda e contribuição social | C24: =SUM(C17,C22) -> 197981.63 | D24: =SUM(D17,D22) -> 328793 | E24: =SUM(E17,E22) -> 183588 | F24: =SUM(F17,F22) -> 146147.34 | G24: =SUM(G17,G22) -> 51518.202 | H24: =SUM(H17,H22) -> 381254 | I24: =SUM(I17,I22) -> 101823.97 | J24: =SUM(J17,J22) -> 195351.8 | ... AS24: =SUM(AS17,AS22) -> 256619
B26: Imposto de renda e contribuição social - corrente | C26: -5807 | D26: -5135 | E26: 0 | F26: -2988.3794 | G26: -3571.6206 | H26: -6560 | I26: 0 | J26: 0 | K26: -6948 | L26: 5004 | M26: -1943.4445 | N26: -1943.4445 | O26: 0 | P26: 0 | Q26: 0 | R26: -18759 | S26: -18759 | T26: -1524.4414 | U26: -3374 | V26: -6525 | W26: -12096 | X26: -23519 | Y26: -541 | Z26: -16241 | AA26: -383 | AB26: -25485 | AC26: -42650 | AD26: -96230.245 | AE26: -138067.3 | AF26: -160103.26 | AG26: -124370 | AH26: 82526.805 | AI26: -11818 | AJ26: -310860 | AK26: -310860 | AL26: -150026 | AM26: -97399 | AN26: -129023 | AO26: -10341 | AP26: 300127 | AQ26: 106038 | AR26: -13946 | AS26: -14247
B27: Imposto de renda e contribuição social - diferido | C27: 638 | D27: 1687 | E27: 0 | F27: 0 | G27: -8946 | H27: -8946 | I27: 0 | J27: 0 | K27: 5704 | L27: -2031 | M27: 3672.9891 | N27: 3672.9891 | O27: 0 | P27: 0 | Q27: 0 | R27: 0 | S27: 0 | T27: 0 | U27: 0 | V27: 0 | W27: 0 | X27: 0 | Y27: 0 | Z27: 0 | AA27: 0 | AB27: 0 | AC27: 0 | AD27: 63862 | AE27: 134676.56 | AF27: 100110.58 | AG27: 76694 | AH27: -170747.14 | AI27: -43036 | AJ27: 126888 | AK27: 158961 | AL27: 105197 | AM27: 74334 | AN27: 95452 | AO27: -47225 | AP27: 93938 | AQ27: 90221 | AR27: 42410 | AS27: -426
B28: Total | C28: -5169 | D28: -3448 | E28: 0 | F28: =SUM(F26:F27) -> -2988.3794 | G28: =SUM(G26:G27) -> -12517.621 | H28: -15506 | I28: 0 | J28: 0 | K28: -1244 | L28: 2973 | M28: =SUM(M26:M27) -> 1729.5446 | N28: =SUM(N26:N27) -> 1729.5446 | O28: 0 | P28: 0 | Q28: 0 | R28: =SUM(R26:R27) -> -18759 | S28: =SUM(S26:S27) -> -18759 | T28: -1524.4414 | U28: -3374 | V28: -6525 | W28: =SUM(W26:W27) -> -12096 | X28: =SUM(X26:X27) -> -23519 | Y28: =SUM(Y26:Y27) -> -541 | Z28: =SUM(Z26:Z27) -> -16241 | AA28: =SUM(AA26:AA27) -> -383 | AB28: =SUM(AB26:AB27) -> -25485 | AC28: =SUM(AC26:AC27) -> -42650 | AD28: =SUM(AD26:AD27) -> -32368.245 | ... AQ28: =SUM(AQ26:AQ27) -> 196259 | AR28: =AR26+AR27 -> 28464 | AS28: =AS26+AS27 -> -14673
B30: Lucro líquido combinado do período | C30: =SUM(C24,C28) -> 192812.63 | D30: =SUM(D24,D28) -> 325345 | E30: =SUM(E24,E28) -> 183588 | F30: =SUM(F24,F28) -> 143158.96 | G30: =SUM(G24,G28) -> 39000.581 | H30: =SUM(H24,H28) -> 365748 | I30: =SUM(I24,I28) -> 101823.97 | J30: =SUM(J24,J28) -> 195351.8 | ... AL30: =SUM(AL24,AL28) -> 318569 | AM30: 276320 | AN30: =SUM(AN24,AN28) -> 349199 | AO30: 395777 | AP30: =SUM(AP24,AP28) -> 846573 | AQ30: =SUM(AQ24,AQ28) -> 342951 | AR30: 190922 | AS30: 241946
B32: Depreciação | C32: 77837 | D32: 80683 | E32: 45933 | F32: 14513 | G32: 24402 | H32: 84848 | I32: 22718 | J32: 24931 | K32: 33748 | L32: 27495 | M32: 108892 | N32: 117386 | O32: 37608 | P32: 44295 | Q32: 51000 | R32: 48048 | S32: 180951 | T32: 48188 | U32: 57144 | V32: 55727 | W32: 58720 | X32: 219779 | Y32: 63128 | Z32: 61086 | AA32: 59994 | AB32: 24736 | AC32: 208944 | AD32: 61651 | AE32: 49812 | AF32: 54035 | AG32: 54035 | AH32: 45106 | AI32: 45106 | AJ32: 210604 | AK32: 210604 | AL32: 58799 | AM32: 58799 | AN32: 60696 | AO32: 60696 | AP32: 92906 | AQ32: 99632 | AR32: 90048 | AS32: 101359
B33: Depreciação de arrendamento | C33: 0 | D33: 0 | E33: 28585 | F33: 16597 | G33: 16057 | H33: 61239 | I33: 16845 | J33: 28857 | K33: 9179 | L33: 16191 | M33: 71072 | N33: 74636 | O33: 20121 | P33: 19438 | Q33: 20918 | R33: 19017 | S33: 79494 | T33: 24007 | U33: 26586 | V33: 28493 | W33: 30302 | X33: 109388 | Y33: 34873 | Z33: 31059 | AA33: 38534 | AB33: 39982 | AC33: 144448 | AD33: 42920 | AE33: 35497 | AF33: 41459 | AG33: 41459 | AH33: 46266 | AI33: 46266 | AJ33: 166142 | AK33: 166142 | AL33: 46495 | AM33: 46495 | AN33: 52397 | AO33: 52397 | AP33: 69259 | AQ33: 59412 | AR33: 68402 | AS33: 76331
B34: Despesa Financeira de arrendamento | C34: 0 | D34: 0 | E34: 10787 | F34: 3565 | G34: 5614 | H34: 19966 | I34: 6731 | J34: 10670 | K34: 6046 | L34: 9356 | M34: 32803 | N34: 32803 | O34: 9862 | P34: 11161 | Q34: 20776 | R34: 19908 | S34: 61707 | T34: 15643 | U34: 25884 | V34: 31271 | W34: 32003 | X34: 104801 | Y34: 33876 | Z34: 38493.442 | AA34: 45535.558 | AB34: 51083 | AC34: 168988 | AD34: 52406 | AE34: 52037 | AF34: 57862 | AG34: 57862 | AH34: 37900 | AI34: 37900 | AJ34: 200205 | AK34: 200205 | AL34: 69390 | AM34: 69390 | AN34: 81621 | AO34: 81621 | AP34: 101981 | AQ34: 103425 | AR34: 101261 | AS34: 107983
B36: EBITDA | C36: =C17+C33+C32 -> 400522.63 | D36: =D17+D33+D32 -> 529879 | E36: =E17+E33+E32 -> 312381 | F36: =F17+F33+F32 -> 196293.93 | G36: =G17+G33+G32 -> 118619.62 | H36: =H17+H33+H32 -> 627295 | I36: =I17+I33+I32 -> 179070.27 | J36: =J17+J33+J32 -> 293257.5 | ... AS36: =AS17+AS33+AS32 -> 681607
B37: Margem EBITDA | C37: =C36/C6 -> 0.069020045 | D37: =D36/D6 -> 0.076623255 | E37: =E36/E6 -> 0.078478086 | F37: =F36/F6 -> 0.083413788 | G37: =G36/G6 -> 0.049997615 | H37: =H36/H6 -> 0.072051129 | I37: =I36/I6 -> 0.074325087 | J37: =J36/J6 -> 0.10150819 | ... AS37: =AS36/AS6 -> 0.069181395
B41: ¹ Baseada na receita líquida reconciliada por impostos intercompany
B42: ² Ajustado, desconsiderando as despesas não recorrentes do IPO

Sheet DRE Ex Ifrs
B5: R$ mil, sem efeitos do IFRS 16 | C5: 2017 | D5: 2018 | E5: 6M 19 | F5: 3T 19 | G5: 4T 19 | H5: 2019 | I5: 1T 20 | J5: 2T 20 | K5: 3T 20 | L5: 4T 20 | M5: 2020 | N5: 2020² | O5: 1T 21 | P5: 2T 21 | Q5: 3T 21 | R5: 4T 21 | S5: 2021 | T5: 1T 22 | U5: 2T 22 | V5: 3T 22 | W5: 4T 22 | X5: 2022 | Y5: 1T 23 | Z5: 2T 23 | AA5: 3T 23 | AB5: 4T 23 | AC5: 2023 | AD5: 1T 24 | AE5: 2T 24 | AF5: 3T 24 | AG5: 3T 24 (Reapresentação) | AH5: 4T 24 | AI5: 4T 24 (Reapresentação) | AJ5: 2024 | AK5: 2024 (Reapresentação) | AL5: 1T 25 | AM5: 1T 25 (Reapresentação) | AN5: 2T 25 | AO5: 2T 25 (Reapresentação) | AP5: 3T 25 | AQ5: 4T 25 | AR5: 1T 26 | AS5: 2T 26
B6: Receita líquida de vendas ¹ | C6: 5802990 | D6: 6915381 | E6: 3980487 | F6: 2353255.1 | G6: 2372505.5 | H6: 8706248 | I6: 2409284.4 | J6: 2889003.3 | K6: 3463454.2 | L6: 3635295.9 | M6: 12397038 | N6: 12397038 | O6: 3362273.1 | P6: 3724341.7 | Q6: 4349125 | R6: 4441117.2 | S6: 15876857 | T6: 4578779.5 | U6: 5201989 | V6: 5923131 | W6: 6064577 | X6: 21768477 | Y6: 5867879.7 | Z6: 6429472 | AA6: 6934929 | AB6: 7541305.3 | AC6: 26773586 | AD6: 7382470.6 | AE6: 7638924.4 | AF6: 8337057 | AG6: 8337057 | AH6: 8726977 | AI6: 8726977 | AJ6: 32085428 | AK6: =AJ6 -> 32085428 | AL6: 8331305 | AM6: =DRE!AM6 -> 8331305 | AN6: 8779636.4 | AO6: =DRE!AO6 -> 8779636.4 | AP6: 10763538 | AQ6: 10549923 | AR6: =DRE!AR6 -> 9402270 | AS6: =DRE!AS6 -> 9852461
B7: Custo dos serviços prestados e mercadorias vendidas | C7: -4256305.4 | D7: -5072216 | E7: -2946774 | F7: -1729167.7 | G7: -1887849.7 | H7: -6563791 | I7: -1805748 | J7: -2195072 | K7: -2625787 | L7: -2781019.9 | M7: -9407627.4 | N7: -9407627.4 | O7: -2560194.1 | P7: -2861692.3 | Q7: -3311219 | R7: -3441309.6 | S7: -12174415 | T7: -3553067.3 | U7: -4019431 | V7: -4568982 | W7: -4752905 | X7: -16893371 | Y7: -4574505.7 | Z7: -4985038 | AA7: -5374203 | AB7: -5849003.3 | AC7: -20782750 | AD7: -5732716 | AE7: -5926460 | AF7: -6443134 | AG7: -6479360 | AH7: -6723045 | AI7: -6821183 | AJ7: -24825355 | AK7: =DRE!AK7 -> -24919689 | AL7: -6414649 | AM7: =DRE!AM7 -> -6478662 | AN7: -6756571.4 | AO7: =DRE!AO7 -> -6685998 | AP7: -8470764 | AQ7: -8175217.4 | AR7: =DRE!AR7 -> -7251758 | AS7: =DRE!AS7 -> -7541266
B9: Lucro bruto | C9: =SUM(C6:C7) -> 1546684.6 | D9: =SUM(D6:D7) -> 1843165 | E9: =SUM(E6:E7) -> 1033713 | F9: =SUM(F6:F7) -> 624087.42 | G9: =SUM(G6:G7) -> 484655.83 | H9: =SUM(H6:H7) -> 2142457 | I9: =SUM(I6:I7) -> 603536.42 | J9: =SUM(J6:J7) -> 693931.35 | ... AN9: =SUM(AN6:AN7) -> 2023065 | AO9: =DRE!AO9 -> 2093638.4 | AP9: =SUM(AP6:AP7) -> 2292774 | AQ9: =SUM(AQ6:AQ7) -> 2374705.2 | AR9: =SUM(AR6:AR7) -> 2150512 | AS9: =SUM(AS6:AS7) -> 2311195
B10: Margem Bruta | C10: =C9/C6 -> 0.26653236 | D10: =D9/D6 -> 0.26653123 | E10: =E9/E6 -> 0.25969511 | F10: =F9/F6 -> 0.26520177 | G10: =G9/G6 -> 0.20428017 | H10: =H9/H6 -> 0.2460827 | I10: =I9/I6 -> 0.25050443 | J10: =J9/J6 -> 0.24019749 | ... S10: =S9/S6 -> 0.23319741 | T10: 0.223 | U10: 0.2256831 | V10: 0.22187961 | W10: =W9/W6 -> 0.21628417 | X10: =X9/X6 -> 0.22395255 | Y10: =Y9/Y6 -> 0.2204159 | Z10: =Z9/Z6 -> 0.22465826 | AA10: =AA9/AA6 -> 0.22505292 | AB10: =AB9/AB6 -> 0.22440438 | AC10: =AC9/AC6 -> 0.22375919 | AD10: =AD9/AD6 -> 0.22346918 | ... AS10: =AS9/AS6 -> 0.23458048
B12: Receitas (despesas) operacionais
B13: Despesas comerciais, administrativas e gerais | C13: =DRE!C13+C33-C35 -> -1228371 | D13: =DRE!D13+D33-D35 -> -1390997 | E13: =DRE!E13+E33-E35 -> -762188 | F13: =DRE!F13+F33-F35 -> -441962.7 | G13: =DRE!G13+G33-G35 -> -380024 | H13: =DRE!H13+H33-H35 -> -1669247 | I13: =DRE!I13+I33-I35 -> -447040.89 | J13: =DRE!J13+J33-J35 -> -425504.11 | ... AF13: =DRE!AF13+AF33-AF35 -> -1353994 | AG13: -1353994 | AH13: -1414070.5 | AI13: -1414070.5 | AJ13: -5345982.1 | AK13: =AJ13 -> -5345982.1 | AL13: =DRE!AL13+AL33-AL35 -> -1423666 | AM13: -1423666 | AN13: =DRE!AN13+AN33-AN35 -> -1487936 | AO13: =DRE!AO13+AO33-AO35 -> -1487936 | AP13: =DRE!AP13+AP33-AP35 -> -1839836 | AQ13: =DRE!AQ13+AQ33-AQ35 -> -1958243 | AR13: =DRE!AR13+AR33-AR35 -> -1873136 | AS13: =DRE!AS13+AS33-AS35 -> -1877842
B14: Outras receitas (despesas) operacionais, líquidas | C14: 4372 | D14: -2972 | E14: -5077 | F14: -343.79003 | G14: -10414.21 | H14: -15835 | I14: -143.26486 | J14: -100.73514 | K14: -935 | L14: -1923 | M14: -3102.486 | N14: -3102.486 | O14: -10481.574 | P14: -2207.6126 | Q14: -54456 | R14: 7879 | S14: -59267 | T14: 11130.955 | U14: 1745 | V14: -12453 | W14: 102003 | X14: 101411 | Y14: 1067 | Z14: 27385 | AA14: 413 | AB14: 53065.045 | AC14: 81930.045 | AD14: 421 | AE14: -18179 | AF14: 5492 | AG14: 5492 | AH14: 4281 | AI14: 4281 | AJ14: -7985 | AK14: =AJ14 -> -7985 | AL14: 1301 | AM14: =DRE!AM14 -> 1301 | AN14: -2721 | AO14: =DRE!AO14 -> -2721 | AP14: 147417 | AQ14: -47369.189 | AR14: =DRE!AR14 -> 32416 | AS14: =DRE!AS14 -> -11212
B15: Total | C15: =SUM(C13:C14) -> -1223999 | D15: =SUM(D13:D14) -> -1393969 | E15: =SUM(E13:E14) -> -767265 | F15: =SUM(F13:F14) -> -442306.49 | G15: =SUM(G13:G14) -> -390438.21 | H15: =SUM(H13:H14) -> -1685082 | I15: =SUM(I13:I14) -> -447184.15 | J15: =SUM(J13:J14) -> -425604.85 | ... AJ15: =SUM(AJ13:AJ14) -> -5353967.1 | AK15: =AJ15 -> -5353967.1 | AL15: =SUM(AL13:AL14) -> -1422365 | AM15: =SUM(AM13:AM14) -> -1422365 | AN15: =SUM(AN13:AN14) -> -1490657 | AO15: =SUM(AO13:AO14) -> -1490657 | AP15: =SUM(AP13:AP14) -> -1692419 | AQ15: =SUM(AQ13:AQ14) -> -2005612.2 | AR15: =SUM(AR13:AR14) -> -1840720 | AS15: =SUM(AS13:AS14) -> -1889054
B17: Lucro operacional antes do resultado financeiro | C17: =SUM(C9,C15) -> 322685.63 | D17: =SUM(D9,D15) -> 449196 | E17: =SUM(E9,E15) -> 266448 | F17: =SUM(F9,F15) -> 181780.93 | G17: =SUM(G9,G15) -> 94217.619 | H17: =SUM(H9,H15) -> 457375 | I17: =SUM(I9,I15) -> 156352.27 | J17: =SUM(J9,J15) -> 268326.5 | ... AS17: =SUM(AS9,AS15) -> 422141
B19: Resultado financeiro
B20: Receitas financeiras | C20: 15664 | D20: 31956 | E20: 48688 | F20: 11268.873 | G20: 14017.127 | H20: 73974 | I20: 16478.863 | J20: 18931.137 | K20: 18504 | L20: 29563 | M20: 83476.888 | N20: 83476.888 | O20: 25690.766 | P20: 31700.554 | Q20: 44510 | R20: 39361 | S20: 141263 | T20: 44146.335 | U20: 36200.665 | V20: 47128 | W20: 56191 | X20: 183666 | Y20: 63202 | Z20: 62773 | AA20: 63855 | AB20: 52167 | AC20: 241997 | AD20: 54595.66 | AE20: 71540.34 | AF20: 58966 | AG20: 58966 | AH20: 82206 | AI20: 82206 | AJ20: 267308 | AK20: =AJ20 -> 267308 | AL20: 69356 | AM20: =AL20 -> 69356 | AN20: 58754 | AO20: =DRE!AO20 -> 58754 | AP20: 87088 | AQ20: 96761 | AR20: =DRE!AR20 -> 87895 | AS20: =DRE!AS20 -> 90775
B21: Despesas financeiras | C21: =DRE!C21+'DRE Ex Ifrs'!C34 -> -140368 | D21: =DRE!D21+'DRE Ex Ifrs'!D34 -> -152359 | E21: =DRE!E21+'DRE Ex Ifrs'!E34 -> -92176 | F21: =DRE!F21+'DRE Ex Ifrs'!F34 -> -26740.456 | G21: =DRE!G21+'DRE Ex Ifrs'!G34 -> -35045.544 | H21: =DRE!H21+'DRE Ex Ifrs'!H34 -> -153962 | I21: =DRE!I21+'DRE Ex Ifrs'!I34 -> -47431.167 | J21: =DRE!J21+'DRE Ex Ifrs'!J34 -> -52378.833 | ... AF21: =DRE!AF21+'DRE Ex Ifrs'!AF34 -> -150928 | AG21: -150928 | AH21: -207055.6 | AI21: -207055.6 | AJ21: -639051 | AK21: =AJ21 -> -639051 | AL21: =DRE!AL21+'DRE Ex Ifrs'!AL34 -> -181219 | AM21: =AL21+AM35 -> -84364 | AN21: =DRE!AN21+'DRE Ex Ifrs'!AN34 -> -186188 | AO21: =DRE!AO21+'DRE Ex Ifrs'!AO34 -> -186188 | AP21: =DRE!AP21+'DRE Ex Ifrs'!AP34 -> -203656 | AQ21: =DRE!AQ21+'DRE Ex Ifrs'!AQ34 -> -300099 | AR21: =DRE!AR21+'DRE Ex Ifrs'!AR34 -> -208770 | AS21: =DRE!AS21+'DRE Ex Ifrs'!AS34 -> -230090
B22: Total | C22: =SUM(C20:C21) -> -124704 | D22: =SUM(D20:D21) -> -120403 | E22: =SUM(E20:E21) -> -43488 | F22: =SUM(F20:F21) -> -15471.583 | G22: =SUM(G20:G21) -> -21028.417 | H22: =SUM(H20:H21) -> -79988 | I22: =SUM(I20:I21) -> -30952.304 | J22: =SUM(J20:J21) -> -33447.696 | ... AJ22: =SUM(AJ20:AJ21) -> -371743 | AK22: =AJ22 -> -371743 | AL22: =SUM(AL20:AL21) -> -111863 | AM22: =SUM(AM20:AM21) -> -15008 | AN22: =SUM(AN20:AN21) -> -127434 | AO22: =SUM(AO20:AO21) -> -127434 | AP22: =SUM(AP20:AP21) -> -116568 | AQ22: =SUM(AQ20:AQ21) -> -203338 | AR22: =SUM(AR20:AR21) -> -120875 | AS22: =SUM(AS20:AS21) -> -139315
B24: Lucro antes do imposto de renda e contribuição social | C24: =SUM(C17,C22) -> 197981.63 | D24: =SUM(D17,D22) -> 328793 | E24: =SUM(E17,E22) -> 222960 | F24: =SUM(F17,F22) -> 166309.34 | G24: =SUM(G17,G22) -> 73189.202 | H24: =SUM(H17,H22) -> 377387 | I24: =SUM(I17,I22) -> 125399.97 | J24: =SUM(J17,J22) -> 234878.8 | ... L24: =SUM(L17,L22) -> 215998 | M24: =M22+M17 -> 717237.16 | N24: =N22+N17 -> 770549.15 | O24: =O22+O17 -> 156219.15 | P24: =P22+P17 -> 188911.35 | Q24: =Q22+Q17 -> 221265.02 | R24: =R22+R17 -> 231623.62 | S24: =S22+S17 -> 798019 | T24: =T22+T17 -> 201380.28 | ... AF24: =AF22+AF17 -> 453459 | AG24: =SUM(AG17,AG22) -> 417233 | AH24: =SUM(AH17,AH22) -> 469292.9 | AI24: =SUM(AI17,AI22) -> 371154.9 | AJ24: =SUM(AJ17,AJ22) -> 1534362.9 | AK24: =SUM(AK17,AK22) -> 1440028.9 | AL24: =SUM(AL17,AL22) -> 382428 | AM24: =SUM(AM17,AM22) -> 415270 | AN24: =SUM(AN17,AN22) -> 404974 | ... AS24: =SUM(AS17,AS22) -> 282826
B26: Imposto de renda e contribuição social - corrente | C26: -5807 | D26: -5135 | E26: 0 | F26: -2988.3794 | G26: -3571.6206 | H26: -6560 | I26: 0 | J26: 0 | K26: -6948 | L26: 5004 | M26: -1943.4445 | N26: -1943.4445 | O26: 0 | P26: 0 | Q26: 0 | R26: -18759 | S26: -18759 | T26: -1524.4414 | U26: -3374 | V26: -6525 | W26: -12096 | X26: -23519 | Y26: -541 | Z26: -16241 | AA26: -383 | AB26: -25485 | AC26: -42650 | AD26: -95216.245 | AE26: -138067.3 | AF26: -160103.26 | AG26: -124370 | AH26: 82526.805 | AI26: -11818 | AJ26: -310860 | AK26: =AJ26 -> -310860 | AL26: -150026 | AM26: =AL26 -> -150026 | AN26: -129023 | AO26: =DRE!AO26 -> -10341 | AP26: 300127 | AQ26: 106038 | AR26: =DRE!AR26 -> -13946 | AS26: =DRE!AS26 -> -14247
B27: Imposto de renda e contribuição social - diferido | C27: 638 | D27: 1687 | E27: 0 | F27: 0 | G27: -8946 | H27: -8946 | I27: 0 | J27: 0 | K27: 5704 | L27: -2031 | M27: 3672.9891 | N27: 3672.9891 | O27: 0 | P27: 0 | Q27: 0 | R27: 0 | S27: 0 | T27: 0 | U27: 0 | V27: 0 | W27: 0 | X27: 0 | Y27: 0 | Z27: 0 | AA27: 0 | AB27: 0 | AD27: 62848 | AE27: 134676.56 | AF27: 100110.58 | AG27: 76694 | AH27: -170747.14 | AI27: -43036 | AJ27: 126888 | AK27: =AJ27 -> 126888 | AL27: 105197 | AM27: =AL27 -> 105197 | AN27: 95452 | AO27: =DRE!AO27 -> -47225 | AP27: 93938 | AQ27: 90221 | AR27: =DRE!AR27 -> 42410 | AS27: =DRE!AS27 -> -426
B28: Total | C28: -5169 | D28: -3448 | E28: 0 | F28: =SUM(F26:F27) -> -2988.3794 | G28: =SUM(G26:G27) -> -12517.621 | H28: -15506 | I28: 0 | J28: 0 | K28: -1244 | L28: 2973 | M28: =SUM(M26:M27) -> 1729.5446 | N28: =SUM(N26:N27) -> 1729.5446 | O28: 0 | P28: 0 | Q28: 0 | R28: =SUM(R26:R27) -> -18759 | S28: =SUM(S26:S27) -> -18759 | T28: -1524.4414 | U28: -3374 | V28: -6525 | W28: =SUM(W26:W27) -> -12096 | X28: =SUM(X26:X27) -> -23519 | Y28: =SUM(Y26:Y27) -> -541 | Z28: =SUM(Z26:Z27) -> -16241 | AA28: -383 | AB28: =SUM(AB26:AB27) -> -25485 | AC28: =SUM(AC26:AC27) -> -42650 | AD28: =SUM(AD26:AD27) -> -32368.245 | AE28: =SUM(AE26:AE27) -> -3390.74 | AF28: =SUM(AF26:AF27) -> -59992.68 | AG28: =SUM(AG26:AG27) -> -47676 | AH28: =SUM(AH26:AH27) -> -88220.335 | AI28: =SUM(AI26:AI27) -> -54854 | ... AS28: =SUM(AS26:AS27) -> -14673
B30: Lucro líquido combinado do período | C30: =SUM(C24,C28) -> 192812.63 | D30: =SUM(D24,D28) -> 325345 | E30: =SUM(E24,E28) -> 222960 | F30: =SUM(F24,F28) -> 163320.96 | G30: =SUM(G24,G28) -> 60671.581 | H30: =SUM(H24,H28) -> 361881 | I30: =SUM(I24,I28) -> 125399.97 | J30: =SUM(J24,J28) -> 234878.8 | ... V30: =SUM(V24,V28) -> 300244 | W30: =W28+W24 -> 318321.78 | X30: =SUM(X24,X28) -> 1091281 | Y30: =SUM(Y24,Y28) -> 249722.67 | Z30: =SUM(Z24,Z28) -> 298912.44 | AA30: =SUM(AA24,AA28) -> 321571.56 | AB30: =SUM(AB24,AB28) -> 400003.45 | AC30: =SUM(AC24,AC28) -> 1270209.1 | AD30: =SUM(AD24,AD28) -> 241664.78 | AE30: =SUM(AE24,AE28) -> 334188.21 | ... AS30: =SUM(AS24,AS28) -> 268153
B32: Depreciação | C32: 77837 | D32: 80683 | E32: 45933 | F32: 14513 | G32: 24402 | H32: 84848 | I32: 22718 | J32: 24931 | K32: 33748 | L32: 27495 | M32: 108892 | N32: 117386 | O32: 37608 | P32: 44295 | Q32: 51000 | R32: 48048 | S32: 180951 | T32: 48188 | U32: 57144 | V32: 55727 | W32: 58720 | X32: 219779 | Y32: 63128 | Z32: 61086 | AA32: 59994 | AB32: 24736 | AC32: 208944 | AD32: 61651 | AE32: 49812 | AF32: 54035 | AG32: 54035 | AH32: 45106 | AI32: 45106 | AJ32: 210604 | AK32: =AJ32 -> 210604 | AL32: 58799 | AM32: =DRE!AM32 -> 58799 | AN32: 60696 | AO32: 60696 | AP32: 92906 | AQ32: 99632 | AR32: =DRE!AR32 -> 90048 | AS32: =DRE!AS32 -> 101359
B33: Depreciação de arrendamento | C33: 0 | D33: 0 | E33: 28585 | F33: 16597 | G33: 16057 | H33: 61239 | I33: 16845 | J33: 28857 | K33: 9179 | L33: 16191 | M33: 71072 | N33: 74636 | O33: 20121 | P33: 19438 | Q33: 20918 | R33: 19017 | S33: 79494 | T33: 24007 | U33: 26586 | V33: 28493 | W33: 30302 | X33: 109388 | Y33: 34873 | Z33: 31059 | AA33: 38534 | AB33: 39982 | AC33: 144448 | AD33: 42920 | AE33: 35497 | AF33: 41459 | AG33: 41459 | AH33: 46266 | AI33: 46266 | AJ33: 166142 | AK33: =AJ33 -> 166142 | AL33: 46495 | AM33: =DRE!AM33 -> 46495 | AN33: 52397 | AO33: 52397 | AP33: 69259 | AQ33: 59412 | AR33: =DRE!AR33 -> 68402 | AS33: =DRE!AS33 -> 76331
B34: Despesa Financeira de arrendamento | C34: 0 | D34: 0 | E34: 10787 | F34: 3565 | G34: 5614 | H34: 19966 | I34: 6731 | J34: 10670 | K34: 6046 | L34: 9356 | M34: 32803 | N34: 32803 | O34: 9862 | P34: 11161 | Q34: 20776 | R34: 19908 | S34: 61707 | T34: 15643 | U34: 25884 | V34: 31271 | W34: 32003 | X34: 104801 | Y34: 33876 | Z34: 38493.442 | AA34: 45535.558 | AB34: 51083 | AC34: 168988 | AD34: 52406 | AE34: 52037 | AF34: 57862 | AG34: 57862 | AH34: 37900 | AI34: 37900 | AJ34: 200205 | AK34: =AJ34 -> 200205 | AL34: 69390 | AM34: =DRE!AM34 -> 69390 | AN34: 81621 | AO34: 81621 | AP34: 101981 | AQ34: 103425 | AR34: =DRE!AR34 -> 101261 | AS34: =DRE!AS34 -> 107983
B35: Pagamento de passivo de arrendamento | C35: 0 | D35: 0 | H35: =-'Fluxo de Caixa'!C62 -> 85072 | M35: =-'Fluxo de Caixa'!D62 -> 111178 | N35: =-'Fluxo de Caixa'!D62 -> 111178 | O35: =-'Fluxo de Caixa'!E62 -> 30485 | P35: =-'Fluxo de Caixa'!F62-O35 -> 32251 | Q35: =-'Fluxo de Caixa'!G62-P35-O35 -> 33852.983 | R35: =-'Fluxo de Caixa'!H62-Q35-P35-O35 -> 34143.017 | S35: =SUM(O35:R35) -> 130732 | T35: =-'Fluxo de Caixa'!I62 -> 39006 | U35: =-'Fluxo de Caixa'!J62-T35 -> 43734 | V35: =-'Fluxo de Caixa'!K62-U35-T35 -> 50391 | W35: =-'Fluxo de Caixa'!L62-V35-U35-T35 -> 54572 | X35: =SUM(T35:W35) -> 187703 | Y35: =-'Fluxo de Caixa'!M62 -> 58718 | Z35: =-'Fluxo de Caixa'!N62-Y35 -> 63873 | AA35: =-'Fluxo de Caixa'!O62-Z35-Y35 -> 76095 | AB35: =-'Fluxo de Caixa'!P62-AA35-Z35-Y35 -> 79179 | AC35: =SUM(Y35:AB35) -> 277865 | AD35: =-'Fluxo de Caixa'!Q62 -> 94039 | AE35: =-'Fluxo de Caixa'!R62-AD35 -> 80690 | AF35: =-'Fluxo de Caixa'!S62-AE35-AD35 -> 85025 | AG35: =AF35 -> 85025 | AH35: 91097 | AI35: =AH35 -> 91097 | AJ35: 350851 | AK35: 350851 | AL35: =-'Fluxo de Caixa'!U62 -> 96855 | AM35: =-'Fluxo de Caixa'!U62 -> 96855 | AN35: =-'Fluxo de Caixa'!V62-AL35 -> 111814 | AO35: 111814 | AP35: 139961 | AQ35: 143774 | AR35: =-'Fluxo de Caixa'!Y62 -> 143204 | AS35: =-'Fluxo de Caixa'!Z62 -> 158107
B37: EBITDA | C37: =C17+C32 -> 400522.63 | D37: =D17+D32 -> 529879 | E37: =E17+E32 -> 312381 | F37: =F17+F32 -> 196293.93 | G37: =G17+G32 -> 118619.62 | H37: =H17+H32 -> 542223 | I37: =I17+I32 -> 179070.27 | J37: =J17+J32 -> 293257.5 | ... AS37: =AS17+AS32 -> 523500
B38: Margem EBITDA | C38: =C37/C6 -> 0.069020045 | D38: =D37/D6 -> 0.076623255 | E38: =E37/E6 -> 0.078478086 | F38: =F37/F6 -> 0.083413788 | G38: =G37/$G$6 -> 0.049997615 | H38: =H37/H6 -> 0.062279756 | I38: =I37/I6 -> 0.074325087 | J38: =J37/J6 -> 0.10150819 | K38: =K37/K6 -> 0.09208328 | L38: =L37/L6 -> 0.071079496 | M38: =M37/M6 -> 0.075701323 | N38: =N37/N6 -> 0.080686867 | O38: =O37/O6 -> 0.062084305 | ... AS38: =AS37/AS6 -> 0.053133933
B40: ¹ Baseada na receita líquida reconciliada por impostos intercompany
B41: ² Ajustado, desconsiderando as despesas não recorrentes do IPO

Sheet Fluxo de Caixa
B4: Em R$ mil | C4: 2019 | D4: 2020 | E4: Mar. 21 | F4: Jun. 21 | G4: Set.21 | H4: Dez.21 | I4: Mar. 22 | J4: Jun.22 | K4: Set.22 | L4: Dez.22 | M4: Mar. 23 | N4: Jun. 23 | O4: Set. 23 | P4: Dez. 23 | Q4: Mar. 24 | R4: Jun. 24 | S4: Set. 24 | T4: Dez. 24 Reap. | U4: Mar. 25 Reap. | V4: Reap. Jun. 25 | W4: Set. 25 | X4: Dez. 25 | Y4: Mar. 26 | Z4: Jun. 26
B5: Lucro antes do Imposto de renda e contribuição social | C5: 381253 | D5: 724539 | E5: 156719.51 | F5: 347285.21 | G5: 560709 | H5: 787550 | I5: 200738 | J5: 468231 | K5: 765627 | L5: 1088314 | M5: 240233 | N5: 549706 | O5: 863686 | P5: 1277288 | Q5: 272745 | R5: 603480 | S5: 1042643 | T5: 1424532 | U5: 299385 | V5: 752728 | W5: 1198676 | X5: 1345369 | Y5: 162458 | Z5: 256619
B7: Ajuste para a reconciliação do lucro antes dos impostos com o caixa líquido
B8: gerado pelas atividades operacionais:
B9: Depreciação e amortização | C9: 149963 | D9: 117386 | E9: 58545 | F9: 122982 | G9: 193380 | H9: 264958 | I9: 72195 | J9: 155925 | K9: 240145 | L9: 329168 | M9: 98000 | N9: 190146 | O9: 288674 | P9: 353392 | Q9: 104571 | R9: 189880 | S9: 285374 | T9: 376746 | U9: 105294 | V9: 218387 | W9: 380552 | X9: 539596 | Y9: 158449 | Z9: 177690
B10: Atualização passivos de arrendamento | C10: 19966 | D10: 32804 | E10: 9862 | F10: 21023 | G10: 38612 | H10: 57476 | I10: 22075 | J10: 48298 | K10: 81603 | L10: 114597 | M10: 24562 | N10: 66308 | O10: 118092 | P10: 169611 | Q10: 63852 | R10: 123264 | S10: 181129 | T10: 219494 | U10: 89102 | V10: 165386 | W10: 262751 | X10: 365627 | Y10: 98378 | Z10: 108012
B11: Provisão para obsolescência e quebras | C11: 3230 | D11: -2813 | E11: -1 | F11: -2.46047 | G11: -2 | H11: 1085 | I11: 614 | J11: 1272 | K11: 205 | L11: 16790 | M11: 476 | N11: 4902 | O11: 10982 | P11: 10490 | Q11: -704 | R11: 1550 | S11: -508 | T11: -128 | U11: 1097 | V11: 1917 | W11: 44511 | X11: 56577 | Y11: 3641 | Z11: 1328
B12: Atualização monetária de arrendamentos | C12: 0 | D12: 0 | E12: 6698 | F12: 7732 | G12: 41343 | H12: 41036 | I12: -22 | J12: -1604 | K12: -2800 | L12: -4993 | M12: 9210 | N12: 5916 | O12: -305 | P12: -2338 | Q12: -5090 | R12: -11212 | S12: -11260 | T12: -11432 | U12: 0 | V12: 0 | W12: 0 | X12: 0 | Y12: - | Z12: -
B13: Provisão para crédito de liquidação duvidosa | C13: 860 | D13: 17471 | E13: 538.08241 | F13: 2968.1782 | G13: 5361 | H13: 8337 | I13: 0 | J13: 7262 | K13: 11358 | L13: 14825 | M13: 4613 | N13: 8345 | O13: 15166 | P13: 21194 | Q13: 8175 | R13: 15224 | S13: 24498 | T13: 54822 | U13: 15136 | V13: 23459 | W13: 22958 | X13: 31268 | Y13: 31973 | Z13: 18165
B14: Juros sobre empréstimos, financiamento e debêntures provisionados | C14: 57280 | D14: 49441 | E14: 8334 | F14: 13131 | G14: 22226 | H14: 38143 | I14: 12317 | J14: 29149 | K14: 76442 | L14: 169480 | M14: 41862 | N14: 109699 | O14: 153307 | P14: 200365 | Q14: 54592 | R14: 108800 | S14: 161551 | T14: 211795 | U14: 84818 | V14: 163707 | W14: 263744 | X14: 437668 | Y14: 111242 | Z14: 110525
B15: Resultado na baixa de imobilizado e direito de uso | C15: 1102 | D15: 2924 | E15: 320.58997 | F15: 1879 | G15: 2055 | H15: 10123 | I15: 0 | J15: 75542 | K15: 651 | L15: 3962 | M15: 1537 | N15: 1804 | O15: 2019 | P15: 7239 | Q15: -171 | R15: 7716 | S15: 632 | T15: 1133 | U15: -3910 | V15: -4809 | W15: -5454 | X15: -18908 | Y15: -11936 | Z15: -6522
B16: Provisão para riscos | C16: 12166 | D16: 2120 | E16: -1638.5258 | F16: -2457.5287 | G16: -2922 | H16: -2021 | I16: 458 | J16: -1499 | K16: -2911 | L16: 12859 | M16: -2009 | N16: 27623 | O16: 29872 | P16: 31775 | Q16: -1207 | R16: 1924 | S16: 4212 | T16: 245317 | U16: 83975 | V16: 169970 | W16: -126189 | X16: -210540 | Y16: 18395 | Z16: 7314
B17: Outras provisões | C17: 0 | D17: 0 | E17: 0 | F17: 0 | G17: 0 | H17: 643 | I17: 0 | J17: 0 | K17: 0 | L17: 0 | M17: 0 | N17: 0 | O17: 0 | P17: 0 | Q17: 0 | R17: 0 | S17: 0 | T17: 0 | U17: 0 | V17: 0 | W17: 0 | X17: 0 | Y17: - | Z17: -
B19: Recursos das Operações | C19: =SUM(C5:C17) -> 625820 | D19: =SUM(D5:D17) -> 943872 | E19: =SUM(E5:E17) -> 239377.66 | F19: =SUM(F5:F17) -> 514540.4 | G19: =SUM(G5:G17) -> 860762 | H19: =SUM(H5:H17) -> 1207330 | I19: =SUM(I5:I17) -> 308375 | J19: =SUM(J5:J17) -> 782576 | ... Z19: =SUM(Z5:Z17) -> 673131
B21: Aumento (redução) nos ativos operacionais:
B22: Contas a receber | C22: 2379 | D22: -518764 | E22: 27086 | F22: -160052 | G22: -244217 | H22: -519143 | I22: -56561 | J22: -271074.45 | K22: -572442 | L22: -746817.31 | M22: 158600.31 | N22: -42755.689 | O22: -335508.69 | P22: -924319 | Q22: 363936 | R22: 260947 | S22: -76565 | T22: 3676 | U22: -266855 | V22: -245809 | W22: -412910 | X22: -538032 | Y22: 35810 | Z22: 35625
B23: Estoques | C23: -98554 | D23: -1096477 | E23: -19941.139 | F23: -208958 | G23: -874771 | H23: -882182 | I23: -305435 | J23: -497636 | K23: -1167768 | L23: -503535 | M23: -451403 | N23: -713475 | O23: -965082 | P23: -1112770 | Q23: 131017 | R23: -207952 | S23: -875244 | T23: -865211 | U23: -304480 | V23: -189519 | W23: -312234 | X23: 235925 | Y23: -54812 | Z23: -516115
B24: Tributos a recuperar | C24: -16931 | D24: -77200 | E24: -12550.177 | F24: -20450 | G24: -42420 | H24: -40505 | I24: -19813 | J24: -25186 | K24: -59383 | L24: -342901 | M24: -20797 | N24: -81499 | O24: -23833 | P24: -70010 | Q24: -36505 | R24: -100529 | S24: -94490 | T24: -93332 | U24: -72359 | V24: -287799 | W24: -619275 | X24: -726446 | Y24: -10662 | Z24: -71097
B25: Depósitos judiciais | C25: -1919 | D25: -2845 | E25: -391.54623 | F25: -564 | G25: -1143 | H25: -1583 | I25: -140 | J25: -1500 | K25: -3162 | L25: -4468 | M25: -1511 | N25: -3686 | O25: -5492 | P25: -6628 | Q25: -3168 | R25: -1332 | S25: -2132 | T25: -3201 | U25: 917 | V25: 6355 | W25: 5572 | X25: 12015 | Y25: 555 | Z25: 583
B26: Outros ativos | C26: 10782 | D26: 2300 | E26: -3325.7352 | F26: -36929 | G26: -129865 | H26: -31161 | I26: -16494 | J26: -21913 | K26: -40042 | L26: -92505 | M26: -55239 | N26: -82955 | O26: -84553 | P26: -66864 | Q26: -55414 | R26: -88424 | S26: -139654 | T26: -144164 | U26: -43050 | V26: -100449 | W26: -112984 | X26: -157864 | Y26: -69507 | Z26: -47813
B28: Aumento (redução) nos passivos operacionais:
B29: Fornecedores | C29: -149829 | D29: 391061 | E29: -226624.11 | F29: 97186 | G29: 97999 | H29: 111981 | I29: 203512 | J29: 560611 | K29: 379558 | L29: 951989 | M29: 189674 | N29: 175163 | O29: 299502 | P29: 1030632 | Q29: -415823 | R29: -251303 | S29: -80285 | T29: 39363 | U29: 676608 | V29: 279208 | W29: 304804 | X29: 601623 | Y29: 204822 | Z29: 115861
B30: Obrigações trabalhistas e tributárias | C30: 35270 | D30: 78726 | E30: -3041.2377 | F30: 36776 | G30: 77285 | H30: 48102 | I30: 7066 | J30: 47052 | K30: 113483 | L30: 110175 | M30: -8722 | N30: 88585 | O30: 125566 | P30: 173694 | Q30: 111242 | R30: 211070 | S30: 267296 | T30: -27188 | U30: -73450 | V30: -188498 | W30: 194586 | X30: 341218 | Y30: -63585 | Z30: 13850
B31: Tributos parcelados | C31: -1278 | D31: 23862 | E31: 15199.331 | F31: 13456 | G31: 68614 | H31: 32791 | I31: -14940 | J31: -21690 | K31: -29078 | L31: -31953 | M31: -2687 | N31: -1895 | O31: -1814 | P31: -1116 | Q31: -957 | R31: 1476 | S31: 7594 | T31: 8436 | U31: 22388 | V31: 15095 | W31: 59334 | X31: 48920 | Y31: -17245 | Z31: -11695
B32: Outros passivos | C32: -5950 | D32: -10931 | E32: 5114.7638 | F32: 4237 | G32: 3319 | H32: -303 | I32: 3551 | J32: 97609 | K32: 49819 | L32: 21309 | M32: -4715 | N32: 11171 | O32: 20121 | P32: 48560 | Q32: 18915 | R32: 62457 | S32: 95957 | T32: 283731 | U32: -13925 | V32: 12746 | W32: -15347 | X32: 27818 | Y32: 148297 | Z32: -56224
B33: Impostos pagos de juros sobre capital próprio | C33: 0 | D33: 0 | E33: 0 | F33: 0 | G33: 0 | H33: 0 | I33: 0 | J33: 0 | K33: 0 | L33: 0 | M33: 0 | N33: 0 | O33: 0 | P33: 0 | Q33: -13008 | R33: -31228 | S33: -44918 | T33: -58005 | U33: 0 | V33: -18379 | W33: -18379 | X33: -18379 | Y33: - | Z33: -
B34: Impostos pagos | C34: -6560 | D34: -1943 | E34: 0 | F34: 0 | G34: 0 | H34: -18759 | I34: -1524 | J34: -4898 | K34: -11423 | L34: -23519 | M34: -541 | N34: -16782 | O34: -17165 | P34: -42650 | Q34: -74468 | R34: -26335 | S34: -26335 | T34: -26335 | U34: -72028 | V34: -140701 | W34: -186556 | X34: -306705 | Y34: -21417 | Z34: -38686
B35: Caixa líquido gerado pelas atividades operacionais | C35: =SUM(C19:C34) -> 393230 | D35: =SUM(D19:D34) -> -268339 | E35: =SUM(E19:E34) -> 20903.807 | F35: =SUM(F19:F34) -> 239242.4 | G35: =SUM(G19:G34) -> -184437 | H35: =SUM(H19:H34) -> -93432 | I35: =SUM(I19:I34) -> 107597 | J35: =SUM(J19:J34) -> 643950.55 | ... Z35: =SUM(Z19:Z34) -> 97420
B37: Juros pagos | C37: -36588 | D37: -43245 | E37: -2180 | F37: -4177 | G37: -6165 | H37: -10828 | I37: -2864 | J37: -6824 | K37: -36278 | L37: -74402 | M37: -41944 | N37: -82735 | O37: -122844 | P37: -143167 | Q37: -46799 | R37: -77181 | S37: -111909 | T37: -179053 | U37: -43718 | V37: -55506 | W37: -98204 | X37: -107117 | Y37: -55312 | Z37: -44665
B38: Caixa líquido gerado pelas atividades operacionais | C38: 356642 | D38: -311586 | E38: 18723.807 | F38: 235065.4 | G38: -190602 | H38: -104260 | I38: 104733 | J38: 637126.55 | K38: -206396 | L38: 1008374.7 | M38: 179199.31 | N38: 213585.31 | O38: =SUM(O35,O37) -> 370390.31 | P38: =SUM(P35,P37) -> 954378 | Q38: =SUM(Q35,Q37) -> 475731 | R38: =SUM(R35,R37) -> 792292 | S38: =SUM(S35,S37) -> 607586 | T38: =SUM(T35,T37) -> 1460996 | U38: =SUM(U35,U37) -> 484945 | V38: =SUM(V35,V37) -> 577489 | ... Z38: =SUM(Z35,Z37) -> 52755
B40: Fluxo de caixa das atividades de investimento
B41: Aquisição de imobilizado | C41: -215729 | D41: -600985 | E41: -287750.11 | F41: -552613 | G41: -800704 | H41: -1432460 | I41: -324135 | J41: -552686 | K41: -726033 | L41: -867000 | M41: -226810 | N41: -481508 | O41: -852701 | P41: -1180292 | Q41: -339113 | R41: -648042 | S41: -887726 | T41: -1236926 | U41: -352078 | V41: -600742 | W41: -879361 | X41: -1115397 | Y41: -198720 | Z41: -158065
B42: Venda de imobilizado | C42: 0 | D42: 0 | E42: 0 | F42: 0 | G42: 0 | H42: 0 | I42: 0 | J42: 0 | K42: 127474 | L42: 266220 | M42: 14167 | N42: 39667 | O42: 124367 | P42: 155182 | Q42: 3714 | R42: 15587 | S42: 27669 | T42: 158512 | U42: 35094 | V42: 45981 | W42: 145638 | X42: 121690 | Y42: 73481 | Z42: 28207
B43: Integralização de capital - Investidas | C43: 0 | D43: 0 | E43: 0 | F43: 0 | G43: 0 | H43: 0 | I43: 0 | J43: 0 | K43: 0 | L43: 0 | M43: 0 | N43: 0 | O43: 0 | P43: -19238 | Q43: -23930 | R43: -23926 | S43: -23906 | T43: -23906 | U43: -12700 | V43: -10665 | W43: -12700 | X43: -12700 | Y43: - | Z43: -
B44: Aquisição de intangível | C44: 0 | D44: 0 | E44: -2840 | F44: -2840 | G44: -2840 | H44: -2840 | I44: 0 | J44: 0 | K44: 0 | L44: -2159 | M44: -7523 | N44: -22462 | O44: -28274 | P44: -32331 | Q44: -6473 | R44: -11543 | S44: -16361 | T44: -31726 | U44: -3769 | V44: -10699 | W44: -44992 | X44: -29740 | Y44: -20889 | Z44: -4158
B45: Ajuste de método de avaliação patrimonial em controlada indireta | C45: 0 | D45: 0 | E45: 0 | F45: 0 | G45: 0 | H45: 0 | I45: 0 | J45: 0 | K45: 0 | L45: 0 | M45: 0 | N45: 0 | O45: 0 | P45: 0 | Q45: 0 | R45: 0 | S45: 0 | T45: 0 | U45: 0 | V45: 0 | W45: 0 | X45: -35284 | Y45: - | Z45: -
B46: Adiantamento para aquisição de investimento | C46: 0 | D46: 0 | E46: 0 | F46: 0 | G46: 0 | H46: 0 | I46: 0 | J46: 0 | K46: 0 | L46: 0 | M46: 0 | N46: 0 | O46: 0 | P46: 0 | Q46: 0 | R46: 0 | S46: 0 | T46: 0 | U46: 0 | V46: -129108 | W46: -129108 | X46: 0 | Y46: - | Z46: -
B47: Caixa líquido adquirido na aquisição de investimento | C47: 0 | D47: 0 | E47: 0 | F47: 0 | G47: 0 | H47: 0 | I47: 0 | J47: 0 | K47: 0 | L47: 0 | M47: 0 | N47: 0 | O47: 0 | P47: 0 | Q47: 0 | R47: 0 | S47: 0 | T47: 0 | U47: 0 | V47: 0 | W47: 193136 | X47: 193136 | Y47: - | Z47: -
B48: Aplicação em títulos e valores mobiliários | C48: 6575 | D48: -357 | E48: 13605 | F48: 13608 | G48: 13627.467 | H48: 11894 | I48: 701 | J48: 1784 | K48: 1256 | L48: 1563 | M48: 304 | N48: -173 | O48: 684 | P48: 626 | Q48: 618 | R48: 551 | S48: 770 | T48: 836 | U48: 0 | V48: 0 | W48: 0 | X48: 0 | Y48: - | Z48: -
B49: Caixa líquido aplicado nas atividades de investimento | C49: -209154 | D49: -601342 | E49: -276985.11 | F49: -541845 | G49: -789916.53 | H49: -1423406 | I49: -323434 | J49: -550902 | K49: -597303 | L49: -601376 | M49: -219862 | N49: -464476 | O49: =SUM(O41:O48) -> -755924 | P49: =SUM(P41:P48) -> -1076053 | Q49: =SUM(Q41:Q48) -> -365184 | R49: =SUM(R41:R48) -> -667373 | S49: =SUM(S41:S48) -> -899554 | T49: =SUM(T41:T48) -> -1133210 | U49: =SUM(U41:U48) -> -333453 | V49: =SUM(V41:V48) -> -705233 | ... Z49: =SUM(Z41:Z48) -> -134016
...

Sheet Nº de lojas
B4: Segmento | C4: 2017 | D4: 2018 | E4: 1T 19 | F4: 2T 19 | G4: 3T 19 | H4: 4T 19 | I4: 1T 20 | J4: 2T 20 | K4: 3T 20 | L4: 4T 20 | M4: 1T 21 | N4: 2T 21 | O4: 3T 21 | P4: 4T 21 | Q4: 1T 22 | R4: 2T 22 | S4: 3T 22 | T4: 4T 22 | U4: 1T 23 | V4: 2T 23 | W4: 3T 23 | X4: 4T 23 | Y4: 1T 24 | Z4: 2T 24 | AA4: 3T 24 | AB4: 4T 24 | AC4: 1T 25 | AD4: 2T 25 | AE4: 3T 25 | AF4: 4T 25 | AG4: 1T 26 | AH4: 2T 26
B5: Varejo | C5: 27 | D5: 33 | E5: 33 | F5: 33 | G5: 35 | H5: 39 | I5: 40 | J5: 41 | K5: 44 | L5: 49 | M5: 55 | N5: 56 | O5: 57 | P5: 61 | Q5: 68 | R5: 69 | S5: 70 | T5: 70 | U5: 70 | V5: 71 | W5: 72 | X5: 73 | Y5: 73 | Z5: 76 | AA5: 76 | AB5: 78 | AC5: 80 | AD5: 80 | AE5: 81 | AF5: 85 | AG5: 86 | AH5: 90
B6: Super/Hiper | C6: 23 | D6: 23 | E6: 23 | F6: 23 | G6: 23 | H6: 25 | I6: 25 | J6: 25 | K6: 26 | L6: 29 | M6: 30 | N6: 31 | O6: 32 | P6: 34 | Q6: 34 | R6: 35 | S6: 36 | T6: 36 | U6: 36 | V6: 37 | W6: 38 | X6: 39 | Y6: 39 | Z6: 42 | AA6: 42 | AB6: 44 | AC6: 45 | AD6: 45 | AE6: 45 | AF6: 49 | AG6: =AG5-AG7 -> 50 | AH6: =AH5-AH7 -> 54
B7: Camiño | C7: 4 | D7: 10 | E7: 10 | F7: 10 | G7: 12 | H7: 14 | I7: 15 | J7: 16 | K7: 18 | L7: 20 | M7: 25 | N7: 25 | O7: 25 | P7: 27 | Q7: 34 | R7: 34 | S7: 34 | T7: 34 | U7: 34 | V7: 34 | W7: 34 | X7: 34 | Y7: 34 | Z7: 34 | AA7: 34 | AB7: 34 | AC7: 35 | AD7: 35 | AE7: 36 | AF7: 36 | AG7: 36 | AH7: 36
B8: Atacarejo e Food Service | C8: 14 | D8: 17 | E8: 20 | F8: 20 | G8: 20 | H8: 23 | I8: 26 | J8: 29 | K8: 30 | L8: 33 | M8: 35 | N8: 38 | O8: 40 | P8: 42 | Q8: 48 | R8: 50 | S8: 53 | T8: 58 | U8: 62 | V8: 64 | W8: 69 | X8: 80 | Y8: 82 | Z8: 84 | AA8: 88 | AB8: 90 | AC8: 92 | AD8: 96 | AE8: 98 | AF8: 102 | AG8: 105 | AH8: =144-51-5-11 -> 77
