Workbook

Sheet Capa
F3: Planilha de Dados Financeiros 2T26
D6: Planilhas 2T26 - Consolidado | J6: Planilhas Dados Históricos - Consolidado

Sheet BP Ativo
A3: PRINER SERVIÇOS INDUSTRIAIS S.A.
A5: Balanços patrimoniais individuais e consolidados
A6: Em 30 de junho de 2026 e 31 de dezembro de 2025
A7: (Em milhares de Reais)
A10: Ativo | D10: Controladora | H10: Consolidado
B11: Nota explicativa | D11: 46203 | F11: 46022 | H11: =D11 -> 46203 | J11: =F11 -> 46022
A13: Circulante
A14: Caixa e equivalentes de caixa | B14: 4 | D14: 189337 | F14: 207752 | H14: 301833 | J14: 343246
A15: Títulos e valores mobiliários | B15: 4 | D15: 11554 | F15: 11334 | H15: 11554 | J15: 11334
A16: Contas a receber - terceiros | B16: 5 | D16: 213700 | F16: 169688 | H16: 435138 | J16: 414199
A17: Contas a receber - partes relacionadas | B17: 16.3 | D17: 51263 | F17: 44692 | H17: 29441 | J17: 15198
A18: Dividendos a receber | B18: 16.3 | D18: 3191 | F18: 36615 | H18: =6000-6000 -> 0 | J18: =6000-6000 -> 0
A19: Estoques | D19: 697 | F19: 700 | H19: 18915 | J19: 8908
A20: Tributos a recuperar | B20: 6 | D20: 28749 | F20: 15020 | H20: 43262 | J20: 28171
A21: Instrumentos financeiros derivativos (Swap) | B21: 28 | D21: 13 | F21: 9564 | H21: 13 | J21: 9564
A22: Outros ativos circulantes | D22: 13186 | F22: 8657 | H22: 29893 | J22: =16150+200 -> 16350
D23: =SUM(D14:D22) -> 511690 | F23: =SUM(F14:F22) -> 504022 | H23: =SUM(H14:H22) -> 870049 | J23: =SUM(J14:J22) -> 846970
A26: Não circulante
A27: Títulos e valores mobiliários | B27: 4 | D27: 1317 | F27: 1317 | H27: 3010 | J27: 2928
A28: Contas a receber - terceiros | B28: 5 | D28: 5521 | F28: 5714 | H28: 5582 | J28: 5714
A29: Mútuo a receber - partes relacionadas | B29: 16.3 | D29: 12407 | F29: 26580 | H29: 0 | J29: 0
A30: Tributos diferidos | B30: 7.2 | D30: 103468 | F30: 98247 | H30: =86299-326 -> 85973 | J30: 82176
A31: Depósitos judiciais | B31: 8 | D31: 6330 | F31: 6086 | H31: 17732 | J31: 16856
A32: Outros ativos não circulantes | D32: 644 | F32: =241+394 -> 635 | H32: =1401+1 -> 1402 | J32: =695+818 -> 1513
A33: Investimentos | B33: 9 | D33: 720088 | F33: 706117 | H33: 474 | J33: 224
A34: Imobilizado e ativo de direito de uso | B34: 10 | D34: 78660 | F34: =70579+3925 -> 74504 | H34: 573125 | J34: =544205+27887 -> 572092
A35: Intangível | B35: 11 | D35: 31868 | F35: 33238 | H35: 345118 | J35: 362170
D36: =SUM(D27:D35) -> 960303 | F36: =SUM(F27:F35) -> 952438 | H36: =SUM(H27:H35) -> 1032416 | J36: =SUM(J27:J35) -> 1043673
A38: Total do ativo | D38: =D36+D23 -> 1471993 | F38: =F36+F23 -> 1456460 | H38: =H36+H23 -> 1902465 | J38: =J36+J23 -> 1890643
A42: As notas explicativas são parte integrante das informações contábeis intermediárias individuais e consolidadas.
D44: =D38-'BP Passivo'!D49 -> 0 | F44: =F38-'BP Passivo'!F49 -> 0 | H44: =H38-'BP Passivo'!H49 -> 0 | J44: =J38-'BP Passivo'!J49 -> 0

Sheet BP Passivo
A3: PRINER SERVIÇOS INDUSTRIAIS S.A.
A5: Balanços patrimoniais individuais e consolidados
A6: ='BP Ativo'!A6 -> Em 30 de junho de 2026 e 31 de dezembro de 2025
A7: (Em milhares de Reais)
A10: Passivo e patrimônio líquido | D10: Controladora | H10: Consolidado
B11: Nota explicativa | D11: 46203 | F11: 46022 | H11: =D11 -> 46203 | J11: =F11 -> 46022
A13: Circulante
A14: Fornecedores - terceiros | B14: 12 | D14: 14972 | F14: 12263 | H14: 56286 | J14: 59384
A15: Fornecedores - partes relacionadas | B15: 16.3 | D15: 4634 | F15: 22291 | H15: 3199 | J15: 2799
A16: Empréstimos, financiamentos e debêntures | B16: 13 | D16: 55778 | F16: =113734+9405 -> 123139 | H16: 141755 | J16: =193277+9405 -> 202682
A17: Instrumentos financeiros derivativos (Swap) | B17: 28 | D17: 8711 | F17: 2376 | H17: 8711 | J17: 2376
A18: Arrendamento a pagar - Direito de uso | B18: 14 | D18: 2461 | F18: 1495 | H18: 6904 | J18: 7485
A19: Salários e Encargos Sociais | B19: 15 | D19: 75614 | F19: 60478 | H19: 127529 | J19: 121016
A20: Tributos a Recolher | B20: 17 | D20: 9939 | F20: 5410 | H20: 17230 | J20: 18266
A21: Juros sobre capital próprio e dividendos a pagar | B21: 22.6 | D21: 0 | F21: 0 | H21: 15708 | J21: 41000
A22: Contas a pagar por aquisição societária | B22: 19 | D22: 68750 | F22: 83303 | H22: 68750 | J22: 83303
A23: Provisões | B23: 20 | D23: 14871 | F23: 16443 | H23: 21504 | J23: 26770
A24: Outros Passivos | D24: 1710 | F24: =585+6237 -> 6822 | H24: 2928 | J24: =8259+585 -> 8844
D25: =SUM(D14:D24) -> 257440 | F25: =SUM(F14:F24) -> 334020 | H25: =SUM(H14:H24) -> 470504 | J25: =SUM(J14:J24) -> 573925
A27: Não circulante
A28: Empréstimos, financiamentos e debêntures | B28: 13 | D28: 674598 | F28: =319624+198013 -> 517637 | H28: 796148 | J28: =409914+198013 -> 607927
A29: Arrendamento a pagar - Direito de uso | B29: 14 | D29: 3597 | F29: 2930 | H29: 21435 | J29: 23312
A30: Contas a pagar por aquisição societária | B30: 19 | D30: =50475 -> 50475 | F30: =112757 -> 112757 | H30: =50475 -> 50475 | J30: =112757 -> 112757
A31: Outras contas a pagar | B31: 19 | D31: =4562*0 -> 0 | F31: =4284*0 -> 0 | H31: =4562*0 -> 0 | J31: =4284*0 -> 0
A32: Provisão para riscos tributários, cíveis e trabalhistas | B32: 21 | D32: 7691 | F32: 6233 | H32: 10336 | J32: 8380
A33: Outros passivos não circulantes | D33: 20 | F33: 49 | H33: =319-1 -> 318 | J33: =176+1832 -> 2008
D34: =SUM(D28:D33) -> 736381 | F34: =SUM(F28:F33) -> 639606 | H34: =SUM(H28:H33) -> 878712 | J34: =SUM(J28:J33) -> 754384
A36: Patrimônio líquido
A37: Capital social | B37: 22 | D37: 471327 | F37: 468180 | H37: 471327 | J37: 468180
A38: Reserva de capital | B38: 22 | D38: 27113 | F38: 24910 | H38: 27113 | J38: 24910
A39: Reservas de lucros | B39: 22 | D39: =36289-11811 -> 24478 | F39: =36289-11811 -> 24478 | H39: =36289-11811 -> 24478 | J39: =36289-11811 -> 24478
A40: Efeitos em transação de capital | B40: 22 | D40: -65720 | F40: 0 | H40: -65720 | J40: 0
A41: Outros resultados abrangentes | D41: -34392 | F41: -34734 | H41: -34392 | J41: -34734
A42: Lucros acumulados do período | D42: 55366 | F42: 0 | H42: =D42 -> 55366 | J42: 0
A43: Patrimônio líquido atribuível aos proprietários da Controladora | D43: =SUM(D37:D42) -> 478172 | F43: =SUM(F37:F42) -> 482834 | H43: =SUM(H37:H42) -> 478172 | J43: =SUM(J37:J42) -> 482834
A45: Participações não controladores | B45: 22 | D45: 0 | F45: 0 | H45: 75077 | J45: 79500
A47: Patrimônio líquido total | D47: =D43+D45 -> 478172 | F47: =F43+F45 -> 482834 | H47: =H43+H45 -> 553249 | J47: =J43+J45 -> 562334
A49: Total do passivo e patrimônio líquido | D49: =D47+D34+D25 -> 1471993 | F49: =F47+F34+F25 -> 1456460 | H49: =H47+H34+H25 -> 1902465 | J49: =J47+J34+J25 -> 1890643
A51: ='BP Ativo'!A42 -> As notas explicativas são parte integrante das informações contábeis intermediárias individuais e consolidadas.
D53: =D49-'BP Ativo'!D38 -> 0 | F53: =F49-'BP Ativo'!F38 -> 0 | H53: =H49-'BP Ativo'!H38 -> 0 | J53: =J49-'BP Ativo'!J38 -> 0

Sheet DRE
A3: PRINER SERVIÇOS INDUSTRIAIS S.A.
A5: Demonstrações do resultado individuais e consolidadas
A6: Períodos findos em 30 de junho de 2026 e 2025
A7: (Em milhares de Reais, exceto quando indicado de outra forma)
D9: Controladora | I9: Consolidado
B10: Nota explicativa | D10: 46203 | F10: 45838 | I10: 46203 | K10: 45838
D11: Trimestre | E11: Acumulado | F11: Trimestre | G11: Acumulado | I11: Trimestre | J11: Acumulado | K11: Trimestre | L11: Acumulado
A13: Receita Operacional líquida | B13: 23 | D13: 226696 | E13: 414515 | F13: 137579 | G13: 258922 | I13: 462618 | J13: 883815 | K13: 361894 | L13: 730739
A14: Custo dos serviços prestados e produtos vendidos | B14: 24 | D14: -187380 | E14: -347277 | F14: -120041 | G14: -227944 | I14: -375171 | J14: -732347 | K14: -290091 | L14: -585095
A15: Lucro bruto | D15: =SUM(D13:D14) -> 39316 | E15: =SUM(E13:E14) -> 67238 | F15: =SUM(F13:F14) -> 17538 | G15: =SUM(G13:G14) -> 30978 | I15: =SUM(I13:I14) -> 87447 | J15: =SUM(J13:J14) -> 151468 | K15: =SUM(K13:K14) -> 71803 | L15: =SUM(L13:L14) -> 145644
A17: Outras receitas/Despesas operacionais
A18: Gerais e administrativas | B18: 24 | D18: -30380 | E18: 339 | F18: -27535 | G18: -47963 | I18: -52827 | J18: -44413 | K18: -50265 | L18: -102460
A19: Resultado de equivalência patrimonial | B19: 9 | D19: 11142 | E19: 17445 | F19: 18627 | G19: 36287 | I19: 0 | J19: 0 | K19: 0 | L19: 0
A20: Resultado operacional antes do resultado financeiro | D20: =SUM(D15:D19) -> 20078 | E20: =SUM(E15:E19) -> 85022 | F20: =SUM(F15:F19) -> 8630 | G20: =SUM(G15:G19) -> 19302 | I20: =SUM(I15:I19) -> 34620 | J20: =SUM(J15:J19) -> 107055 | K20: =SUM(K15:K19) -> 21538 | L20: =SUM(L15:L19) -> 43184
A22: Resultado financeiro
A23: Receitas financeiras | B23: 25 | D23: 10835 | E23: 29787 | F23: 10805 | G23: 16675 | I23: 13986 | J23: 36997 | K23: 13196 | L23: 21173
A24: Despesas financeiras | B24: 25 | D24: -38898 | E24: -68589 | F24: -31869 | G24: -53558 | I24: -49291 | J24: -89460 | K24: -33992 | L24: -57767
A25: Resultado antes do imposto de renda e da contribuição social | D25: =SUM(D20:D24) -> -7985 | E25: =SUM(E20:E24) -> 46220 | F25: =SUM(F20:F24) -> -12434 | G25: =SUM(G20:G24) -> -17581 | I25: =SUM(I20:I24) -> -685 | J25: =SUM(J20:J24) -> 54592 | K25: =SUM(K20:K24) -> 742 | L25: =SUM(L20:L24) -> 6590
A27: Tributos correntes | B27: 7 | D27: 0 | E27: 0 | F27: 0 | G27: 0 | I27: -6003 | J27: -14277 | K27: -6853 | L27: -18090
A28: Tributos diferidos | B28: 7 | D28: 6586 | E28: 9146 | F28: 10342 | G28: 17292 | I28: 5658 | J28: 11370 | K28: 6619 | L28: 16025
A29: Lucro (prejuízo) líquido do período | D29: =SUM(D25:D28) -> -1399 | E29: =SUM(E25:E28) -> 55366 | F29: =SUM(F25:F28) -> -2092 | G29: =SUM(G25:G28) -> -289 | I29: =SUM(I25:I28) -> -1030 | J29: =SUM(J25:J28) -> 51685 | K29: =SUM(K25:K28) -> 508 | L29: =SUM(L25:L28) -> 4525
A31: Resultado atribuível a:
A32: Acionistas da Companhia | D32: =D29 -> -1399 | E32: =E29 -> 55366 | F32: =F29 -> -2092 | G32: =G29 -> -289 | I32: =D32 -> -1399 | J32: =E32 -> 55366 | K32: =F32 -> -2092 | L32: =G32 -> -289
A33: Participações dos não controladores | D33: 0 | E33: 0 | F33: 0 | G33: 0 | I33: =I29-I32 -> 369 | J33: =J29-J32 -> -3681 | K33: =K29-K32 -> 2600 | L33: =L29-L32 -> 4814
A35: Lucro (prejuízo) líquido por lote de mil ações atribuível ao controlador - R$
A36: Básico | B36: 26 | D36: -24.6 | E36: 974.82 | F36: -44.79 | G36: -6.2
A37: Diluído | B37: 26 | D37: -23.84 | E37: 944.45 | F37: -43.45 | G37: -6.01
A39: As notas explicativas são parte integrante das informações contábeis intermediárias individuais e consolidadas.

Sheet DRA
A3: PRINER SERVIÇOS INDUSTRIAIS S.A.
A5: Demonstrações do resultado abrangente individuais e consolidadas
A6: Períodos findos em 30 de junho de 2026 e 2025
A7: (Em milhares de Reais)
B9: Controladora | G9: Consolidado
B10: 46203 | D10: 45838 | G10: =B10 -> 46203 | I10: =D10 -> 45838
B11: Trimestre | C11: Acumulado | D11: Trimestre | E11: Acumulado | G11: Trimestre | H11: Acumulado | I11: Trimestre | J11: Acumulado
A12: Lucro líquido (prejuízo) do exercício | B12: =DRE!D29 -> -1399 | C12: =DRE!E29 -> 55366 | D12: =DRE!F29 -> -2092 | E12: =DRE!G29 -> -289 | G12: =DRE!I29 -> -1030 | H12: =DRE!J29 -> 51685 | I12: =DRE!K29 -> 508 | J12: =DRE!L29 -> 4525
A14: Resultado de Hedge | B14: 68 | C14: 515 | D14: -3257 | E14: -3257 | G14: 68 | H14: 515 | I14: -3257 | J14: -3257
A15: Tributos s/ Hedge | B15: -22 | C15: -173 | D15: 1106 | E15: 1106 | G15: -22 | H15: -173 | I15: 1106 | J15: 1106
A17: Total do resultado abrangente | B17: =SUM(B12:B16) -> -1353 | C17: =SUM(C12:C16) -> 55708 | D17: =SUM(D12:D16) -> -4243 | E17: =SUM(E12:E16) -> -2440 | G17: =SUM(G12:G16) -> -984 | H17: =SUM(H12:H16) -> 52027 | I17: =SUM(I12:I16) -> -1643 | J17: =SUM(J12:J16) -> 2374
A19: Resultado atribuível a:
A20: Proprietários da Controladora | B20: =B17 -> -1353 | C20: =C17 -> 55708 | D20: =D17 -> -4243 | E20: =E17 -> -2440 | G20: =B20 -> -1353 | H20: =C20 -> 55708 | I20: =D20 -> -4243 | J20: =E20 -> -2440
A21: Participações não controladoras | B21: 0 | C21: 0 | D21: 0 | E21: 0 | G21: =G17-G20 -> 369 | H21: =H17-H20 -> -3681 | I21: =I17-I20 -> 2600 | J21: =J17-J20 -> 4814
A23: As notas explicativas são parte integrante das informações contábeis intermediárias individuais e consolidadas.

Sheet DMPL
A3: PRINER SERVIÇOS INDUSTRIAIS S.A.
A5: Demonstrações das mutações do patrimônio líquido individuais e consolidadas
A6: (Em milhares de Reais, exceto quando indicado de outra forma)
A8: Controladora e Consolidado
C9: Capital Social | I9: Reservas de Lucros
C10: Capital Social | E10: Gastos com emissão de ações | G10: Reserva de capital | I10: Legal | K10: Estatutária | M10: Lucros líquidos acumulados | O10: Efeitos em transações de capital | Q10: Outros resultados abrangentes | S10: Total atribuído aos controladores | U10: Participações não controladores | W10: Total
A11: Saldos em 31 de dezembro de 2024 | C11: 339562 | E11: -21278 | G11: 19790 | I11: 2930 | K11: 33359 | M11: 0 | O11: 0 | Q11: -33621 | S11: 340742 | U11: 13908 | W11: 354650
A13: Aporte de capital | C13: 0 | E13: 0 | G13: 0 | I13: 0 | K13: 0 | M13: 0 | O13: 0 | Q13: 0 | S13: =SUM(C13:Q13) -> 0 | U13: 0 | W13: =S13+U13 -> 0
A14: Gastos com emissão de ações | C14: 0 | E14: 0 | G14: 0 | I14: 0 | K14: 0 | M14: 0 | O14: 0 | Q14: 0 | S14: =SUM(C14:Q14) -> 0 | U14: 0 | W14: =S14+U14 -> 0
A15: Ágio na emissão de ações | C15: 0 | E15: 0 | G15: 0 | I15: 0 | K15: 0 | M15: 0 | O15: 0 | Q15: 0 | S15: =SUM(C15:Q15) -> 0 | U15: 0 | W15: =S15+U15 -> 0
A16: Plano de opções de ações | C16: 0 | E16: 0 | G16: 2009 | I16: 0 | K16: 0 | M16: 0 | O16: 0 | Q16: 0 | S16: =SUM(C16:Q16) -> 2009 | U16: 0 | W16: =S16+U16 -> 2009
A17: Outros resultados abrangentes - ajuste de Hedge Fluxo de caixa, líquido dos efeitos tributários | C17: 0 | E17: 0 | G17: 0 | I17: 0 | K17: 0 | M17: 0 | O17: 0 | Q17: -2151 | S17: =SUM(C17:Q17) -> -2151 | U17: 0 | W17: =S17+U17 -> -2151
A18: Participação de não controladores oriundos da aquisição da Semep | C18: 0 | E18: 0 | G18: 0 | I18: 0 | K18: 0 | M18: 0 | O18: 0 | Q18: 0 | S18: =SUM(C18:Q18) -> 0 | U18: 0 | W18: =S18+U18 -> 0
A19: Resultado do exercício | C19: 0 | E19: 0 | G19: 0 | I19: 0 | K19: 0 | M19: -289 | O19: 0 | Q19: 0 | S19: =SUM(C19:Q19) -> -289 | U19: 4814 | W19: =S19+U19 -> 4525
A20: Absorção do prejuízo do exercício | C20: 0 | E20: 0 | G20: 0 | I20: 0 | K20: 0 | M20: 0 | O20: 0 | Q20: 0 | S20: =SUM(C20:Q20) -> 0 | U20: 0 | W20: =S20+U20 -> 0
A21: Dividendos mínimos obrigatórios para pagamento no exercicio seguinte | C21: 0 | E21: 0 | G21: 0 | I21: 0 | K21: 0 | M21: 0 | O21: 0 | Q21: 0 | S21: =SUM(C21:Q21) -> 0 | U21: 0 | W21: =S21+U21 -> 0
A22: Reversao Dividendos minimos obrigatorios reconhecido em 2024, conforme AGOE de 2025 | C22: 0 | E22: 0 | G22: 0 | I22: 0 | K22: 0 | M22: 0 | O22: 0 | Q22: 0 | S22: =SUM(C22:Q22) -> 0 | U22: 0 | W22: =S22+U22 -> 0
A24: Saldos em 30 de junho de 2025 | C24: =SUM(C11:C23) -> 339562 | E24: =SUM(E11:E23) -> -21278 | G24: =SUM(G11:G23) -> 21799 | I24: =SUM(I11:I23) -> 2930 | K24: =SUM(K11:K23) -> 33359 | M24: =SUM(M11:M23) -> -289 | O24: 0 | Q24: =SUM(Q11:Q23) -> -35772 | S24: =SUM(S11:S23) -> 340311 | U24: =SUM(U11:U23) -> 18722 | W24: =SUM(W11:W23) -> 359033
A26: Saldos em 31 de dezembro de 2025 | C26: 489562 | E26: -21382 | G26: 24910 | I26: =SUM(I13:I25) -> 2930 | K26: 21548 | M26: 0 | O26: 0 | Q26: -34734 | S26: 482834 | U26: 79500 | W26: =SUM(S26:U26) -> 562334
A28: Plano de opções de ações | C28: 0 | E28: 0 | G28: 2203 | I28: 0 | K28: 0 | M28: 0 | O28: 0 | Q28: 0 | S28: =SUM(C28:Q28) -> 2203 | U28: 0 | W28: =S28+U28 -> 2203
A29: Outros resultados abrangentes - Hedge Fluxo de caixa, líquido dos efeitos tributários | C29: 0 | E29: 0 | G29: 0 | I29: 0 | K29: 0 | M29: 0 | O29: 0 | Q29: =340+2 -> 342 | S29: =SUM(C29:Q29) -> 342 | U29: 0 | W29: =S29+U29 -> 342
A30: Subscrição de capital | C30: 3147 | E30: 0 | G30: 0 | I30: 0 | K30: 0 | M30: 0 | O30: 0 | Q30: 0 | S30: =SUM(C30:Q30) -> 3147 | U30: 0 | W30: =S30+U30 -> 3147
A31: Redução de capital SCP construtora gmaia | C31: 0 | E31: 0 | G31: 0 | I31: 0 | K31: 0 | M31: 0 | O31: 0 | Q31: 0 | S31: =SUM(C31:Q31) -> 0 | U31: -1400 | W31: =S31+U31 -> -1400
A32: Distribuição de lucros SCP construtora gmaia | C32: 0 | E32: 0 | G32: 0 | I32: 0 | K32: 0 | M32: 0 | O32: 0 | Q32: 0 | S32: =SUM(C32:Q32) -> 0 | U32: -3080 | W32: =S32+U32 -> -3080
A33: Aquisição de participação adicional de controlada | C33: 0 | E33: 0 | G33: 0 | I33: 0 | K33: 0 | M33: 0 | O33: =-65720 -> -65720 | Q33: 0 | S33: =SUM(C33:Q33) -> -65720 | U33: =-838-120-772 -> -1730 | W33: =S33+U33 -> -67450
A34: Reversao Dividendos reconhecido em 2025 após aprovação da AGO de 2026 | C34: 0 | E34: 0 | G34: 0 | I34: 0 | K34: 0 | M34: 0 | O34: 0 | Q34: 0 | S34: =SUM(C34:Q34) -> 0 | U34: 120 | W34: =S34+U34 -> 120
A35: Outros ajustes no patrimônio líquido - controladas | C35: 0 | E35: 0 | G35: 0 | I35: 0 | K35: 0 | M35: 0 | O35: 0 | Q35: 0 | S35: =SUM(C35:Q35) -> 0 | U35: 5348 | W35: =S35+U35 -> 5348
A36: Resultado do período | C36: 0 | E36: 0 | G36: 0 | I36: 0 | K36: 0 | M36: =DRE!E32 -> 55366 | O36: 0 | Q36: 0 | S36: =SUM(C36:Q36) -> 55366 | U36: =DRE!J33 -> -3681 | W36: =S36+U36 -> 51685
A38: Saldos em 30 de junho de 2026 | C38: =SUM(C26:C37) -> 492709 | E38: =SUM(E26:E37) -> -21382 | G38: =SUM(G26:G37) -> 27113 | I38: =SUM(I26:I37) -> 2930 | K38: =SUM(K26:K37) -> 21548 | M38: =SUM(M26:M37) -> 55366 | O38: =SUM(O26:O37) -> -65720 | Q38: =SUM(Q26:Q37) -> -34392 | S38: =SUM(S26:S37) -> 478172 | U38: =SUM(U26:U37) -> 75077 | W38: =SUM(W26:W37) -> 553249
A41: ='BP Passivo'!A51 -> As notas explicativas são parte integrante das informações contábeis intermediárias individuais e consolidadas.

Sheet DFC
A3: PRINER SERVIÇOS INDUSTRIAIS S.A.
A5: Demonstrações dos fluxos de caixa individuais e consolidadas
A6: Períodos findos em 30 de junho de 2026 e 2025
A7: (Em milhares de Reais)
C9: Controladora | G9: Consolidado
C10: 46203 | E10: 45838 | G10: =C10 -> 46203 | I10: =E10 -> 45838
A12: Fluxo de caixa das atividades operacionais
A13: Resultado do período antes dos impostos | C13: =DRE!E25 -> 46220 | E13: =DRE!G25 -> -17581 | G13: =DRE!J25 -> 54592 | I13: =DRE!L25 -> 6590
A15: Ajustes p/ reconciliar o resultado do exercício c/ recursos provenientes de atividades operacionais
A16: Depreciação, amortização de intangíveis e amortização/depreciação de mais valia | C16: =9921+11030 -> 20951 | E16: 18046 | G16: 73259 | I16: 36944
A17: Perda (ganho) na baixa de imobilizados e intangíveis | C17: 1 | E17: -164 | G17: -15769 | I17: -5331
A18: Equivalência patrimonial | C18: -17445 | E18: -36287 | G18: 0 | I18: 0
A19: Juros sobre empréstimos, debêntures e arrendamentos | C19: =51136+245 -> 51381 | E19: =39893+470 -> 40363 | G19: =65785+1300 -> 67085 | I19: =41476+1176 -> 42652
A20: Variação cambial s/ empréstimos | C20: -8946 | E20: 0 | G20: -8994 | I20: 0
A21: Juros sobre mútuo partes relacionadas | C21: -2320 | E21: -1839 | G21: 0 | I21: 0
A22: Perda (ganho) com o valor justo de instrumentos derivativos | C22: 11538 | E22: -2825 | G22: 11538 | I22: -2825
A23: Variação monetária sobre contas a pagar de aquisição societária | C23: -1003 | E23: 9042 | G23: -1003 | I23: 9055
A24: Provisão para riscos civeis e trabalhistas | C24: 1458 | E24: 167 | G24: 1955 | I24: 280
A25: Ajuste de preço por aquisição de controlada | C25: -54804 | E25: 501 | G25: -54804 | I25: 501
A26: Outros | C26: =48-88+2203-4198+384+105+2 -> -1544 | E26: =-1001+84-501 -> -1418 | G26: =-698+901+2203-4198+384-178 -> -1586 | I26: =-1144+1972-501 -> 327
C28: =SUM(C13:C27) -> 45487 | E28: =SUM(E13:E27) -> 8005 | G28: =SUM(G13:G27) -> 126273 | I28: =SUM(I13:I27) -> 88193
A30: (Aumento)/ redução nas contas de ativos
A31: Contas a receber de terceiros e partes relacionadas, consolidado liquido de transações não caixa | C31: =-43731-6571 -> -50302 | E31: -42426 | G31: =1622-14243 -> -12621 | I31: -58664
A32: Estoques | C32: 3 | E32: -633 | G32: -10007 | I32: -186
A33: Tributos a recuperar | C33: -13729 | E33: -6610 | G33: -15091 | I33: -13887
A34: Outros ativos | C34: -4782 | E34: -1110 | G34: -14308 | I34: -2976
A35: Aumento/ (redução) nas contas de passivos
A36: Fornecedores terceiros e partes relacionadas, líquido de transações não caixa | C36: =1858-17657 -> -15799 | E36: -6810 | G36: =-6563+400 -> -6163 | I36: -9342
A37: Salários e encargos sociais | C37: 15136 | E37: 9745 | G37: 6513 | I37: 10015
A38: Tributos a pagar, consolidado líquido de transações não caixa | C38: 4529 | E38: 614 | G38: -2672 | I38: -2580
A39: Outros passivos | C39: -6713 | E39: -4681 | G39: -12872 | I39: -14687
A40: Caixa gerado nas operações | C40: =SUM(C28:C39) -> -26170 | E40: =SUM(E28:E39) -> -43906 | G40: =SUM(G28:G39) -> 59052 | I40: =SUM(I28:I39) -> -4114
A41: Imposto de renda e contribuição social pagos | C41: 0 | E41: 0 | G41: -15203 | I41: -18335
A42: Caixa líquido proveniente das atividades operacionais | C42: =C40+C41 -> -26170 | E42: =E40+E41 -> -43906 | G42: =G40+G41 -> 43849 | I42: =I40+I41 -> -22449
A44: Fluxo de caixa das atividades de investimentos
A45: Resgate/(Aplicação) em títulos e valores mobiliários | C45: -220 | E45: -169 | G45: -302 | I45: -227
A46: Aporte de capital em controlada, líquido de transação não caixa | C46: =-50751+1+24429 -> -26321 | E46: -57 | G46: =-251+1 -> -250 | I46: -57
A47: Dividendos recebidos | C47: 85992 | E47: 8784 | G47: 0 | I47: 0
A48: Aquisição de participação adicional de controlada | C48: -66676 | E48: 0 | G48: -66676 | I48: 0
A49: Incorporacao controlada, caixa liquido adquirido | C49: 0 | E49: 1843 | G49: 0 | I49: 0
...

Sheet DVA
A3: PRINER SERVIÇOS INDUSTRIAIS S.A.
A5: Demonstrações do valor adicionado individuais e consolidadas
A6: =DFC!A6 -> Períodos findos em 30 de junho de 2026 e 2025
A7: (Em milhares de Reais)
C8: Controladora | G8: Consolidado
C9: 46203 | E9: 45838 | G9: =C9 -> 46203 | I9: =E9 -> 45838 | K9: 2016
A11: Geração do valor adicionado
A12: Receitas
A13: Receita de contrato com cliente | C13: 452781 | E13: 282461 | G13: 971460 | I13: 794838 | K13: 233780
A14: Provisão para perda de crédito esperada - Reversão/(Constituição) | C14: 88 | E14: -84 | G14: -901 | I14: -1972 | K14: -1853
A15: Ajuste de preço aquisição societária | C15: 54804 | E15: -501 | G15: 54804 | I15: -501
C16: =SUM(C13:C15) -> 507673 | E16: =SUM(E13:E15) -> 281876 | G16: =SUM(G13:G15) -> 1025363 | I16: =SUM(I13:I15) -> 792365 | K16: 228553
A18: Insumos adquiridos de terceiros
A19: Custo dos produtos vendidos, das mercadorias e dos serviços vendidos | C19: -248 | E19: -2890 | G19: -2016 | I19: -2958 | K19: -2122
A20: Materiais, energia, serviços de terceiros e outros | C20: -81676 | E20: -36512 | G20: -220258 | I20: -141756 | K20: -37889
A22: Valor adicionado bruto | C22: =SUM(C16:C20) -> 425749 | E22: =SUM(E16:E20) -> 242474 | G22: =SUM(G16:G20) -> 803089 | I22: =SUM(I16:I20) -> 647651 | K22: 184962
A24: Depreciação, amortização e exaustão | C24: -20951 | E24: -18046 | G24: -73259 | I24: -36944 | K24: -9991
A26: Valor adicionado líquido produzido pela Companhia | C26: =SUM(C22:C24) -> 404798 | E26: =SUM(E22:E24) -> 224428 | G26: =SUM(G22:G24) -> 729830 | I26: =SUM(I22:I24) -> 610707 | K26: 174971
A28: Valor adicionado recebido em transferência
A29: Resultado de equivalência patrimonial | C29: 17445 | E29: 36287 | G29: 0 | I29: 0 | J29: 0 | K29: -40
A30: Receitas financeiras | C30: 29787 | E30: 16675 | G30: 36997 | I30: 21173 | K30: 3460
A31: Outras transferências recebidas | C31: 15269 | E31: =683 -> 683 | G31: 22082 | I31: =1012 -> 1012 | K31: 160
A33: Valor adicionado a distribuir | C33: =SUM(C26:C31) -> 467299 | E33: =SUM(E26:E31) -> 278073 | G33: =SUM(G26:G31) -> 788909 | I33: =SUM(I26:I31) -> 632892 | K33: 178551
A35: Distribuição do valor adicionado
A36: Pessoal e encargos | C36: =SUM(C37:C39) -> 253176 | E36: =SUM(E37:E39) -> 187646 | G36: =SUM(G37:G39) -> 428878 | I36: =SUM(I37:I39) -> 384982 | K36: 116168
A37: Remuneração direta | C37: 192414 | E37: 140978 | G37: 326440 | I37: 285354 | K37: 86829
A38: Benefícios | C38: 46826 | E38: 36743 | G38: 77757 | I38: 79593 | K38: 23148
A39: FGTS | C39: 13936 | E39: 9925 | G39: 24681 | I39: 20035 | K39: 6191
A41: Impostos, taxas e contribuições | C41: =SUM(C42:C44) -> 72965 | E41: =SUM(E42:E44) -> 33360 | G41: =SUM(G42:G44) -> 165619 | I41: =SUM(I42:I44) -> 124895 | K41: 44961
A42: Federais | C42: 57258 | E42: 23209 | G42: 130842 | I42: 97746 | K42: 35124
A43: Estaduais | C43: 170 | E43: 735 | G43: 3390 | I43: 2767 | K43: 574
A44: Municipais | C44: 15537 | E44: 9416 | G44: 31387 | I44: 24382 | K44: 9263
A46: Remuneração sobre o capital de terceiros | C46: =SUM(C47:C49) -> 85792 | E46: =SUM(E47:E49) -> 57356 | G46: =SUM(G47:G49) -> 142727 | I46: =SUM(I47:I49) -> 118490 | K46: 17422
A47: Juros, variações monetárias passivas e variações cambiais | C47: 62798 | E47: 49625 | G47: 80128 | I47: 52560 | K47: 5577
A48: Aluguéis | C48: 22994 | E48: 7731 | G48: 62599 | I48: 65930 | K48: 5576
A49: Outros | C49: 0 | E49: 0 | G49: 0 | I49: 0
A51: Remuneração sobre o capital próprio | C51: =SUM(C52:C54) -> 55366 | E51: =SUM(E52:E54) -> -289 | G51: =SUM(G52:G54) -> 51685 | I51: =SUM(I52:I54) -> 4525
A52: Juros sobre capital próprio | C52: 0 | E52: 0 | G52: 0 | I52: 0
A53: Dividendos | C53: 0 | E53: 0 | G53: 0 | I53: 0
A54: Lucro (prejuízo) do período | C54: 55366 | E54: -289 | G54: 51685 | I54: 4525 | K54: 2269
...

Sheet BP Histórico_Consolidado
A2: PRINER SERVIÇOS INDUSTRIAIS S.A.
A4: Balanços patrimoniais Consolidados
A5: Posições Trimestrais
A6: (Em milhares de reais)
B10: 31/12/2017 (Reclassificado) | D10: 43190 | F10: 43281 | H10: 43373 | J10: 43465 | L10: 43555 | N10: 43646 | P10: 43738 | R10: 43830 | T10: 43921 | V10: 44012 | X10: 44104 | Z10: 44196 | AB10: 44286 | AD10: 44377 | AF10: 44469 | AH10: 44561 | AJ10: 44651 | AL10: 44742 | AN10: 44834 | AP10: 44926 | AR10: 45016 | AT10: 45107 | AV10: 45199 | AX10: 45291 | AZ10: 45382 | BB10: 45473 | BD10: 30/09/2024 pro forma | BF10: 45657 | BH10: 45747 | BJ10: 45838 | BL10: 45930 | BN10: 46022 | BP10: 46112 | BR10: 46203
A11: ATIVO
A13: CIRCULANTE
A14: Caixa e equivalentes de caixa | B14: 644 | D14: 2367 | F14: 4754 | H14: 5101 | J14: 3400 | L14: 4641 | N14: 12260 | P14: 13296 | R14: 34157 | T14: 7730 | V14: 27646 | X14: 47445 | Z14: 52035 | AB14: 43367 | AD14: 50134 | AF14: 50628 | AH14: 66038 | AJ14: 53723 | AL14: 44656 | AN14: 91538 | AP14: 105039 | AR14: 180380 | AT14: 67826 | AV14: 82151 | AX14: 125891 | AZ14: 174881 | BB14: 179772 | BD14: 182138 | BF14: 232537 | BH14: 349281 | BJ14: 356525 | BL14: 478906 | BN14: 343246 | BP14: 301114 | BR14: 301833
A15: Títulos e valores mobiliários | B15: 1864 | D15: =41 -> 41 | F15: 542 | H15: 6 | J15: 28 | L15: 463 | N15: 13 | P15: 3573 | R15: 3616 | T15: 138324 | V15: 120331 | X15: 87133 | Z15: 57794 | AB15: 35197 | AD15: 20423 | AF15: 20482 | AH15: 10611 | AJ15: 12684 | AL15: 12792 | AN15: 12482 | AP15: 10848 | AR15: 10857 | AT15: 11038 | AV15: 10858 | AX15: 11011 | AZ15: 10960 | BB15: 11774 | BD15: 10977 | BF15: 11202 | BH15: 11180 | BJ15: 11371 | BL15: 11188 | BN15: 11334 | BP15: 11257 | BR15: 11554
A16: Depósitos bancários vinculados | B16: 0 | D16: 0 | F16: 0 | H16: 0 | J16: 0 | L16: 0 | N16: 14637 | P16: 9800 | R16: 6755 | T16: 1398 | V16: 1130 | X16: 863 | Z16: 593 | AB16: 0 | AD16: 0 | AF16: 0 | AH16: 0 | AJ16: 0 | AL16: 0 | AN16: 0 | AP16: 0 | AR16: 0 | AT16: 0 | AV16: 0 | AX16: 0 | AZ16: 0 | BB16: 0 | BD16: 0 | BF16: 0 | BH16: 0 | BJ16: 0 | BL16: 0 | BN16: 0 | BP16: 0 | BR16: 0
A17: Contas a receber | B17: 67184 | D17: =76973-1 -> 76972 | F17: 70422 | H17: 66556 | J17: 69815 | L17: 71528 | N17: 65509 | P17: 59853 | R17: 52607 | T17: 69489 | V17: 51624 | X17: 54726 | Z17: 63078 | AB17: 79141 | AD17: 103303 | AF17: 105848 | AH17: 108811 | AJ17: 122120 | AL17: 159082 | AN17: 205139 | AP17: 205273 | AR17: 226922 | AT17: 271795 | AV17: 232718 | AX17: 276728 | AZ17: 239120 | BB17: 223508 | BD17: 344358 | BF17: 298446 | BH17: 375586 | BJ17: 369453 | BL17: 378588 | BN17: 414199 | BP17: 417547 | BR17: 435138
A18: Contas a receber - partes relacionadas | B18: 1 | D18: 1 | F18: 0 | H18: 0 | J18: 0 | L18: 0 | N18: 0 | P18: 0 | R18: 0 | T18: 3 | V18: 0 | X18: 0 | Z18: 0 | AB18: 0 | AH18: 0 | AJ18: 0 | AL18: 0 | AN18: 0 | AP18: 0 | AR18: 0 | AT18: 0 | AV18: 0 | AX18: 0 | AZ18: 126 | BB18: 22 | BD18: 11850 | BF18: 21087 | BH18: 4654 | BJ18: 6214 | BL18: 9237 | BN18: 15198 | BP18: 22255 | BR18: 29441
A19: Mútuo a receber - partes relacionadas | B19: 0 | D19: 0 | F19: 0 | H19: 0 | J19: 0 | L19: 0 | N19: 0 | P19: 272 | R19: 0 | T19: 0 | V19: 0 | X19: 0 | Z19: 0 | AB19: 0 | AD19: 0 | AH19: 0 | AJ19: 0 | AL19: 0 | AN19: 0 | AP19: 0 | AR19: 0 | AT19: 0 | AV19: 0 | AX19: 0 | AZ19: 0 | BB19: 0 | BD19: 0 | BF19: 0 | BH19: 0 | BJ19: 0 | BL19: 0 | BN19: 0 | BP19: 0 | BR19: 0
A20: Estoques | B20: 1662 | D20: 67 | F20: 1469 | H20: 1529 | J20: 1052 | L20: 1336 | N20: 684 | P20: 1442 | R20: 692 | T20: 924 | V20: 639 | X20: 1172 | Z20: 1282 | AB20: 2619 | AD20: 2954 | AF20: 3483 | AH20: 3628 | AJ20: 3529 | AL20: 4308 | AN20: 5660 | AP20: 5361 | AR20: 4729 | AT20: 4796 | AV20: 5988 | AX20: 4609 | AZ20: 4431 | BB20: 5692 | BD20: 5732 | BF20: 5778 | BH20: 6781 | BJ20: 5964 | BL20: 5878 | BN20: 8908 | BP20: 9582 | BR20: 18915
A21: Créditos com funcionários | B21: 888 | D21: 1192 | F21: 1793 | H21: 1356 | J21: 1189 | L21: 1140 | N21: 1511 | P21: 1518 | R21: 1090 | T21: 1183 | V21: 1191 | X21: 1524 | Z21: 1248 | AB21: 1516 | AD21: 1952 | AF21: 2549 | AH21: 2299 | AJ21: 2360 | AL21: 2890 | AN21: 3195 | AP21: 0 | AR21: 0 | AT21: 0 | AV21: 0 | AX21: 0 | AZ21: 0 | BB21: 0 | BD21: 0 | BF21: 0 | BH21: 0 | BJ21: 0 | BL21: 0 | BN21: 0 | BP21: 0 | BR21: 0
A22: Tributos a recuperar | B22: 11873 | D22: 12686 | F22: 14387 | H22: 18521 | J22: 23011 | L22: 24610 | N22: 25535 | P22: 25518 | R22: 25022 | T22: 25696 | V22: 27577 | X22: 27586 | Z22: 22788 | AB22: 20244 | AD22: 18391 | AF22: 13698 | AH22: 12693 | AJ22: 12075 | AL22: 14482 | AN22: 16359 | AP22: 12392 | AR22: 13637 | AT22: 17981 | AV22: 19928 | AX22: 15428 | AZ22: 21558 | BB22: 27110 | BD22: 25967 | BF22: 20037 | BH22: 27294 | BJ22: 33668 | BL22: 19885 | BN22: 28171 | BP22: 37143 | BR22: 43262
A23: Dividendos a receber | B23: 765 | D23: 0 | F23: 0 | H23: 0 | J23: 0 | L23: 0 | N23: 0 | P23: 0 | R23: 0 | T23: 0 | V23: 0 | X23: 0 | Z23: 0 | AB23: 0 | AD23: 0 | AH23: 0 | AJ23: 0 | AL23: 0 | AN23: 0 | AP23: 0 | AR23: 0 | AT23: 0 | AV23: 0 | AX23: 0 | AZ23: 0 | BB23: 0 | BD23: 0 | BF23: 0 | BH23: 0 | BJ23: 0 | BL23: 0 | BN23: 0 | BP23: 0 | BR23: 0
A24: Dididendos antecipados | AJ24: 0 | AL24: 10908 | AN24: 10908 | AP24: 0 | AR24: 949 | AT24: 0 | AV24: 0 | AX24: 0 | AZ24: 0 | BB24: 0 | BD24: 0 | BF24: 0 | BH24: 0 | BJ24: 0 | BL24: 0 | BN24: 0 | BP24: 0 | BR24: 0
A25: Despesas antecipadas | B25: 2964 | D25: 2814 | F25: 1664 | H25: 1889 | J25: 3682 | L25: 3569 | N25: 2809 | P25: 2196 | R25: 3043 | T25: 3623 | V25: 2113 | X25: 1612 | Z25: 5485 | AB25: 5745 | AD25: 5255 | AF25: 4646 | AH25: 7174 | AJ25: 5135 | AL25: 7736 | AN25: 6669 | AP25: 0 | AR25: 0 | AT25: 0 | AV25: 0 | AX25: 0 | AZ25: 0 | BB25: 0 | BD25: 0 | BF25: 0 | BH25: 0 | BJ25: 0 | BL25: 0 | BN25: 0 | BP25: 0 | BR25: 0
A26: Instrumentos Financeiros Derivativos | T26: 12218 | V26: 12218 | X26: 0 | Z26: 0 | AB26: 0 | AD26: 0 | AH26: 0 | AJ26: 0 | AL26: 0 | AN26: 0 | AP26: 0 | AR26: 0 | AT26: 0 | AV26: 0 | AX26: 0 | AZ26: 0 | BB26: 0 | BD26: 0 | BF26: 0 | BH26: 0 | BJ26: 0 | BL26: 0 | BN26: 0 | BP26: 0 | BR26: 0
A27: Instrumento derivativo financeiro (Swap) | B27: 0 | D27: 0 | F27: 1844 | H27: 2906 | J27: 2163 | L27: 1197 | N27: 538 | P27: 266 | R27: 132 | T27: 108 | V27: 1899 | X27: 59 | Z27: 0 | AB27: 0 | AD27: 0 | AH27: 0 | AJ27: 0 | AL27: 6 | AN27: 24 | AP27: 0 | AR27: 288 | AT27: 259 | AV27: 598 | AX27: 0 | AZ27: 0 | BB27: 0 | BD27: 0 | BF27: 2685 | BH27: 4321 | BJ27: 3451.6145 | BL27: 6911 | BN27: 9564 | BP27: 7403 | BR27: 13
A28: Outros créditos a receber | B28: 2656 | D28: 2656 | F28: 0 | H28: 0 | J28: 0 | L28: 0 | N28: 0 | P28: 0 | R28: 0 | T28: 0 | V28: 0 | X28: 0 | Z28: 0 | AB28: 0 | AD28: 0 | AH28: 0 | AJ28: 0 | AL28: 0 | AN28: 0 | AP28: 0 | AR28: 0 | AT28: 0 | AV28: 0 | AX28: 0 | AZ28: 0 | BB28: 0 | BD28: 0 | BF28: 0 | BH28: 0 | BJ28: 0 | BL28: 0 | BN28: 0 | BP28: 0 | BR28: 0
A29: Outros ativos circulantes | B29: 190 | D29: 402 | F29: =1461-1 -> 1460 | H29: 1891 | J29: 976 | L29: 1002 | N29: 1448 | P29: 1314 | R29: 748 | T29: 1618 | V29: 469 | X29: 331 | Z29: 544 | AB29: 612 | AD29: 763 | AF29: 833 | AH29: 850 | AJ29: 1179 | AL29: 1498 | AN29: 1883 | AP29: 14975 | AR29: 16082 | AT29: 20221 | AV29: 15569 | AX29: 11560 | AZ29: 10882 | BB29: 15623 | BD29: 36951 | BF29: 17992 | BH29: 16132 | BJ29: 20190 | BL29: 21564 | BN29: 16350 | BP29: 29294 | BR29: 29893
B30: =SUM(B14:B29) -> 90691 | D30: =SUM(D14:D29) -> 99198 | F30: =SUM(F14:F29) -> 98335 | H30: =SUM(H14:H29) -> 99755 | J30: =SUM(J14:J29) -> 105316 | L30: =SUM(L14:L29) -> 109486 | N30: =SUM(N14:N29) -> 124944 | P30: =SUM(P14:P29) -> 119048 | R30: =SUM(R14:R29) -> 127862 | T30: =SUM(T14:T29) -> 262314 | V30: =SUM(V14:V29) -> 246837 | X30: =SUM(X14:X29) -> 222451 | Z30: =SUM(Z14:Z29) -> 204847 | AB30: =SUM(AB14:AB29) -> 188441 | AD30: =SUM(AD14:AD29) -> 203175 | AF30: =SUM(AF14:AF29) -> 202167 | AH30: =SUM(AH14:AH29) -> 212104 | AJ30: =SUM(AJ14:AJ29) -> 212805 | AL30: =SUM(AL14:AL29) -> 258358 | AN30: =SUM(AN14:AN29) -> 353857 | AP30: =SUM(AP14:AP29) -> 353888 | AR30: =SUM(AR14:AR29) -> 453844 | AT30: =SUM(AT14:AT29) -> 393916 | AV30: =SUM(AV14:AV29) -> 367810 | AX30: =SUM(AX14:AX29) -> 445227 | AZ30: =SUM(AZ14:AZ29) -> 461958 | BB30: =SUM(BB14:BB29) -> 463501 | BD30: =SUM(BD14:BD29) -> 617973 | BF30: =SUM(BF14:BF29) -> 609764 | BH30: =SUM(BH14:BH29) -> 795229 | BJ30: =SUM(BJ14:BJ29) -> 806836.61 | BL30: =SUM(BL14:BL29) -> 932157 | BN30: =SUM(BN14:BN29) -> 846970 | BP30: =SUM(BP14:BP29) -> 835595 | BR30: =SUM(BR14:BR29) -> 870049
A31: NÃO CIRCULANTE
A32: Contas a receber | B32: 805 | D32: 334 | F32: 177 | H32: 0 | J32: 0 | L32: 0 | N32: 0 | P32: 0 | R32: 0 | T32: 0 | V32: 0 | X32: 0 | Z32: 0 | AB32: 0 | AD32: 0 | AF32: 0 | AH32: 0 | AJ32: 0 | AL32: 0 | AN32: 0 | AP32: 0 | AR32: 0 | AT32: 0 | AV32: 0 | AX32: 0 | AZ32: 0 | BB32: 0 | BD32: 0 | BF32: 0 | BH32: 0 | BJ32: 0 | BL32: 0 | BN32: 0 | BP32: 0 | BR32: 0
A33: Notas promissórias e confissão de dívida a receber | B33: 0 | D33: 0 | F33: 0 | H33: 0 | J33: 0 | L33: 0 | N33: 0 | P33: 997 | R33: 997 | T33: 4251 | V33: 4251 | X33: 4251 | Z33: 4251 | AB33: 4251 | AD33: 4251 | AF33: 4251 | AH33: 4251 | AJ33: 4251 | AL33: 4251 | AN33: 4251 | AP33: 4251.1883 | AR33: 4251 | AT33: 4805 | AV33: 4805 | AX33: 4805 | AZ33: 4804.6894 | BB33: 4805 | BD33: 5452 | BF33: 5100 | BH33: 5123 | BJ33: 5658 | BL33: 5692 | BN33: 5714 | BP33: 5744 | BR33: 5582
A34: Títulos e valores mobiliários | B34: 0 | D34: 0 | F34: 0 | H34: 16 | J34: 46 | L34: 76 | N34: 106 | P34: 137 | R34: 0 | T34: 0 | V34: 0 | X34: 0 | Z34: 0 | AB34: 0 | AD34: 0 | AF34: 1317 | AH34: 1317 | AJ34: 1317 | AL34: 1317 | AN34: 1317 | AP34: 1317 | AR34: 1317 | AT34: 1317 | AV34: 1371 | AX34: 1371 | AZ34: 1317 | BB34: 2013 | BD34: 2767 | BF34: 2812 | BH34: 2839 | BJ34: 2870 | BL34: 2894 | BN34: 2928 | BP34: 2963 | BR34: 3010
A35: Mútuo a receber - partes relacionadas | B35: 0 | D35: 0 | F35: 0 | H35: 0 | J35: 245 | L35: 254 | N35: 263 | P35: 0 | R35: 0 | T35: 0 | V35: 0 | X35: 0 | Z35: 0 | AB35: 0 | AD35: 0 | AH35: 0 | AJ35: 0 | AL35: 0 | AN35: 0 | AP35: 0 | AR35: 0 | AT35: 0 | AV35: 0 | AX35: 0 | AZ35: 0 | BB35: 0 | BD35: 0 | BF35: 0 | BH35: 0 | BJ35: 0 | BL35: 0 | BN35: 0 | BP35: 0 | BR35: 0
A36: Créditos com funcionários | B36: 38 | D36: 0 | F36: 4 | H36: 2 | J36: 0 | L36: 0 | N36: 0 | P36: 0 | R36: 0 | T36: 313 | V36: 202 | X36: 163 | Z36: 171 | AB36: 153 | AD36: 207 | AF36: 154 | AH36: 154 | AJ36: 21 | AL36: 8 | AN36: 5 | AP36: 3 | AR36: 0 | AT36: 0 | AV36: 0 | AX36: 0 | AZ36: 0 | BB36: 0 | BD36: 0 | BF36: 0 | BH36: 0 | BJ36: 0 | BL36: 0 | BN36: 0 | BP36: 0 | BR36: 0
A37: Outros créditos a receber | B37: 0 | D37: 23 | F37: 2656 | H37: 2656 | J37: 2656 | L37: 2656 | N37: 2656 | P37: 2656 | R37: 2656 | T37: 2656 | V37: 2656 | X37: 2656 | Z37: 2656 | AB37: 2656 | AD37: 2656 | AF37: 2656 | AH37: 2656 | AJ37: 2656 | AL37: 2655.6197 | AN37: 2656 | AP37: 0 | AR37: 0 | AT37: 0 | AV37: 0 | AX37: 0 | AZ37: 0 | BB37: 0 | BD37: 0
A38: Outros ativos não circulantes | X38: 51 | Z38: 52 | AB38: 52 | AD38: 52 | AF38: 52 | AH38: 52 | AJ38: 64 | AL38: 64 | AN38: 74 | AP38: 1935 | AR38: 2038 | AT38: 2059 | AV38: 2074 | AX38: 339 | AZ38: 414 | BB38: 524 | BD38: 578 | BF38: 1091 | BH38: 1347 | BJ38: 1297 | BL38: 1391 | BN38: 1513 | BP38: 1646 | BR38: 1402
A39: Despesas antecipadas | B39: 82 | D39: 68 | F39: 53 | H39: 39 | J39: 24 | L39: 10 | N39: 0 | P39: 0 | R39: 0 | T39: 0 | V39: 0 | X39: 0 | Z39: 0 | AB39: 0 | AD39: 0 | AH39: 0 | AJ39: 0 | AL39: 144 | AN39: 133 | AP39: 0 | AT39: 0 | AV39: 0 | AX39: 0 | AZ39: 0 | BB39: 0 | BD39: 0
A40: Instrumentos Financeiros Derivativos | B40: 1923 | D40: 2377 | F40: 5525 | H40: 5861 | J40: 5820 | L40: 5689 | N40: 4866 | P40: 4193 | R40: 4455 | T40: 0 | V40: 0 | X40: 0 | Z40: 0 | AB40: 0 | AD40: 0 | AH40: 0 | AJ40: 0 | AL40: 0 | AN40: 3613 | AP40: 0 | AR40: 0 | AT40: 0 | AV40: 0 | AX40: 0 | AZ40: 0 | BB40: 0 | BD40: 0 | BF40: 0 | BH40: 0 | BJ40: 0 | BL40: 0 | BN40: 0 | BP40: 0
A41: Tributos a recuperar | B41: 315 | D41: 315 | F41: 315 | H41: 315 | J41: 315 | L41: 315 | N41: 303 | P41: 1126 | R41: 1149 | T41: 1030 | V41: 1030 | X41: 929 | Z41: 854 | AB41: 854 | AD41: 67 | AF41: 67 | AH41: 854 | AJ41: 668 | AL41: 639 | AN41: 419 | AP41: 327 | AR41: 307 | AT41: 242 | AV41: 228 | AX41: 602 | AZ41: 602 | BB41: 567 | BD41: 567 | BF41: 0 | BH41: 0 | BJ41: 0 | BL41: 0 | BN41: 0 | BP41: 0 | BR41: 0
A42: Tributos diferidos | B42: 12622 | D42: 12783 | F42: 14839 | H42: 13511 | J42: 16813 | L42: 19263 | N42: 20598 | P42: 23668 | R42: 18047 | T42: 14699 | V42: 13739 | X42: 18187 | Z42: 34592 | AB42: 35603 | AD42: 36604 | AF42: 37741 | AH42: 41378 | AJ42: 41597 | AL42: 41914 | AN42: 42898 | AP42: 48007 | AR42: 49970 | AT42: 51621 | AV42: 53745 | AX42: 64509 | AZ42: 71481 | BB42: 77689 | BD42: 82182 | BF42: 71891 | BH42: 81200 | BJ42: 89801 | BL42: 95473 | BN42: 82176 | BP42: 79940 | BR42: 85973
A43: Depósitos judiciais | B43: 507 | D43: 547 | F43: 607 | H43: 645 | J43: 711 | L43: 915 | N43: 938 | P43: 1066 | R43: 1067 | T43: 1068 | V43: 1219 | X43: 3828 | Z43: 3834 | AB43: 3894 | AD43: 4028 | AF43: 4130 | AH43: 3962 | AJ43: 3945 | AL43: 4031 | AN43: 4250 | AP43: 4426 | AR43: 4302 | AT43: 4575 | AV43: 4782 | AX43: 4910 | AZ43: 7440 | BB43: 5620 | BD43: 5470 | BF43: 5689 | BH43: 5921 | BJ43: 6517 | BL43: 6900 | BN43: 16856 | BP43: 17290 | BR43: 17732
A44: Investimentos | B44: 1247 | D44: 1854 | F44: 2292 | H44: 2408 | J44: 1696 | L44: 1533 | N44: 1821 | P44: 1565 | R44: 1728 | T44: 1945 | V44: 0 | X44: 0 | Z44: 0 | AB44: 0 | AD44: 0 | AH44: 0 | AJ44: 0 | AL44: 0 | AN44: 0 | AP44: -1e-05 | AR44: 0 | AT44: 5.9371814e-12 | AV44: 2.7939677e-11 | AX44: -9.9999559e-06 | AZ44: -9.9999559e-06 | BB44: 0 | BD44: 0 | BF44: 0 | BH44: 0 | BJ44: 57 | BL44: 224 | BN44: 224 | BP44: 224 | BR44: 474
A45: Imobilizado e ativo de direito de uso | B45: 66169 | D45: 67664 | F45: 68049 | H45: 66735 | J45: 67964 | L45: 78724 | N45: 80360 | P45: 80430 | R45: 77024 | T45: 74242 | V45: 70589 | X45: 71121 | Z45: 75485 | AB45: 91928 | AD45: 91680 | AF45: 97135 | AH45: 99594 | AJ45: 117618 | AL45: 132806 | AN45: =131066+20684 -> 151750 | AP45: 174189 | AR45: 192045 | AT45: 211083 | AV45: 230886 | AX45: 255291 | AZ45: 263546 | BB45: 272059 | BD45: 294753 | BF45: 301842 | BH45: 295894 | BJ45: 296699 | BL45: 296692 | BN45: 572092 | BP45: 582386 | BR45: 573125
A46: Intangível | B46: 8007 | D46: 7589 | F46: 7172 | H46: 6763 | J46: 6380 | L46: 5943 | N46: 5461 | P46: 5017 | R46: 4556 | T46: 4123 | V46: =4267+867 -> 5134 | X46: 4863 | Z46: 9888 | AB46: 9553 | AD46: 9177 | AF46: 8783 | AH46: 8055 | AJ46: 25498 | AL46: 28871 | AN46: 33035 | AP46: 31596 | AR46: 54677 | AT46: 56645 | AV46: 58360 | AX46: 59950 | AZ46: 60638 | BB46: 88221 | BD46: 197634 | BF46: 245411 | BH46: 225826 | BJ46: 219599 | BL46: 214265 | BN46: 362170 | BP46: 352266 | BR46: 345118
...

Sheet DRE Histórico_Consolidado
A2: PRINER SERVIÇOS INDUSTRIAIS S/A
A3: DEMONSTRAÇÕES DO RESULTADO CONSOLIDADO
A4: TRIMESTRES
A5: (Em milhares de reais - Exceto quando indicado de outra forma)
C9: 1T2017 | E9: 2T2017 | G9: 3T2017 | I9: 4T2017 | K9: 1T2018 | M9: 2T2018 | O9: 3T2018 | Q9: 4T2018 | S9: 1T2019 | U9: 2T2019 | W9: 3T2019 | Y9: 4T2019 | AA9: 1T2020 | AC9: 2T2020 | AE9: 3T2020 | AG9: 4T2020 | AI9: 1T2021 | AK9: 2T2021 | AM9: 3T2021 | AO9: 4T2021 | AQ9: 1T2022 | AS9: 2T2022 | AU9: 3T2022 | AW9: 4T2022 | AY9: 1T2023 | BA9: 2T2023 | BC9: 3T2023 | BE9: 4T2023 | BG9: 1T2024 | BI9: 2T2024 | BK9: 3T2024 pro forma | BM9: 4T2024 | BO9: 1T2025 | BQ9: 2T2025 | BS9: 3T2025 | BU9: 4T2025 | BW9: 1T2026 | BY9: 2T2026
A12: Receita líquida de vendas e serviços | C12: 52292 | E12: 54026 | G12: 61399 | I12: =236502-G12-E12-C12 -> 68785 | K12: 76096 | M12: 84326 | O12: 79884 | Q12: =327237-O12-M12-K12 -> 86931 | S12: 82880 | U12: 92456 | W12: 85388 | Y12: =348612-W12-U12-S12 -> 87888 | AA12: 71122 | AC12: 48186 | AE12: 54827 | AG12: =242213-AE12-AC12-AA12 -> 68078 | AI12: 78441 | AK12: 111524 | AM12: 123583 | AO12: =433141-AM12-AK12-AI12 -> 119593 | AQ12: 129288 | AS12: 183942 | AU12: 254439 | AW12: 245825 | AY12: 241262 | BA12: 253934 | BC12: 268957 | BE12: 282257 | BG12: 216431 | BI12: 205260 | BK12: 392676 | BM12: 419693 | BO12: 368845 | BQ12: 361894 | BS12: 359134 | BU12: 473750 | BW12: 421197 | BY12: 462618
A13: Custo dos produtos vendidos e serviços prestados | C13: -39486 | E13: -44543 | G13: -57243 | I13: =-203099-G13-E13-C13 -> -61827 | K13: -65521 | M13: -77319 | O13: -70948 | Q13: =-282214-O13-M13-K13 -> -68426 | S13: -72350 | U13: -79769 | W13: -74646 | Y13: =-299585-W13-U13-S13 -> -72820 | AA13: -61707 | AC13: -52435 | AE13: -45380 | AG13: =-215064-AE13-AC13-AA13 -> -55542 | AI13: -67030 | AK13: -90054 | AM13: -102421 | AO13: =-362687-AM13-AK13-AI13 -> -103182 | AQ13: -103765 | AS13: -144536 | AU13: -176368 | AW13: -190243 | AY13: -191671 | BA13: -199081 | BC13: -217445 | BE13: -222643 | BG13: -172916 | BI13: -166271 | BK13: -303825 | BM13: -317453 | BO13: -295005 | BQ13: -290091 | BS13: -285065 | BU13: -383114 | BW13: -357176 | BY13: -375171
A15: Lucro bruto | C15: =SUM(C12:C13) -> 12806 | E15: =SUM(E12:E13) -> 9483 | G15: =SUM(G12:G13) -> 4156 | I15: =SUM(I12:I13) -> 6958 | K15: =SUM(K12:K13) -> 10575 | M15: =SUM(M12:M13) -> 7007 | O15: =SUM(O12:O13) -> 8936 | Q15: =SUM(Q12:Q13) -> 18505 | S15: =SUM(S12:S13) -> 10530 | U15: =SUM(U12:U13) -> 12687 | W15: =SUM(W12:W13) -> 10742 | Y15: =SUM(Y12:Y13) -> 15068 | AA15: =SUM(AA12:AA13) -> 9415 | AC15: =SUM(AC12:AC13) -> -4249 | AE15: =SUM(AE12:AE13) -> 9447 | AG15: =SUM(AG12:AG13) -> 12536 | AI15: =SUM(AI12:AI13) -> 11411 | AK15: =SUM(AK12:AK13) -> 21470 | AM15: =SUM(AM12:AM13) -> 21162 | AO15: =SUM(AO12:AO13) -> 16411 | AQ15: =SUM(AQ12:AQ13) -> 25523 | AS15: =SUM(AS12:AS13) -> 39406 | AU15: =SUM(AU12:AU13) -> 78071 | AW15: =SUM(AW12:AW13) -> 55582 | AY15: =SUM(AY12:AY13) -> 49591 | BA15: =SUM(BA12:BA13) -> 54853 | BC15: =SUM(BC12:BC13) -> 51512 | BE15: =SUM(BE12:BE13) -> 59614 | BG15: =SUM(BG12:BG13) -> 43515 | BI15: =SUM(BI12:BI13) -> 38989 | BK15: =SUM(BK12:BK13) -> 88851 | BM15: =SUM(BM12:BM13) -> 102240 | BO15: =SUM(BO12:BO13) -> 73840 | BQ15: =SUM(BQ12:BQ13) -> 71803 | BS15: =SUM(BS12:BS13) -> 74069 | BU15: =SUM(BU12:BU13) -> 90636 | BW15: =SUM(BW12:BW13) -> 64021 | BY15: =SUM(BY12:BY13) -> 87447
A17: Despesas operacionais,
A18: Gerais e administrativas | C18: =-9041+27 -> -9014 | E18: -10452 | G18: -8349 | I18: =-41116-G18-E18-C18 -> -13301 | K18: =-8348-1 -> -8349 | M18: -4123 | O18: -5844 | Q18: =-30375-O18-M18-K18 -> -12059 | S18: -9440 | U18: -10900 | W18: -11224 | Y18: =-42064-W18-U18-S18 -> -10500 | AA18: 1144 | AC18: -10798 | AE18: -12461 | AG18: =-31998-AE18-AC18-AA18 -> -9883 | AI18: -11007 | AK18: -12675 | AM18: -14047 | AO18: =-49962-AM18-AK18-AI18 -> -12233 | AQ18: -14971 | AS18: -19973 | AU18: -27577 | AW18: -31603 | AY18: -25536 | BA18: -30564 | BC18: -30896 | BE18: -41176 | BG18: -29528 | BI18: -32401 | BK18: -43794 | BM18: =-162113-BK18-BI18-BG18 -> -56390 | BO18: -52195 | BQ18: -50265 | BS18: -50130 | BU18: -62096 | BW18: 8414 | BY18: -52827
A20: Resultado Equivalência Patrimônial | C20: =201-27 -> 174 | E20: 61 | G20: 212 | I20: =186-G20-E20-C20 -> -261 | K20: 607 | M20: 438 | O20: 116 | Q20: =448-O20-M20-K20 -> -713 | S20: -163 | U20: =125-S20 -> 288 | W20: -256 | Y20: =797-W20-U20-S20 -> 928 | AA20: 217 | AC20: 0 | AE20: 0 | AG20: =217-AE20-AC20-AA20 -> 0 | AI20: 0 | AK20: 0 | AM20: 0 | AO20: 0 | AQ20: 0 | AS20: 0 | AU20: 0 | AW20: 0 | AY20: 0 | BA20: 0 | BC20: 0 | BE20: 0 | BG20: 0 | BI20: 0 | BK20: 0 | BM20: 0 | BO20: 0 | BQ20: 0 | BS20: 0 | BU20: 0 | BW20: 0 | BY20: 0
A22: Lucro operacional antes do resultado financeiro | C22: =SUM(C15:C20) -> 3966 | E22: =SUM(E15:E21) -> -908 | G22: =SUM(G15:G21) -> -3981 | I22: =SUM(I15:I21) -> -6604 | K22: =SUM(K15:K20) -> 2833 | M22: =SUM(M15:M21) -> 3322 | O22: =SUM(O15:O21) -> 3208 | Q22: =SUM(Q15:Q21) -> 5733 | S22: =SUM(S15:S21) -> 927 | U22: =SUM(U15:U21) -> 2075 | W22: =SUM(W15:W21) -> -738 | Y22: =SUM(Y15:Y21) -> 5496 | AA22: =SUM(AA15:AA21) -> 10776 | AC22: =SUM(AC15:AC21) -> -15047 | AE22: =SUM(AE15:AE21) -> -3014 | AG22: =SUM(AG15:AG21) -> 2653 | AI22: =SUM(AI15:AI20) -> 404 | AK22: =SUM(AK15:AK20) -> 8795 | AM22: =SUM(AM15:AM20) -> 7115 | AO22: =SUM(AO15:AO20) -> 4178 | AQ22: =SUM(AQ15:AQ20) -> 10552 | AS22: =SUM(AS15:AS20) -> 19433 | AU22: =SUM(AU15:AU20) -> 50494 | AW22: =SUM(AW15:AW20) -> 23979 | AY22: =SUM(AY15:AY20) -> 24055 | BA22: =SUM(BA15:BA20) -> 24289 | BC22: =SUM(BC15:BC20) -> 20616 | BE22: =SUM(BE15:BE20) -> 18438 | BG22: =SUM(BG15:BG20) -> 13987 | BI22: =SUM(BI15:BI20) -> 6588 | BK22: =SUM(BK15:BK20) -> 45057 | BM22: =SUM(BM15:BM20) -> 45850 | BO22: =SUM(BO15:BO20) -> 21645 | BQ22: =SUM(BQ15:BQ20) -> 21538 | BS22: =SUM(BS15:BS20) -> 23939 | BU22: =SUM(BU15:BU20) -> 28540 | BW22: =SUM(BW15:BW20) -> 72435 | BY22: =SUM(BY15:BY20) -> 34620
A24: Resultado financeiro
A25: Receitas financeiras | C25: 544 | E25: 555 | G25: 776 | I25: =2383-G25-E25-C25 -> 508 | K25: 895 | M25: =1644 -> 1644 | O25: 2601 | Q25: =6331-O25-M25-K25 -> 1191 | S25: 1566 | U25: =2259-S25 -> 693 | W25: 1089 | Y25: =4465-W25-U25-S25 -> 1117 | AA25: 1939 | AC25: 2932 | AE25: -120 | AG25: =4900-AE25-AC25-AA25 -> 149 | AI25: 997 | AK25: 1126 | AM25: 853 | AO25: =4211-AM25-AK25-AI25 -> 1235 | AQ25: 2039 | AS25: 1808 | AU25: 2867 | AW25: 3051 | AY25: 4301 | BA25: 3404 | BC25: 2376 | BE25: 3962 | BG25: 4503 | BI25: 4554 | BK25: 6423 | BM25: =23376-BK25-BI25-BG25 -> 7896 | BO25: 7978 | BQ25: 13196 | BS25: 18987 | BU25: 14009 | BW25: 23011 | BY25: 13986
A26: Despesas financeiras | C26: -1412 | E26: -1952 | G26: -3282 | I26: =-8518-G26-E26-C26 -> -1872 | K26: -3323 | M26: -4385 | O26: -4672 | Q26: =-15462-O26-M26-K26 -> -3082 | S26: -4069 | U26: -4656 | W26: -4742 | Y26: =-18050-W26-U26-S26 -> -4583 | AA26: -4511 | AC26: -3816 | AE26: -1120 | AG26: =-11410-AE26-AC26-AA26 -> -1963 | AI26: -1858 | AK26: -1682 | AM26: -2211 | AO26: =-8524-AM26-AK26-AI26 -> -2773 | AQ26: -3462 | AS26: -5610 | AU26: -9335 | AW26: -11636 | AY26: -11808 | BA26: -12665 | BC26: -14799 | BE26: -19759 | BG26: -15792 | BI26: -14869 | BK26: -22078 | BM26: =-75456-BK26-BI26-BG26 -> -22717 | BO26: -23776 | BQ26: -33992 | BS26: -39564 | BU26: -44819 | BW26: -40169 | BY26: -49291
A28: Lucro antes do imposto de renda e da contribuição social | C28: =SUM(C22:C26) -> 3098 | E28: =SUM(E22:E27) -> -2305 | G28: =SUM(G22:G27) -> -6487 | I28: =SUM(I22:I27) -> -7968 | K28: =SUM(K22:K26) -> 405 | M28: =SUM(M22:M27) -> 581 | O28: =SUM(O22:O27) -> 1137 | Q28: =SUM(Q22:Q27) -> 3842 | S28: =SUM(S22:S27) -> -1576 | U28: =SUM(U22:U27) -> -1888 | W28: =SUM(W22:W27) -> -4391 | Y28: =SUM(Y22:Y27) -> 2030 | AA28: =SUM(AA22:AA27) -> 8204 | AC28: =SUM(AC22:AC27) -> -15931 | AE28: =SUM(AE22:AE27) -> -4254 | AG28: =SUM(AG22:AG27) -> 839 | AI28: =SUM(AI22:AI26) -> -457 | AK28: =SUM(AK22:AK26) -> 8239 | AM28: =SUM(AM22:AM26) -> 5757 | AO28: =SUM(AO22:AO26) -> 2640 | AQ28: =SUM(AQ22:AQ26) -> 9129 | AS28: =SUM(AS22:AS26) -> 15631 | AU28: =SUM(AU22:AU26) -> 44026 | AW28: =SUM(AW22:AW26) -> 15394 | AY28: =SUM(AY22:AY26) -> 16548 | BA28: =SUM(BA22:BA26) -> 15028 | BC28: =SUM(BC22:BC26) -> 8193 | BE28: =SUM(BE22:BE26) -> 2641 | BG28: =SUM(BG22:BG26) -> 2698 | BI28: =SUM(BI22:BI26) -> -3727 | BK28: =SUM(BK22:BK26) -> 29402 | BM28: =SUM(BM22:BM26) -> 31029 | BO28: =SUM(BO22:BO26) -> 5847 | BQ28: =SUM(BQ22:BQ26) -> 742 | BS28: =SUM(BS22:BS26) -> 3362 | BU28: =SUM(BU22:BU26) -> -2270 | BW28: =SUM(BW22:BW26) -> 55277 | BY28: =SUM(BY22:BY26) -> -685
A30: Correntes | C30: -799 | E30: -1053 | G30: 751 | I30: =-947-G30-E30-C30 -> 154 | K30: -1127 | M30: -795 | O30: -1001 | Q30: =-4613-O30-M30-K30 -> -1690 | S30: -1379 | U30: =-2812-S30 -> -1433 | W30: -1623 | Y30: =-6207-W30-U30-S30 -> -1772 | AA30: -1586 | AC30: -1262 | AE30: -1110 | AG30: =-5390-AE30-AC30-AA30 -> -1432 | AI30: -1585 | AK30: -3036 | AM30: -3113 | AO30: =-7870-AM30-AK30-AI30 -> -136 | AQ30: -4118 | AS30: -5001 | AU30: -8629 | AW30: -7343 | AY30: -9646 | BA30: -10201 | BC30: -7978 | BE30: -10473 | BG30: -4513 | BI30: -5168 | BK30: -21212 | BM30: =-42123-BK30-BI30-BG30 -> -11230 | BO30: -11236 | BQ30: -6853 | BS30: -7041 | BU30: -6779 | BW30: -8274 | BY30: -6003
A31: Diferidos | C31: -27 | E31: 2005 | G31: 1673 | I31: =7221-G31-E31-C31 -> 3570 | K31: 1442 | M31: 372 | O31: -1328 | Q31: =3788-O31-M31-K31 -> 3302 | S31: 2450 | U31: 1335 | W31: 3071 | Y31: =1234-W31-U31-S31 -> -5622 | AA31: -3348 | AC31: -959 | AE31: 434 | AG31: =13436-AE31-AC31-AA31 -> 17309 | AI31: 1011 | AK31: 1001 | AM31: 1137 | AO31: =6190-AM31-AK31-AI31 -> 3041 | AQ31: 219 | AS31: 316 | AU31: 984 | AW31: 4326 | AY31: 1963 | BA31: 4122 | BC31: 2124 | BE31: 12758 | BG31: 4650 | BI31: 6199 | BK31: 12577 | BM31: =24976-BK31-BI31-BG31 -> 1550 | BO31: 9406 | BQ31: 6619 | BS31: 6739 | BU31: 9868 | BW31: 5712 | BY31: 5658
A33: Lucro Líquido do exercício | C33: =SUM(C28:C31) -> 2272 | E33: =SUM(E28:E31) -> -1353 | G33: =SUM(G28:G31) -> -4063 | I33: =SUM(I28:I31) -> -4244 | K33: =SUM(K28:K31) -> 720 | M33: =SUM(M28:M31) -> 158 | O33: =SUM(O28:O31) -> -1192 | Q33: =SUM(Q28:Q31) -> 5454 | S33: =SUM(S28:S31) -> -505 | U33: =SUM(U28:U31) -> -1986 | W33: =SUM(W28:W31) -> -2943 | Y33: =SUM(Y28:Y31) -> -5364 | AA33: =SUM(AA28:AA31) -> 3270 | AC33: =SUM(AC28:AC31) -> -18152 | AE33: =SUM(AE28:AE31) -> -4930 | AG33: =SUM(AG28:AG31) -> 16716 | AI33: =SUM(AI28:AI31) -> -1031 | AK33: =SUM(AK28:AK31) -> 6204 | AM33: =SUM(AM28:AM31) -> 3781 | AO33: =SUM(AO28:AO31) -> 5545 | AQ33: =SUM(AQ28:AQ31) -> 5230 | AS33: =SUM(AS28:AS31) -> 10946 | AU33: =SUM(AU28:AU31) -> 36381 | AW33: =SUM(AW28:AW31) -> 12377 | AY33: =SUM(AY28:AY31) -> 8865 | BA33: =SUM(BA28:BA31) -> 8949 | BC33: =SUM(BC28:BC31) -> 2339 | BE33: =SUM(BE28:BE31) -> 4926 | BG33: =SUM(BG28:BG31) -> 2835 | BI33: =SUM(BI28:BI31) -> -2696 | BK33: =SUM(BK28:BK31) -> 20767 | BM33: =SUM(BM28:BM31) -> 21349 | BO33: =SUM(BO28:BO31) -> 4017 | BQ33: =SUM(BQ28:BQ31) -> 508 | BS33: =SUM(BS28:BS31) -> 3060 | BU33: =SUM(BU28:BU31) -> 819 | BW33: =SUM(BW28:BW31) -> 52715 | BY33: =SUM(BY28:BY31) -> -1030
A36: EBITDA | C36: =C22-C42-C49 -> 6271 | E36: =E22-E42-E49 -> 1447.4 | G36: =G22-G42-G49 -> -467 | I36: =I22-I42-I49 -> -2574.7 | K36: =K22-K42-K49 -> 6924 | M36: =M22-M42-M49 -> 7418 | O36: =O22-O42-O49 -> 7260.6617 | Q36: =Q22-Q42-Q49 -> 8174.3383 | S36: =S22-S42-S49 -> 5625.2902 | U36: =U22-U42-U49 -> 7044 | W36: =W22-W42-W49 -> 4289.4486 | Y36: =Y22-Y42-Y49 -> 10506.261 | AA36: =AA22-AA42-AA49 -> 15895 | AC36: =AC22-AC42-AC49 -> -9787 | AE36: =AE22-AE42-AE49 -> 2805 | AG36: =AG22-AG42-AG49 -> 8098 | AI36: =AI22-AI42-AI49 -> 5312 | AK36: =AK22-AK42-AK49 -> 14237.102 | AM36: =AM22-AM42-AM49 -> 12765.557 | AO36: =AO22-AO42-AO49 -> 9087.5983 | AQ36: =AQ22-AQ42-AQ49 -> 16497.355 | AS36: =AS22-AS42-AS49 -> 25876 | AU36: =AU22-AU42-AU49 -> 57437 | AW36: =AW22-AW42-AW49 -> 30944.527 | AY36: =AY22-AY42-AY49 -> 32780.837 | BA36: =BA22-BA42-BA49 -> 33643.099 | BC36: =BC22-BC42-BC49 -> 29615 | BE36: =BE22-BE42-BE49 -> 30420 | BG36: =BG22-BG42-BG49 -> 24805 | BI36: =BI22-BI42-BI49 -> 17692 | BK36: =BK22-BK42-BK49 -> 58131 | BM36: =BM22-BM42-BM49 -> 59986.333 | BO36: =BO22-BO42-BO49 -> 40109 | BQ36: =BQ22-BQ42-BQ49 -> 40018 | BS36: =BS22-BS42-BS49 -> 42564 | BU36: =BU22-BU42-BU49 -> 61956.203 | BW36: =BW22-BW42-BW49 -> 109271 | BY36: =BY22-BY42-BY49 -> 71042
A37: EBITDA LTM | I37: =C36+E36+G36+I36 -> 4676.7 | K37: =E36+G36+I36+K36 -> 5329.7 | M37: =G36+I36+K36+M36 -> 11300.3 | O37: =I36+K36+M36+O36 -> 19027.962 | Q37: =K36+M36+O36+Q36 -> 29777 | S37: =M36+O36+Q36+S36 -> 28478.29 | U37: =O36+Q36+S36+U36 -> 28104.29 | W37: =Q36+S36+U36+W36 -> 25133.077 | Y37: =S36+U36+W36+Y36 -> 27465 | AA37: =U36+W36+Y36+AA36 -> 37734.71 | AC37: =W36+Y36+AA36+AC36 -> 20903.71 | AE37: =Y36+AA36+AC36+AE36 -> 19419.261 | AG37: =AA36+AC36+AE36+AG36 -> 17011 | AI37: =AC36+AE36+AG36+AI36 -> 6428 | AK37: =AE36+AG36+AI36+AK36 -> 30452.102 | AM37: =AG36+AI36+AK36+AM36 -> 40412.659 | AO37: =AI36+AK36+AM36+AO36 -> 41402.258 | AQ37: =AK36+AM36+AO36+AQ36 -> 52587.612 | AS37: =AM36+AO36+AQ36+AS36 -> 64226.51 | AU37: =AO36+AQ36+AS36+AU36 -> 108897.95 | AW37: =AQ36+AS36+AU36+AW36 -> 130754.88 | AY37: =AS36+AU36+AW36+AY36 -> 147038.36 | BA37: =AU36+AW36+AY36+BA36 -> 154805.46 | BC37: =AW36+AY36+BA36+BC36 -> 126983.46 | BE37: =AY36+BA36+BC36+BE36 -> 126458.94 | BG37: =BA36+BC36+BE36+BG36 -> 118483.1 | BI37: =BC36+BE36+BG36+BI36 -> 102532 | BK37: =BE36+BG36+BI36+BK36 -> 131048 | BM37: =BG36+BI36+BK36+BM36 -> 160614.33 | BO37: =BI36+BK36+BM36+BO36 -> 175918.33 | BQ37: =BK36+BM36+BO36+BQ36 -> 198244.33 | BS37: =BM36+BO36+BQ36+BS36 -> 182677.33 | BU37: =BO36+BQ36+BS36+BU36 -> 184647.2 | BW37: =BQ36+BS36+BU36+BW36 -> 253809.2 | BY37: =BS36+BU36+BW36+BY36 -> 284833.2
A38: Dívida Líquida/EBITDA contábil LTM | I38: =-'BP Histórico_Consolidado'!B150/'DRE Histórico_Consolidado'!I37 -> 15.784634 | K38: =-'BP Histórico_Consolidado'!D150/'DRE Histórico_Consolidado'!K37 -> 14.765747 | M38: =-'BP Histórico_Consolidado'!F150/'DRE Histórico_Consolidado'!M37 -> 6.0046193 | O38: =-'BP Histórico_Consolidado'!H150/'DRE Histórico_Consolidado'!O37 -> 3.6839994 | Q38: =-'BP Histórico_Consolidado'!J150/'DRE Histórico_Consolidado'!Q37 -> 2.6010679 | S38: =-'BP Histórico_Consolidado'!L150/'DRE Histórico_Consolidado'!S37 -> 2.7497437 | U38: =-'BP Histórico_Consolidado'!N150/'DRE Histórico_Consolidado'!U37 -> 2.6043355 | W38: =-'BP Histórico_Consolidado'!P150/'DRE Histórico_Consolidado'!W37 -> 2.7438741 | Y38: =-'BP Histórico_Consolidado'!R150/'DRE Histórico_Consolidado'!Y37 -> 1.8433643 | AA38: =-'BP Histórico_Consolidado'!T150/'DRE Histórico_Consolidado'!AA37 -> -1.9005579 | AC38: =-'BP Histórico_Consolidado'!V150/'DRE Histórico_Consolidado'!AC37 -> -3.6366751 | AE38: =-'BP Histórico_Consolidado'!X150/'DRE Histórico_Consolidado'!AE37 -> -3.5283526 | AG38: =-'BP Histórico_Consolidado'!Z150/'DRE Histórico_Consolidado'!AG37 -> -3.077832 | AI38: =-'BP Histórico_Consolidado'!AB150/'DRE Histórico_Consolidado'!AI37 -> -4.1924393 | AK38: =-'BP Histórico_Consolidado'!AD150/'DRE Histórico_Consolidado'!AK37 -> -0.70533719 | AM38: =-'BP Histórico_Consolidado'!AF150/'DRE Histórico_Consolidado'!AM37 -> -0.72232317 | AO38: =-'BP Histórico_Consolidado'!AH150/'DRE Histórico_Consolidado'!AO37 -> -0.38942523 | AQ38: =-'BP Histórico_Consolidado'!AJ150/'DRE Histórico_Consolidado'!AQ37 -> -0.0027953351 | AS38: =-'BP Histórico_Consolidado'!AL150/'DRE Histórico_Consolidado'!AS37 -> 0.33405209 | AU38: =-'BP Histórico_Consolidado'!AN150/'DRE Histórico_Consolidado'!AU37 -> 0.20263925 | AW38: =-'BP Histórico_Consolidado'!AP150/'DRE Histórico_Consolidado'!AW37 -> 0.35798281 | AY38: =-'BP Histórico_Consolidado'!AR150/'DRE Histórico_Consolidado'!AY37 -> 0.56324756 | BA38: =-'BP Histórico_Consolidado'!AT150/'DRE Histórico_Consolidado'!BA37 -> 1.3276857 | BC38: =-'BP Histórico_Consolidado'!AV150/'DRE Histórico_Consolidado'!BC37 -> 1.501542 | BE38: =-'BP Histórico_Consolidado'!AX150/'DRE Histórico_Consolidado'!BE37 -> 1.9404006 | BG38: =-'BP Histórico_Consolidado'!AZ150/'DRE Histórico_Consolidado'!BG37 -> 1.4993531 | BI38: =-'BP Histórico_Consolidado'!BB150/'DRE Histórico_Consolidado'!BI37 -> 2.2356728 | BK38: =-'BP Histórico_Consolidado'!BD150/'DRE Histórico_Consolidado'!BK37 -> 2.8914367 | BM38: =-'BP Histórico_Consolidado'!BF150/'DRE Histórico_Consolidado'!BM37 -> 2.3690601 | BO38: =-'BP Histórico_Consolidado'!BH150/'DRE Histórico_Consolidado'!BO37 -> 2.4914572 | BQ38: =-'BP Histórico_Consolidado'!BJ150/'DRE Histórico_Consolidado'!BQ37 -> 2.3992332 | BS38: =-'BP Histórico_Consolidado'!BL150/'DRE Histórico_Consolidado'!BS37 -> 1.7458105 | BU38: =-'BP Histórico_Consolidado'!BN150/'DRE Histórico_Consolidado'!BU37 -> 3.4569979 | BW38: =-'BP Histórico_Consolidado'!BP150/'DRE Histórico_Consolidado'!BW37 -> 2.4597059 | BY38: =-'BP Histórico_Consolidado'!BR150/'DRE Histórico_Consolidado'!BY37 -> 2.6177882
A40: Custo dos produtos vendidos
A41: Custo de Execução de Obras (incluir provisão para mobilização e desmobilização) | C41: -36343 | E41: -41184 | G41: -52981 | I41: -56866 | K41: =-59650-128 -> -59778 | M41: =-130605-687-K41 -> -71514 | O41: =-196773.19459-855.09617-M41-K41 -> -66336.291 | Q41: =-266123+907-O41-M41-K41 -> -67587.709 | S41: -64305.681 | U41: =-26067-25294-15975 -> -67336 | W41: =-200422-U41-S41 -> -68780.319 | Y41: =-261087-6420-W41-U41-S41 -> -67085 | AA41: =-38543-17049 -> -55592 | AC41: =-99592+2969-570-AA41 -> -41601 | AE41: =-134271-1238-AC41-AA41 -> -38316 | AG41: =-180970-2437-543-AE41-AC41-AA41 -> -48441 | AI41: -60103 | AK41: -81356 | AM41: -92830.416 | AO41: -94715.786 | AQ41: =-90434.65885 -> -90434.659 | AS41: -117263 | AU41: =-123378-1 -> -123379 | AW41: -135194.95 | AY41: -145141.6 | BA41: -153604.94 | BC41: -176967 | BE41: -181958.37 | BG41: -138293.25 | BI41: -125509 | BK41: -155852.65 | BM41: -178281 | BO41: -166416.49 | BQ41: -177041 | BS41: -175350.15 | BU41: -223506.82 | BW41: -211200 | BY41: -235402.1
A42: Depreciação de Equipamentos Locados | C42: -1874 | E42: =-1924+0.3 -> -1923.7 | G42: -2834 | I42: =-3255+19 -> -3236 | K42: -3305 | M42: -3373 | O42: =-10037.68703-M42-K42 -> -3359.687 | Q42: =-11785-O42-M42-K42 -> -1747.313 | S42: =-3902663.82/1000 -> -3902.6638 | U42: =-1330-1400-1384 -> -4114 | W42: =-11732.479436-511.25932-U42-S42 -> -4227.0749 | Y42: =-15741-678-W42-U42-S42 -> -4175.2612 | AA42: =-2894-1449 -> -4343 | AC42: =-4396-1 -> -4397 | AE42: =-13620-AC42-AA42 -> -4880 | AG42: =-18103-AE42-AC42-AA42 -> -4483 | AI42: -3904 | AK42: -4422 | AM42: -4561.5572 | AO42: -4142.1094 | AQ42: =-4880.17073-8.40686 -> -4888.5776 | AS42: -5217 | AU42: -5605 | AW42: -5499.4224 | AY42: -5497.9371 | BA42: -6105.0252 | BC42: -6408 | BE42: -7582 | BG42: -7223 | BI42: -7604 | BK42: -8420 | BM42: -8537 | BO42: -9018 | BQ42: -8791 | BS42: -8973 | BU42: -20537.168 | BW42: -24659 | BY42: -24632
A43: Outros Custos | C43: =C44-C41-C42 -> -1269 | E43: =E44-E41-E42 -> -1435.3 | G43: =G44-G41-G42 -> -1428 | I43: =I44-I41-I42 -> -1725 | K43: =K44-K41-K42 -> -2438 | M43: =M44-M41-M42 -> -2432 | O43: =O44-O41-O42 -> -1252.0222 | Q43: =Q44-Q41-Q42 -> 909.02221 | S43: =S44-S41-S42 -> -4141.6549 | U43: =U44-U41-U42 -> -8319 | W43: =W44-W41-W42 -> -1638.6063 | Y43: =Y44-Y41-Y42 -> -1559.7388 | AA43: =AA44-AA41-AA42 -> -1772 | AC43: =AC44-AC41-AC42 -> -6437 | AE43: =AE44-AE41-AE42 -> -2184 | AG43: =AG44-AG41-AG42 -> -2618 | AI43: =AI44-AI41-AI42 -> -3023 | AK43: =AK44-AK41-AK42 -> -4276 | AM43: -5029.4671 | AO43: -4324.9368 | AQ43: -8441.7636 | AS43: -22057 | AU43: -47384 | AW43: -49547.164 | AY43: -41031.744 | BA43: -39371.64 | BC43: -34070 | BE43: -33100.386 | BG43: -27399.638 | BI43: -33158 | BK43: -139548.09 | BM43: -130635 | BO43: -119570.07 | BQ43: -104259 | BS43: -100741.71 | BU43: -139070.12 | BW43: -121317 | BY43: -115137.1
