Workbook
Name _A100243: #REF!
Name _A100243: #REF!
Name _A100801: #REF!
Name _A100801: #REF!
Name _A103801: #REF!
Name _A103801: #REF!
Name _A103809: #REF!
Name _A103809: #REF!
Name _A108102: #REF!
Name _A108102: #REF!
Name _A202005: #REF!
Name _A202005: #REF!
Name _A202007: #REF!
Name _A202007: #REF!
Name _A203202: #REF!
Name _A203202: #REF!
Name _A203217: #REF!
Name _A203217: #REF!
Name _A203913: #REF!
Name _A203913: #REF!
Name _A211003: #REF!
Name _A211003: #REF!
Name _A211014: #REF!
Name _A211014: #REF!
Name _ATU2: #REF!
Name _ATU2: #REF!
Name _ATU2: #REF!
Name A1000XX: #REF!
Name A1000XX: #REF!
Name A10020404: #REF!
Name A10020404: #REF!
Name A10020902: #REF!
Name A10020902: #REF!
Name A10021002: #REF!
Name A10021002: #REF!
Name A10022520: #REF!
Name A10022520: #REF!
Name A10030101: #REF!
Name A10030101: #REF!
Name A1015Cr: #REF!
Name A1015Cr: #REF!
Name A1017Cr: #REF!
Name A1017Cr: #REF!
Name A1035XX: #REF!
Name A1035XX: #REF!
Name A1082Cr: #REF!
Name A1082Cr: #REF!
Name A1090Cr: #REF!
Name A1090Cr: #REF!
Name A1098Cr: #REF!
Name A1098Cr: #REF!
Name A11Cr: #REF!
Name A11Cr: #REF!
Name A12Cr: #REF!
Name A12Cr: #REF!
Name A2003Cr: #REF!
Name A2003Cr: #REF!
Name A2010Cr: #REF!
Name A2010Cr: #REF!
Name A2040XX: #REF!

Sheet Ativo
C2: 2011 | D2: 2012 | E2: 2013 | F2: 2014 | G2: 2015 | H2: 2016 | I2: 2017 | K2: 2018 | P2: 2019 | U2: 2020 | Z2: 2021 | AE2: 2022 | AJ2: 2023 | AO2: 2024 | AT2: 2025 | AY2: 2026
C3: 4T2011 | D3: 4T2012 | E3: 4T2013 | F3: 4T2014 | G3: 4T2015 | H3: 4T2016 | I3: 4T2017 | K3: 1T2018 | L3: 2T2018 | M3: 3T2018 | N3: 4T2018 | P3: 1T2019 | Q3: 2T2019 | R3: 3T2019 | S3: 4T2019 | U3: 1T2020 | V3: 2T2020 | W3: 3T2020 | X3: 4T2020 | Z3: 1T2021 | AA3: 2T2021 | AB3: 3T2021 | AC3: 4T2021 | AE3: 1T2022 | AF3: 2T2022 | AG3: 3T2022 | AH3: 4T2022 | AJ3: 1T2023 | AK3: 2T2023 | AL3: 3T2023 | AM3: 4T2023 | AO3: 1T2024 | AP3: 2T2024 | AQ3: 3T2024 | AR3: 4T2024 | AT3: 1T2025 | AU3: 2T2025 | AV3: 3T2025 | AW3: 4T2025 | AY3: 1T2026 | AZ3: 2T2026 | BA3: 3T2026 | BB3: 4T2026
B5: Ativo | C5: 40908 | D5: 41274 | E5: 41639 | F5: 42004 | G5: 42369 | H5: 42735 | I5: 43100 | K5: 43190 | L5: 43281 | M5: 43373 | N5: 43465 | P5: 43555 | Q5: 43646 | R5: 43738 | S5: 43830 | U5: 43921 | V5: 44012 | W5: 44104 | X5: 44196 | Z5: 44286 | AA5: 44377 | AB5: 44469 | AC5: 44561 | AE5: 44651 | AF5: 44742 | AG5: 44834 | AH5: 44926 | AJ5: 45016 | AK5: 45107 | AL5: 45199 | AM5: 45291 | AO5: 45382 | AP5: 45473 | AQ5: 45565 | AR5: 45657 | AT5: 45747 | AU5: 45838 | AV5: 45930 | AW5: 46022 | AY5: 46112 | AZ5: 46203 | BA5: 46295 | BB5: 46387
B7: Ativo circulante | C7: 251595 | D7: 299824 | E7: 400965 | F7: 459802 | G7: 504548 | H7: 528142 | I7: 607228 | K7: 927303 | L7: 1121081 | M7: 1135234 | N7: 772074 | P7: 1261547 | Q7: 1209756 | R7: 1214120 | S7: 1146288 | U7: 1694427 | V7: 1224709 | W7: 1607446 | X7: 1770014 | Z7: 2535501 | AA7: 3079581 | AB7: 3555877 | AC7: 3354305 | AE7: 3833602 | AF7: 4196889 | AG7: 4229096 | AH7: 4257219 | AJ7: 4452987.7 | AK7: 4120910 | AL7: 4266606 | AM7: 4422008 | AO7: 4849333 | AP7: 5878986 | AQ7: =SUM(AQ8:AQ10,AQ11:AQ15) -> 5873922 | AR7: =SUM(AR8:AR10,AR11:AR15) -> 5776390 | AT7: =SUM(AT8:AT10,AT11:AT15) -> 6427671 | AU7: =SUM(AU8:AU10,AU11:AU15) -> 7670246 | AV7: =SUM(AV8:AV10,AV11:AV15) -> 7973507 | AW7: =SUM(AW8:AW10,AW11:AW15) -> 8134041 | AY7: =SUM(AY8:AY10,AY11:AY15) -> 9233628 | AZ7: =SUM(AZ8:AZ10,AZ11:AZ15) -> 8774829 | BA7: =SUM(BA8:BA10,BA11:BA15) -> 0 | BB7: =SUM(BB8:BB10,BB11:BB15) -> 0
B8: Caixa e equivalentes de caixa | C8: 19270 | D8: 49476 | E8: 49705 | F8: 37300 | G8: 39030 | H8: 37252 | I8: 35870 | K8: 41403 | L8: 20448 | M8: 61382 | N8: 136847 | P8: 71307 | Q8: 54899 | R8: 80420 | S8: 168910 | U8: 101248 | V8: 91402 | W8: 135262 | X8: 252692 | Z8: 547193 | AA8: 161896 | AB8: 560333 | AC8: 351590 | AE8: 720271 | AF8: 500991 | AG8: 872401 | AH8: 724314 | AJ8: 931919.37 | AK8: 646950 | AL8: 914435 | AM8: 1028483 | AO8: 935238 | AP8: 1448705 | AQ8: 1635124 | AR8: 1696858 | AT8: 1539875 | AU8: 1686809 | AV8: 2123163 | AW8: 2560066 | AY8: 2386696 | AZ8: 1309345
B9: Aplicações Financeiras | C9: 0 | D9: 0 | E9: 0 | F9: 0 | G9: 0 | H9: 0 | I9: 0 | K9: 0 | L9: 0 | M9: 0 | N9: 0 | P9: 0 | Q9: 0 | R9: 0 | S9: 0 | U9: 0 | V9: 0 | W9: 0 | X9: 0 | Z9: 0 | AA9: 0 | AB9: 769428 | AC9: 739002 | AE9: 590375 | AF9: 403780 | AG9: 357875 | AH9: 154841 | AJ9: 159987.61 | AK9: 164897 | AL9: 231655 | AM9: 197451 | AO9: 146480 | AP9: 185149 | AQ9: 10793 | AR9: 75404 | AT9: 115009 | AU9: 159980 | AV9: 46513 | AW9: 195360 | AY9: 203753 | AZ9: 112705
B10: Contas a receber | C10: 68930 | D10: 74485 | E10: 100332 | F10: 149543 | G10: 166141 | H10: 206358 | I10: 244097 | K10: 431120 | L10: 300313 | M10: 316835 | N10: 278666 | P10: 479114 | Q10: 247233 | R10: 217094 | S10: 394392 | U10: 643294 | V10: 220228 | W10: 515749 | X10: 634246 | Z10: 847782 | AA10: 68131 | AB10: 249281 | AC10: 701919 | AE10: 865658 | AF10: 192913 | AG10: 310559 | AH10: 1037931 | AJ10: 998931.8 | AK10: 473988 | AL10: 567379 | AM10: 1238679 | AO10: 1539829 | AP10: 747027 | AQ10: 865931 | AR10: 1396538 | AT10: 1496356 | AU10: 1126424 | AV10: 1865576 | AW10: 2147422 | AY10: 2651096 | AZ10: 1616842
B11: Estoques | C11: 93441 | D11: 80616 | E11: 166412 | F11: 163159 | G11: 190098 | H11: 252790 | I11: 292143 | K11: 365833 | L11: 589625 | M11: 492785 | N11: 282871 | P11: 541047 | Q11: 697612 | R11: 645947 | S11: 487036 | U11: 842575 | V11: 816939 | W11: 852388 | X11: 783523 | Z11: 949111 | AA11: 2494391 | AB11: 1818822 | AC11: 1426503 | AE11: 1417953 | AF11: 2884855 | AG11: 2402766 | AH11: 2030031 | AJ11: 2059084.5 | AK11: 2551994 | AL11: 2086615 | AM11: 1516014 | AO11: 1857696 | AP11: 3086614 | AQ11: 2731157 | AR11: 1920988 | AT11: 2749063 | AU11: 3826264 | AV11: 2500191 | AW11: 2158891 | AY11: 2763892 | AZ11: 4216678
B12: Imposto de Renda e Contribuição Social | AR12: 41909 | AT12: 40754 | AU12: 5398 | AV12: 65343 | AW12: 7866 | AY12: 12826 | AZ12: 55086
B13: Tributos a recuperar | C13: 2542 | D13: 4259 | E13: 8174 | F13: 20961 | G13: 22259 | H13: 5574 | I13: 10261 | K13: 16944 | L13: 28629 | M13: 42501 | N13: 18466 | P13: 24588 | Q13: 35736 | R13: 30100 | S13: 27591 | U13: 34539 | V13: 42114 | W13: 53445 | X13: 45169 | Z13: 45140 | AA13: 50576 | AB13: 67794 | AC13: 63576 | AE13: 84454 | AF13: 122568 | AG13: 180087 | AH13: 134967 | AJ13: 147690 | AK13: 135599 | AL13: 180116 | AM13: 207054 | AO13: 220938 | AP13: 213212 | AQ13: 227302 | AR13: 167431 | AT13: 120040 | AU13: 255342 | AV13: 334095 | AW13: 325253 | AY13: 351595 | AZ13: 368540
B14: Despesas antecipadas | C14: 775 | D14: 1661 | E14: 2141 | F14: 4804 | G14: 699 | H14: 502 | I14: 1342 | K14: 2811 | L14: 1919 | M14: 4201 | N14: 899 | P14: 7291 | Q14: 8114 | R14: 10679 | S14: 3753 | U14: 11253 | V14: 790 | W14: 664 | X14: 1395 | Z14: 10796 | AA14: 23411 | AB14: 20191 | AC14: 9662 | AE14: 7908 | AF14: 16795 | AG14: 3839 | AH14: 5955 | AJ14: 12121 | AK14: 13580 | AL14: 10132 | AM14: 9525 | AO14: 11495 | AP14: 5447 | AQ14: 15828 | AR14: 8829 | AT14: 8006 | AU14: 16796 | AV14: 78833 | AW14: 62348 | AY14: 149538 | AZ14: 182472
B15: Outros ativos circulantes | C15: =SUM(C16:C19) -> 66637 | D15: =SUM(D16:D19) -> 89327 | E15: =SUM(E16:E19) -> 74201 | F15: =SUM(F16:F19) -> 84035 | G15: =SUM(G16:G19) -> 86321 | H15: =SUM(H16:H19) -> 25666 | I15: =SUM(I16:I19) -> 23515 | K15: 69192 | L15: 180147 | M15: 217530 | N15: 54325 | P15: 138200 | Q15: 166162 | R15: 229880 | S15: 64606 | U15: 61518 | V15: 53236 | W15: 49938 | X15: 52989 | Z15: 135479 | AA15: 281176 | AB15: 70028 | AC15: 62053 | AE15: 146983 | AF15: 74987 | AG15: 101569 | AH15: 169180 | AJ15: 143253.33 | AK15: 133902 | AL15: 276274 | AM15: 224802 | AO15: 137657 | AP15: 192832 | AQ15: =SUM(AQ16:AQ19) -> 387787 | AR15: =SUM(AR16:AR19) -> 468433 | AT15: =SUM(AT16:AT19) -> 358568 | AU15: =SUM(AU16:AU19) -> 593233 | AV15: =SUM(AV16:AV19) -> 959793 | AW15: =SUM(AW16:AW19) -> 676835 | AY15: =SUM(AY16:AY19) -> 714232 | AZ15: =SUM(AZ16:AZ19) -> 913161 | BA15: =SUM(BA16:BA19) -> 0 | BB15: =SUM(BB16:BB19) -> 0
B16: Adiantamentos | C16: 17320 | D16: 9347 | E16: 6603 | F16: 19203 | G16: 9084 | H16: 5853 | I16: 6735 | K16: 5900 | L16: 102294 | M16: 94973 | N16: 7733 | P16: 34114 | Q16: 55888 | R16: 73136 | S16: 18123 | U16: 15531 | V16: 20002 | W16: 21854 | X16: 12392 | Z16: 3845 | AA16: 7445 | AB16: 4777 | AC16: 686 | AE16: 143 | AF16: 607 | AG16: 1088 | AH16: 9470 | AJ16: 4389.1739 | AK16: 8822 | AL16: 592 | AM16: 1649 | AO16: 900 | AP16: 1550 | AQ16: 1215 | AR16: 3934 | AT16: 3674 | AU16: 2099 | AV16: 327985 | AW16: 129283 | AY16: 161571 | AZ16: 409086
B17: Instrumentos financeiros derivativos | C17: 49265 | D17: 79930 | E17: 67216 | F17: 50827 | G17: 70747 | H17: 8720 | I17: 2614 | K17: 47452 | L17: 64359 | M17: 109350 | N17: 19848 | P17: 79510 | Q17: 72937 | R17: 104789 | S17: 13888 | U17: 1450 | V17: 12367 | W17: 14110 | X17: 6869 | Z17: 86194 | AA17: 231065 | AB17: 29801 | AC17: 25089 | AE17: 95693 | AF17: 17293 | AG17: 47599 | AH17: 83048 | AJ17: 53593.381 | AK17: 43820 | AL17: 195506 | AM17: 166912 | AO17: 66853 | AP17: 126330 | AQ17: 314865 | AR17: 402092 | AT17: 294367 | AU17: 528823 | AV17: 568600 | AW17: 508095 | AY17: 502535 | AZ17: 451485
B18: Partes Relacionadas | C18: 0 | D18: 0 | E18: 0 | F18: 0 | G18: 5846 | H18: 7381 | I18: 8944 | K18: 8946 | L18: 8944 | M18: 8942 | N18: 8944 | P18: 8944 | Q18: 8944 | R18: 8944 | S18: 8944 | U18: 8944 | V18: 8944 | W18: 8944 | X18: 7267 | Z18: 7488 | AA18: 7629 | AB18: 7841 | AC18: 5733 | AE18: 5879 | AF18: 6057 | AG18: 6035 | AH18: 16490 | AJ18: 16820.252 | AK18: 17082 | AL18: 17128 | AM18: 13467 | AO18: 13504 | AP18: 13639 | AQ18: 13717 | AR18: 9909 | AT18: 10103 | AU18: 10229 | AV18: 10269 | AW18: 0 | AY18: 0 | AZ18: 0
B19: Outros ativos | C19: 52 | D19: 50 | E19: 382 | F19: 14005 | G19: 644 | H19: 3712 | I19: 5222 | K19: 6894 | L19: 4550 | M19: 4265 | N19: 17800 | P19: 15632 | Q19: 28393 | R19: 43011 | S19: 23651 | U19: 35593 | V19: 11923 | W19: 5030 | X19: 26461 | Z19: 37952 | AA19: 35037 | AB19: 27609 | AC19: 30545 | AE19: 45268 | AF19: 51030 | AG19: 46847 | AH19: 60172 | AJ19: 68450.696 | AK19: 64178 | AL19: 63048 | AM19: 42774 | AO19: 56400 | AP19: 51313 | AQ19: 57990 | AR19: 52498 | AT19: 50424 | AU19: 52082 | AV19: 52939 | AW19: 39457 | AY19: 50126 | AZ19: 52590
B21: Ativo não circulante | C21: 142060 | D21: 183523 | E21: 218862 | F21: 244281 | G21: 278932 | H21: 260518 | I21: 281879 | K21: 282311 | L21: 282750 | M21: 286271 | N21: 376759 | P21: 318398 | Q21: 347429 | R21: 362178 | S21: 491326 | U21: 519257 | V21: 537267 | W21: 549567 | X21: 551359 | Z21: 598441 | AA21: 651766 | AB21: 797259 | AC21: 1041296 | AE21: 1182922 | AF21: 1329257 | AG21: 1598937 | AH21: 1824770 | AJ21: 1983047.1 | AK21: 2141793 | AL21: 2356053 | AM21: 2461781 | AO21: 2593178 | AP21: 2651233 | AQ21: =SUM(AQ23:AQ34,AQ37) -> 2664887 | AR21: =SUM(AR22:AR34,AR37) -> 3113033 | AT21: =SUM(AT22:AT34,AT37,AT38) -> 3405682 | AU21: =SUM(AU22:AU34,AU37,AU38) -> 3914162 | AV21: =SUM(AV22:AV34,AV37,AV38) -> 4408046 | AW21: =SUM(AW22:AW34,AW37,AW38) -> 4970314 | AY21: =SUM(AY22:AY34,AY37,AY38) -> 5412463 | AZ21: =SUM(AZ22:AZ34,AZ37,AZ38) -> 5705269 | BA21: =SUM(BA22:BA34,BA37,BA38) -> 0 | BB21: =SUM(BB22:BB34,BB37,BB38) -> 0
B22: Imposto de Renda e Contribuição Social | AR22: 146604 | AT22: 150987 | AU22: 105353 | AV22: 109256 | AW22: 113181 | AY22: 114494 | AZ22: 114494
B23: Impostos a recuperar | C23: 0 | D23: 0 | E23: 0 | F23: 0 | G23: 0 | H23: 0 | I23: 31746 | K23: 0 | L23: 0 | M23: 0 | N23: 81383 | P23: 9313 | Q23: 9313 | R23: 9313 | S23: 122987 | U23: 123039 | V23: 123039 | W23: 123039 | X23: 121959 | Z23: 129110 | AA23: 119301 | AB23: 119828 | AC23: 122059 | AE23: 124260 | AF23: 127873 | AG23: 132100 | AH23: 173137 | AJ23: 177560 | AK23: 181982 | AL23: 186647 | AM23: 193794 | AO23: 196737 | AP23: 207057 | AQ23: 206511 | AR23: 70701 | AT23: 86912 | AU23: 100576 | AV23: 109184 | AW23: 122866 | AY23: 190903 | AZ23: 220843
B24: Contas a receber clientes | C24: 0 | D24: 0 | E24: 0 | F24: 0 | G24: 0 | H24: 0 | I24: 0 | K24: 0 | L24: 0 | M24: 0 | N24: 0 | P24: 0 | Q24: 0 | R24: 0 | S24: 0 | U24: 0 | V24: 0 | W24: 0 | X24: 0 | Z24: 0 | AA24: 0 | AB24: 0 | AC24: 14757 | AE24: 17115 | AF24: 2156 | AG24: 1066 | AH24: 1528 | AJ24: 9142.49 | AK24: 3453 | AL24: 5636 | AM24: 7212 | AO24: 7816 | AP24: 6000 | AQ24: 4437 | AR24: 5574 | AT24: 28593 | AU24: 104986 | AV24: 39442 | AW24: 56418 | AY24: 67613 | AZ24: 143919
B25: Depósitos Judiciais | C25: 0 | D25: 0 | E25: 0 | F25: 0 | G25: 0 | H25: 0 | I25: 0 | K25: 0 | L25: 0 | M25: 0 | N25: 255 | P25: 255 | Q25: 255 | R25: 255 | S25: 274 | U25: 290 | V25: 290 | W25: 290 | X25: 290 | Z25: 290 | AA25: 214 | AB25: 214 | AC25: 214 | AE25: 198 | AF25: 198.42775 | AG25: 188 | AH25: 121 | AJ25: 172.05946 | AK25: 100 | AL25: 118 | AM25: 116 | AO25: 133 | AP25: 180 | AQ25: 180 | AR25: 168 | AT25: 139 | AU25: 135 | AV25: 122 | AW25: 201 | AY25: 249 | AZ25: 216
B26: Despesas antecipadas | C26: 0 | D26: 0 | E26: 0 | F26: 0 | G26: 0 | H26: 0 | I26: 0 | K26: 7147 | L26: 4185 | M26: 4089 | N26: 293 | P26: 4063 | Q26: 3895 | R26: 4813 | S26: 149 | U26: 318 | V26: 84 | W26: 54 | X26: 0 | Z26: 0 | AA26: 0 | AB26: 0 | AC26: 0 | AE26: 0 | AF26: 0 | AG26: 0 | AH26: 0 | AJ26: 0 | AK26: 0 | AL26: 0 | AM26: 0 | AO26: 0 | AP26: 0 | AQ26: 0 | AR26: 0 | AT26: 0 | AU26: 0 | AV26: 0 | AW26: - | AY26: 0 | AZ26: 0
B27: Impostos diferidos | C27: 0 | D27: 0 | E27: 0 | F27: 0 | G27: 18472 | H27: 5198 | I27: 0 | K27: 23 | L27: 23 | M27: 23 | N27: 11644 | P27: 6681 | Q27: 6681 | R27: 6681 | S27: 6276 | U27: 12352 | V27: 10641 | W27: 9231 | X27: 0 | Z27: 6005 | AA27: 0 | AB27: 11336 | AC27: 92187 | AE27: 105910 | AF27: 77135 | AG27: 125405 | AH27: 123194 | AJ27: 132364 | AK27: 153242 | AL27: 257596 | AM27: 273664 | AO27: 257469 | AP27: 192969 | AQ27: 90879 | AR27: 167859 | AT27: 112847 | AU27: 0 | AV27: 1406 | AW27: 38619 | AY27: 89627 | AZ27: 38957
B28: Contas a receber de partes relacionadas | C28: 0 | D28: 0 | E28: 0 | F28: 0 | G28: 41669 | H28: 38577 | I28: 33548 | K28: 33548 | L28: 33548 | M28: 33548 | N28: 28548 | P28: 28548 | Q28: 28548 | R28: 28548 | S28: 23548 | U28: 23548 | V28: 23548 | W28: 23548 | X28: 19786 | Z28: 20388 | AA28: 20771 | AB28: 21348 | AC28: 17400 | AE28: 17842 | AF28: 18384 | AG28: 18315 | AH28: 0 | AJ28: 0 | AK28: 0 | AL28: 0 | AM28: 0 | AO28: 0 | AP28: 0 | AQ28: 0 | AR28: 0 | AT28: 0 | AU28: 0 | AV28: 0 | AW28: - | AY28: 0 | AZ28: 0
B29: Instrumentos financeiros | C29: 0 | D29: 0 | E29: 0 | F29: 0 | G29: 0 | H29: 0 | I29: 0 | K29: 0 | L29: 0 | M29: 0 | N29: 0 | P29: 0 | Q29: 0 | R29: 0 | S29: 0 | U29: 0 | V29: 0 | W29: 0 | X29: 0 | Z29: 0 | AA29: 0 | AB29: 0 | AC29: 0 | AE29: 1114 | AF29: 2974 | AG29: 1987 | AH29: 1387 | AJ29: 0 | AK29: 0 | AL29: 0 | AM29: 0 | AO29: 0 | AP29: 9176 | AQ29: 8488 | AR29: 0 | AT29: 0 | AU29: 0 | AV29: 2750 | AW29: 71 | AY29: 0 | AZ29: 0
B30: Outros valores a receber | C30: 0 | D30: 0 | E30: 0 | F30: 36000 | G30: 417 | H30: 1064 | I30: 3255 | K30: 3511 | L30: 3790 | M30: 3703 | N30: 3471 | P30: 3748 | Q30: 3494 | R30: 3732 | S30: 3500 | U30: 0 | V30: 3328 | W30: 3517 | X30: 1504 | Z30: 1898 | AA30: 2201 | AB30: 2301 | AC30: 1092 | AE30: 989 | AF30: 1266 | AG30: 1366 | AH30: 1486 | AJ30: 1613 | AK30: 1774 | AL30: 1892 | AM30: 2041 | AO30: 792 | AP30: 1021 | AQ30: 1021 | AR30: 1035 | AT30: 0 | AU30: 1066 | AV30: 1066 | AW30: 1088 | AY30: 1080 | AZ30: 1107
B31: Despesas a apropriar | C31: 0 | D31: 0 | E31: 1786 | F31: 1530 | G31: 12 | H31: 0 | I31: 0 | K31: 0 | L31: 0 | M31: 0 | N31: 0 | P31: 0 | Q31: 0 | R31: 0 | S31: 0 | U31: 0 | V31: 0 | W31: 0 | X31: 0 | Z31: 0 | AA31: 0 | AB31: 0 | AC31: 0 | AE31: 0 | AF31: 0 | AG31: 0 | AH31: 0 | AJ31: 0 | AK31: 0 | AL31: 0 | AM31: 0 | AO31: 0 | AP31: 0 | AQ31: 0 | AR31: 0 | AT31: 1041 | AU31: 0 | AV31: 0 | AW31: 0 | AY31: 0 | AZ31: 0
AZ32: 0
B33: Investimentos | C33: 13336 | D33: 13778 | E33: 14081 | F33: 69 | G33: 0 | H33: 0 | I33: 0 | K33: 0 | L33: 0 | M33: 0 | N33: 0 | P33: 0 | Q33: 0 | R33: 0 | S33: 0 | U33: 0 | V33: 0 | W33: 0 | X33: 0 | Z33: 0 | AA33: 0 | AB33: 0 | AC33: 0 | AE33: 0 | AF33: 45.594 | AG33: 0 | AH33: 0 | AJ33: 0 | AK33: 0 | AL33: 0 | AM33: 0 | AO33: 1792 | AP33: 5183 | AQ33: 5105 | AR33: 5179 | AT33: 4949 | AU33: 18592 | AV33: 18298 | AW33: 18515 | AY33: 16486 | AZ33: 16947
B34: Imobilizado | C34: 128261 | D34: 168993 | E34: 202172 | F34: 206237 | G34: 217893 | H34: 215117 | I34: 212881 | K34: 237537 | L34: 240561 | M34: 244269 | N34: 250561 | P34: 265098 | Q34: 294598 | R34: 308223 | S34: 334037 | U34: 359214 | V34: 375895 | W34: 389511 | X34: 407490 | Z34: 440234 | AA34: 508728 | AB34: 641725 | AC34: 793132 | AE34: 915085 | AF34: 1098838 | AG34: 1318124 | AH34: 1523576 | AJ34: 1657842.2 | AK34: 1794415 | AL34: 1888609 | AM34: 1965621 | AO34: 2100046 | AP34: 2188395 | AQ34: =SUM(AQ35:AQ36) -> 2299430 | AR34: =SUM(AR35:AR36) -> 2660660 | AT34: =SUM(AT35:AT36) -> 2957266 | AU34: =SUM(AU35:AU36) -> 3512163 | AV34: =SUM(AV35:AV36) -> 4042950 | AW34: =AW35+AW36 -> 4516503 | AY34: =AY35+AY36 -> 4809722 | AZ34: =AZ35+AZ36 -> 5038694
B35: Imobilizado em operação | C35: 128261 | D35: 168993 | E35: 202172 | F35: 206237 | G35: 217893 | H35: 215117 | I35: 212881 | K35: 237537 | L35: 240561 | M35: 244269 | N35: 250561 | P35: 265098 | Q35: 294598 | R35: 308223 | S35: 330210 | U35: 356865 | V35: 373962 | W35: 388073 | X35: 406564 | Z35: 438471 | AA35: 497774 | AB35: 631917 | AC35: 779552 | AE35: 899207 | AF35: 1082037 | AG35: 1302570 | AH35: 1500239 | AJ35: 1635997.1 | AK35: 1774354 | AL35: 1869071 | AM35: 1947515 | AO35: 2083895 | AP35: 2170953 | AQ35: 2283714 | AR35: 2638711 | AT35: 2933499 | AU35: 3489386 | AV35: 4007526 | AW35: 4472432 | AY35: 4767146 | AZ35: 4992527
B36: Direito de uso em arrendamentos | C36: 0 | D36: 0 | E36: 0 | F36: 0 | G36: 0 | H36: 0 | I36: 0 | K36: 0 | L36: 0 | M36: 0 | N36: 0 | P36: 0 | Q36: 0 | R36: 0 | S36: 3827 | U36: 2349 | V36: 1933 | W36: 1438 | X36: 926 | Z36: 1763 | AA36: 10954 | AB36: 9808 | AC36: 13580 | AE36: 15878 | AF36: 16801 | AG36: 15554 | AH36: 23337 | AJ36: 21845.141 | AK36: 20061 | AL36: 19538 | AM36: 18106 | AO36: 16151 | AP36: 17442 | AQ36: 15716 | AR36: 21949 | AT36: 23767 | AU36: 22777 | AV36: 35424 | AW36: 44071 | AY36: 42576 | AZ36: 46167
B37: Intangível | C37: 463 | D37: 752 | E37: 823 | F37: 445 | G37: 469 | H37: 562 | I37: 449 | K37: 545 | L37: 643 | M37: 639 | N37: 604 | P37: 692 | Q37: 645 | R37: 613 | S37: 555 | U37: 496 | V37: 442 | W37: 377 | X37: 330 | Z37: 516 | AA37: 551 | AB37: 507 | AC37: 455 | AE37: 409 | AF37: 387 | AG37: 386 | AH37: 341 | AJ37: 4353.5226 | AK37: 6827 | AL37: 15555 | AM37: 19333 | AO37: 28393 | AP37: 41252 | AQ37: 48836 | AR37: 55253 | AT37: 62474 | AU37: 70401 | AV37: 80725 | AW37: 86863 | AY37: 91237 | AZ37: 87371
B38: Ativo Biológico | AT38: 474 | AU38: 890 | AV38: 2847 | AW38: 15989 | AY38: 31052 | AZ38: 42721
B40: TOTAL DO ATIVO | C40: =C7+C21 -> 393655 | D40: =D7+D21 -> 483347 | E40: =E7+E21 -> 619827 | F40: =F7+F21 -> 704083 | G40: =G7+G21 -> 783480 | H40: =H7+H21 -> 788660 | I40: =I7+I21 -> 889107 | K40: 1209614 | L40: 1403831 | M40: 1421505 | N40: 1148833 | P40: 1579945 | Q40: 1557185 | R40: 1576298 | S40: 1637614 | U40: 2213684 | V40: 1761976 | W40: 2157013 | X40: 2321373 | Z40: 3133942 | AA40: 3731347 | AB40: 4353136 | AC40: 4395601 | AE40: 5016524 | AF40: 5526146 | AG40: 5828033 | AH40: 6081989 | AJ40: 6436034.7 | AK40: 6262703 | AL40: 6622659 | AM40: 6883789 | AO40: =AO7+AO21 -> 7442511 | AP40: =AP7+AP21 -> 8530219 | AQ40: =AQ7+AQ21 -> 8538809 | AR40: =AR7+AR21 -> 8889423 | AT40: =AT7+AT21 -> 9833353 | AU40: =AU7+AU21 -> 11584408 | AV40: =AV7+AV21 -> 12381553 | AW40: =AW7+AW21 -> 13104355 | AY40: =AY7+AY21 -> 14646091 | AZ40: =AZ7+AZ21 -> 14480098 | BA40: =BA7+BA21 -> 0 | BB40: =BB7+BB21 -> 0

Sheet Passivo
C2: 2011 | D2: 2012 | E2: 2013 | F2: 2014 | G2: 2015 | H2: 2016 | I2: 2017 | K2: 2018 | P2: 2019 | U2: 2020 | Z2: 2021 | AE2: 2022 | AJ2: 2023 | AO2: 2024 | AT2: 2025 | AY2: 2026
C3: 4T2011 | D3: 4T2012 | E3: 4T2013 | F3: 4T2014 | G3: 4T2015 | H3: 4T2016 | I3: 4T2017 | K3: 1T2018 | L3: 2T2018 | M3: 3T2018 | N3: 4T2018 | P3: 1T2019 | Q3: 2T2019 | R3: 3T2019 | S3: 4T2019 | U3: 1T2020 | V3: 2T2020 | W3: 3T2020 | X3: 4T2020 | Z3: 1T2021 | AA3: 2T2021 | AB3: 3T2021 | AC3: 4T2021 | AE3: 1T2022 | AF3: 2T2022 | AG3: 3T2022 | AH3: 4T2022 | AJ3: 1T2023 | AK3: 2T2023 | AL3: 3T2023 | AM3: 4T2023 | AO3: 1T2024 | AP3: 2T2024 | AQ3: 3T2024 | AR3: 4T2024 | AT3: 1T2025 | AU3: 2T2025 | AV3: 3T2025 | AW3: 4T2025 | AY3: 1T2026 | AZ3: 2T2026 | BA3: 3T2026 | BB3: 4T2026
B5: Passivo | C5: 40908 | D5: 41274 | E5: 41639 | F5: 42004 | G5: 42369 | H5: 42735 | I5: 43100 | K5: 43190 | L5: 43281 | M5: 43373 | N5: 43465 | P5: 43555 | Q5: 43646 | R5: 43738 | S5: 43830 | U5: 43921 | V5: 44012 | W5: 44104 | X5: 44196 | Z5: 44286 | AA5: 44377 | AB5: 44469 | AC5: 44561 | AE5: 44651 | AF5: 44742 | AG5: 44834 | AH5: 44926 | AJ5: 45016 | AK5: 45107 | AL5: 45199 | AM5: 45291 | AO5: 45382 | AP5: 45473 | AQ5: 45565 | AR5: 45657 | AT5: 45747 | AU5: 45838 | AV5: 45930 | AW5: 46022 | AY5: 46112 | AZ5: 46203 | BA5: 46295 | BB5: 46387
B7: Passivo circulante | C7: 240908 | D7: 299539 | E7: 393609 | F7: 407756 | G7: 503418 | H7: 577251 | I7: 640463 | K7: 906379 | L7: 1073672 | M7: 1066281 | N7: 750850 | P7: 1234202 | Q7: 1161982 | R7: 1140315 | S7: 1013811 | U7: 1585889 | V7: 1109383 | W7: 1345950 | X7: 1365036 | Z7: 2094893 | AA7: 2616403 | AB7: 2044177 | AC7: 1831275 | AE7: 1984736 | AF7: 2417447 | AG7: 2629101 | AH7: 2739186 | AJ7: 2929521 | AK7: 2578445 | AL7: 2799379 | AM7: 2784746 | AO7: =SUM(AO8:AO16,AO17:AO19) -> 3164288 | AP7: =SUM(AP8:AP16,AP17:AP19) -> 3569024 | AQ7: =SUM(AQ8:AQ16,AQ17:AQ19) -> 3391423 | AR7: =SUM(AR8:AR16,AR17:AR19) -> 3666344 | AT7: =SUM(AT8:AT16,AT17:AT19) -> 4442020 | AU7: =SUM(AU8:AU16,AU17:AU19) -> 4712806 | AV7: =SUM(AV8:AV16,AV17:AV19) -> 5451379 | AW7: =SUM(AW8:AW16,AW17:AW19) -> 6000713 | AY7: =SUM(AY8:AY16,AY17:AY19) -> 7328659 | AZ7: =SUM(AZ8:AZ16,AZ17:AZ19) -> 6467916 | BA7: =SUM(BA8:BA16,BA17:BA19) -> 0 | BB7: =SUM(BB8:BB16,BB17:BB19) -> 0
B8: Obrigações sociais e trabalhistas | C8: 1162 | D8: 1495 | E8: 2817 | F8: 3910 | G8: 5340 | H8: 5749 | I8: 6784 | K8: 8387 | L8: 9157 | M8: 11142 | N8: 9374 | P8: 10506 | Q8: 12180 | R8: 14671 | S8: 13071 | U8: 14748 | V8: 13769 | W8: 16788 | X8: 19513 | Z8: 15706 | AA8: 19388 | AB8: 24039 | AC8: 28503 | AE8: 23701 | AF8: 29948 | AG8: 33484 | AH8: 39612 | AJ8: 32657.389 | AK8: 38062 | AL8: 44251 | AM8: 48610 | AO8: 38205 | AP8: 47882 | AQ8: 53938 | AR8: 80669 | AT8: 49532 | AU8: 59138 | AV8: 67712 | AW8: 98477 | AY8: 64866 | AZ8: 75083
B9: Fornecedores | C9: 34235 | D9: 67560 | E9: 84163 | F9: 98861 | G9: 175587 | H9: 337537 | I9: 397863 | K9: 338301 | L9: 236097 | M9: 312654 | N9: 444230 | P9: 455591 | Q9: 363459 | R9: 453075 | S9: 643460 | U9: 1156323 | V9: 509895 | W9: 801750 | X9: 866549 | Z9: 1173576 | AA9: 1282911 | AB9: 1218823 | AC9: 1225903 | AE9: 1270958 | AF9: 1544499 | AG9: 1907106 | AH9: 1966774 | AJ9: 2066913.1 | AK9: 1698076 | AL9: 1871853 | AM9: 2032130 | AO9: 2323632 | AP9: 2430176 | AQ9: 2199118 | AR9: 2073245 | AT9: 3098436 | AU9: 2471890 | AV9: 2692276 | AW9: 2816665 | AY9: 4043474 | AZ9: 3289804
B10: Imposto de Renda e Contribuição Social a Recolher | AR10: 87180 | AT10: 146 | AU10: 4363 | AV10: 74074 | AW10: 23249 | AY10: 55177 | AZ10: 377
B11: Obrigações fiscais | C11: 140 | D11: 153 | E11: 1114 | F11: 5283 | G11: 1444 | H11: 362 | I11: 2271 | K11: 4281 | L11: 4393 | M11: 9909 | N11: 7619 | P11: 1406 | Q11: 2079 | R11: 10296 | S11: 16663 | U11: 1887 | V11: 1493 | W11: 13887 | X11: 17441 | Z11: 9668 | AA11: 26897 | AB11: 14162 | AC11: 13803 | AE11: 16919 | AF11: 20208 | AG11: 19493 | AH11: 17923 | AJ11: 18914.525 | AK11: 13257 | AL11: 9792 | AM11: 12613 | AO11: 19285 | AP11: 17842 | AQ11: 43111 | AR11: 17499 | AT11: 25922 | AU11: 6580 | AV11: 20129 | AW11: 23841 | AY11: 35438 | AZ11: 25009
B12: Empréstimos e financiamentos | C12: 94083 | D12: 167054 | E12: 229663 | F12: 227567 | G12: 265251 | H12: 224643 | I12: 223740 | K12: 227213 | L12: 272141 | M12: 249699 | N12: 267741 | P12: 243355 | Q12: 291275 | R12: 339793 | S12: 303666 | U12: 361417 | V12: 452770 | W12: 424616 | X12: 406155 | Z12: 695608 | AA12: 719340 | AB12: 672549 | AC12: 488866 | AE12: 574275 | AF12: 740273 | AG12: 567206 | AH12: 599144 | AJ12: 694044.33 | AK12: 658850 | AL12: 651830 | AM12: 562129 | AO12: 608856 | AP12: 649752 | AQ12: 785800 | AR12: 921068 | AT12: 1009119 | AU12: 1718506 | AV12: 1923309 | AW12: 2344340 | AY12: 2308979 | AZ12: 2162826
B13: Instrumentos financeiros derivativos | C13: 55740 | D13: 39124 | E13: 46176 | F13: 43156 | G13: 18994 | H13: 7071 | I13: 5355 | K13: 286266 | L13: 327694 | M13: 160304 | N13: 1014 | P13: 506252 | Q13: 421301 | R13: 262116 | S13: 994 | U13: 20685 | V13: 48645 | W13: 67050 | X13: 26788 | Z13: 162762 | AA13: 302519 | AB13: 25217 | AC13: 39402 | AE13: 39382 | AF13: 26072 | AG13: 24130 | AH13: 39739 | AJ13: 48188.075 | AK13: 71483 | AL13: 131910 | AM13: 77445 | AO13: 63195 | AP13: 307908 | AQ13: 147648 | AR13: 330591 | AT13: 111201 | AU13: 114835 | AV13: 221842 | AW13: 200348 | AY13: 431160 | AZ13: 328630
B14: Adiantamentos de clientes | C14: 52394 | D14: 20318 | E14: 28089 | F14: 28114 | G14: 36295 | H14: 917 | I14: 2983 | K14: 4831 | L14: 86553 | M14: 66582 | N14: 11642 | P14: 12425 | Q14: 52775 | R14: 30337 | S14: 18615 | U14: 23578 | V14: 66761 | W14: 6666 | X14: 5331 | Z14: 10174 | AA14: 235422 | AB14: 54260 | AC14: 8789 | AE14: 13316 | AF14: 9048 | AG14: 12823 | AH14: 16455 | AJ14: 30981.838 | AK14: 63357 | AL14: 50940 | AM14: 22451 | AO14: 74217 | AP14: 84041 | AQ14: 62041 | AR14: 23716 | AT14: 60123 | AU14: 243553 | AV14: 329762 | AW14: 256005 | AY14: 232023 | AZ14: 491713
B15: Arrendamentos a pagar | C15: 0 | D15: 0 | E15: 0 | F15: 0 | G15: 0 | H15: 0 | I15: 0 | K15: 0 | L15: 0 | M15: 0 | N15: 0 | P15: 0 | Q15: 0 | R15: 0 | S15: 2950 | U15: 2058 | V15: 1674 | W15: 1166 | X15: 687 | Z15: 399 | AA15: 5623 | AB15: 3260 | AC15: 4204 | AE15: 4429 | AF15: 4609 | AG15: 4756 | AH15: 6936 | AJ15: 7208.2206 | AK15: 6457 | AL15: 6098 | AM15: 5802 | AO15: 5213 | AP15: 5275 | AQ15: 5168 | AR15: 7416 | AT15: 8293 | AU15: 6612 | AV15: 6730 | AW15: 8096 | AY15: 8537 | AZ15: 9247
B16: Parcelamentos Tributários | C16: 0 | D16: 0 | E16: 0 | F16: 0 | G16: 0 | H16: 0 | I16: 0 | K16: 0 | L16: 0 | M16: 0 | N16: 0 | P16: 0 | Q16: 0 | R16: 0 | S16: 0 | U16: 711 | V16: 401 | W16: 5535 | X16: 1459 | Z16: 1366 | AA16: 1296 | AB16: 1296 | AC16: 1314 | AE16: 1331 | AF16: 1351 | AG16: 1374 | AH16: 1396 | AJ16: 1419.0275 | AK16: 1442 | AL16: 1466 | AM16: 1487 | AO16: 1506 | AP16: 1524 | AQ16: 1282 | AR16: 1092 | AT16: 864 | AU16: 628 | AV16: 383 | AW16: 383 | AY16: 383 | AZ16: 383
B17: Vendas entrega futura | C17: 0 | D17: 0 | E17: 0 | F17: 0 | G17: 0 | H17: 0 | I17: 0 | K17: 34249 | L17: 127871 | M17: 251890 | N17: 0 | P17: 0 | Q17: 0 | R17: 0 | S17: 0 | U17: 0 | V17: 0 | W17: 0 | X17: 0 | Z17: 0 | AA17: 0 | AB17: 0 | AC17: 0 | AE17: 0 | AF17: 0 | AG17: 0 | AH17: - | AJ17: 0 | AK17: 0 | AL17: 0 | AM17: 0 | AO17: 0 | AP17: 0 | AQ17: 0 | AR17: 0 | AT17: 0 | AU17: 0 | AV17: 0 | AW17: 0 | AY17: 0 | AZ17: 0
B18: Dividendos a distribuir | C18: 1500 | D18: 0 | E18: 0 | F18: 0 | G18: 0 | H18: 0 | I18: 0 | K18: 0 | L18: 0 | M18: 0 | N18: 0 | P18: 0 | Q18: 0 | R18: 0 | S18: 0 | U18: 0 | V18: 0 | W18: 0 | X18: 0 | Z18: 0 | AA18: 0 | AB18: 0 | AC18: 0 | AE18: 0 | AF18: 0 | AG18: 0 | AH18: 4173 | AJ18: 0 | AK18: 0 | AL18: 0 | AM18: 0 | AO18: 113 | AP18: 113 | AQ18: 113 | AR18: 26184 | AT18: 6 | AU18: 0 | AV18: 0 | AW18: 91015 | AY18: 0 | AZ18: 0
B19: Outras obrigações | C19: 1654 | D19: 3835 | E19: 1587 | F19: 865 | G19: 507 | H19: 972 | I19: 1467 | K19: 2851 | L19: 9766 | M19: 4101 | N19: 9230 | P19: 4667 | Q19: 18913 | R19: 30027 | S19: 14392 | U19: 4482 | V19: 13975 | W19: 8492 | X19: 21113 | Z19: 25634 | AA19: 23007 | AB19: 30571 | AC19: 20491 | AE19: 40425 | AF19: 41439 | AG19: 58729 | AH19: 47034 | AJ19: 29195 | AK19: 27461 | AL19: 31239 | AM19: 22079 | AO19: 30066 | AP19: 24511 | AQ19: 93204 | AR19: 97684 | AT19: 78378 | AU19: 86701 | AV19: 115162 | AW19: 138294 | AY19: 148622 | AZ19: 84844
B21: Passivo não circulante | C21: 94143 | D21: 110258 | E21: 140590 | F21: 214162 | G21: 216305 | H21: 93820 | I21: 64779 | K21: 113231 | L21: 112358 | M21: 117236 | N21: 70046 | P21: 61967 | Q21: 96414 | R21: 106769 | S21: 177977 | U21: 181272 | V21: 174666 | W21: 212402 | X21: 244205 | Z21: 286347 | AA21: 257894 | AB21: 243768 | AC21: 328086 | AE21: 728334 | AF21: 688578 | AG21: 605839 | AH21: 524248 | AJ21: 630739 | AK21: 729338 | AL21: 649073 | AM21: 747152 | AO21: =SUM(AO22:AO29) -> 838478 | AP21: =SUM(AP22:AP29) -> 1360870 | AQ21: =SUM(AQ22:AQ29) -> 1221052 | AR21: =SUM(AR22:AR29) -> 1177361 | AT21: =SUM(AT22:AT29) -> 1228894 | AU21: =SUM(AU22:AU29) -> 2377308 | AV21: =SUM(AV22:AV29) -> 2227103 | AW21: =SUM(AW22:AW29) -> 2403728 | AY21: =SUM(AY22:AY29) -> 2536818 | AZ21: =SUM(AZ22:AZ29) -> 3005489 | BA21: =SUM(BA22:BA29) -> 0 | BB21: =SUM(BB22:BB29) -> 0
B22: Fornecedores | C22: 14889 | D22: 3776 | E22: 0 | F22: 0 | G22: 0 | H22: 0 | I22: 12970 | K22: 12970 | L22: 0 | M22: 0 | N22: 6382 | P22: 9320 | Q22: 8885 | R22: 8885 | S22: 0 | U22: 0 | V22: 0 | W22: 0 | X22: 0 | Z22: 0 | AA22: 0 | AB22: 0 | AC22: 0 | AE22: 0 | AF22: 0 | AG22: 0 | AH22: - | AJ22: 3238.0123 | AK22: 178 | AL22: 154 | AM22: 137 | AO22: 1175 | AP22: 76 | AQ22: 222 | AR22: 26 | AT22: 0 | AU22: 0 | AV22: 476 | AW22: 37953 | AY22: 65639 | AZ22: 22
B23: Empréstimos e financiamentos | C23: 70162 | D23: 99892 | E23: 94559 | F23: 166925 | G23: 176809 | H23: 91565 | I23: 42791 | K23: 40793 | L23: 52987 | M23: 57961 | N23: 57048 | P23: 46461 | Q23: 74276 | R23: 87045 | S23: 169778 | U23: 172482 | V23: 164881 | W23: 191967 | X23: 235400 | Z23: 274456 | AA23: 237644 | AB23: 229325 | AC23: 310834 | AE23: 708646 | AF23: 667683 | AG23: 585863 | AH23: 496926 | AJ23: 590503.72 | AK23: 690043 | AL23: 610594 | AM23: 710383 | AO23: 800629 | AP23: 1322890 | AQ23: 1184777 | AR23: 1145811 | AT23: 1199140 | AU23: 2345835 | AV23: 2172510 | AW23: 2316623 | AY23: 2426768 | AZ23: 2958338
B24: Impostos diferidos | C24: 6154 | D24: 5872 | E24: 4831 | F24: 5306 | G24: 0 | H24: 0 | I24: 2341 | K24: 1573 | L24: 1573 | M24: 1573 | N24: 775 | P24: 442 | Q24: 7605 | R24: 5288 | S24: 2022 | U24: 3327 | V24: 4390 | W24: 15136 | X24: 145 | Z24: 0 | AA24: 3040 | AB24: 0 | AC24: 0 | AE24: 0 | AF24: 0 | AH24: - | AJ24: 0 | AK24: 0 | AL24: 0 | AM24: 0 | AO24: 0 | AP24: 0 | AQ24: 0 | AR24: 0 | AT24: 0 | AU24: 2664 | AV24: 13631 | AW24: 0 | AY24: 0 | AZ24: 0
B25: Provisões para litígios | C25: 0 | D25: 290 | E25: 85 | F25: 822 | G25: 732 | H25: 1029 | I25: 1556 | K25: 1556 | L25: 1556 | M25: 1556 | N25: 1556 | P25: 1556 | Q25: 1556 | R25: 1556 | S25: 1584 | U25: 1584 | V25: 1584 | W25: 1584 | X25: 1568 | Z25: 4038 | AA25: 2669 | AB25: 2496 | AC25: 2307 | AE25: 2284 | AF25: 4528 | AG25: 4636 | AH25: 6336 | AJ25: 6404.2749 | AK25: 10229 | AL25: 11872 | AM25: 11550 | AO25: 13723 | AP25: 14421 | AQ25: 14993 | AR25: 6664 | AT25: 5282 | AU25: 4481 | AV25: 4028 | AW25: 5237 | AY25: 4175 | AZ25: 3828
B26: Arrendamentos a pagar | C26: 0 | D26: 0 | E26: 0 | F26: 0 | G26: 0 | H26: 0 | I26: 0 | K26: 0 | L26: 0 | M26: 0 | N26: 0 | P26: 0 | Q26: 0 | R26: 0 | S26: 1019 | U26: 401 | V26: 364 | W26: 364 | X26: 307 | Z26: 1410 | AA26: 6404 | AB26: 6399 | AC26: 9669 | AE26: 12251 | AF26: 11667 | AG26: 10931 | AH26: 16881 | AJ26: 15716.88 | AK26: 15077 | AL26: 13718 | AM26: 13191 | AO26: 12407 | AP26: 14051 | AQ26: 12715 | AR26: 15843 | AT26: 16544 | AU26: 15886 | AV26: 28498 | AW26: 37412 | AY26: 36932 | AZ26: 40833
B27: Instrumentos financeiros | C27: 0 | D27: 0 | E27: 40749 | F27: 41109 | G27: 35841 | H27: 0 | I27: 0 | K27: 51314 | L27: 51313 | M27: 51312 | N27: 0 | P27: 0 | Q27: 0 | R27: 0 | S27: 0 | U27: 0 | V27: 0 | W27: 0 | X27: 0 | Z27: 0 | AA27: 2265 | AB27: 0 | AC27: 0 | AE27: 165 | AF27: 0 | AG27: 0 | AH27: 0 | AJ27: 0 | AK27: 0 | AL27: 0 | AM27: 0 | AO27: 0 | AP27: 0 | AQ27: 0 | AR27: 1539 | AT27: 1284 | AU27: 2633 | AV27: 2986 | AW27: 2364 | AY27: 0 | AZ27: 0
B28: Parcelamentos tributários | C28: 199 | D28: 428 | E28: 366 | F28: 0 | G28: 2923 | H28: 1226 | I28: 5121 | K28: 5025 | L28: 4929 | M28: 4834 | N28: 4285 | P28: 4188 | Q28: 4092 | R28: 3995 | S28: 3574 | U28: 3478 | V28: 3447 | W28: 3351 | X28: 6785 | Z28: 6443 | AA28: 5872 | AB28: 5548 | AC28: 5276 | AE28: 4988 | AF28: 4700 | AG28: 4409 | AH28: 4105 | AJ28: 3789.8683 | AK28: 3464 | AL28: 3127 | AM28: 2776 | AO28: 2414 | AP28: 2042 | AQ28: 1693 | AR28: 1565 | AT28: 1470 | AU28: 1374 | AV28: 1278 | AW28: 1182 | AY28: 1086 | AZ28: 990
B29: Outras obrigações | C29: 2739 | D29: 0 | E29: 0 | F29: 0 | G29: 0 | H29: 0 | I29: 0 | K29: 0 | L29: 0 | M29: 0 | N29: 0 | P29: 0 | Q29: 0 | R29: 0 | S29: 0 | U29: 0 | V29: 0 | W29: 0 | X29: 0 | Z29: 0 | AA29: 0 | AB29: 0 | AC29: 0 | AE29: 0 | AF29: 0 | AG29: 0 | AH29: 0 | AJ29: 11086.237 | AK29: 10347 | AL29: 9608 | AM29: 9115 | AO29: 8130 | AP29: 7390 | AQ29: 6652 | AR29: 5913 | AT29: 5174 | AU29: 4435 | AV29: 3696 | AW29: 2957 | AY29: 2218 | AZ29: 1478
B31: Patrimônio líquido | C31: 58604 | D31: 73550 | E31: 85628 | F31: 82165 | G31: 63757 | H31: 117589 | I31: 183865 | K31: 190004 | L31: 217801 | M31: 237988 | N31: 327937 | P31: 283776 | Q31: 298789 | R31: 329214 | S31: 445826 | U31: 446523 | V31: 477927 | W31: 598661 | X31: 712132 | Z31: 752702 | AA31: 857050 | AB31: 2065191 | AC31: 2236240 | AE31: 2303454 | AF31: 2420121 | AG31: 2593093 | AH31: 2818555 | AJ31: 2875775.2 | AK31: 2954920 | AL31: 3174207 | AM31: 3351891 | AO31: =SUM(AO32:AO44) -> 3439745 | AP31: =SUM(AP32:AP44) -> 3600325 | AQ31: =SUM(AQ32:AQ44) -> 3926334 | AR31: =SUM(AR32:AR43) -> 4045718 | AT31: =SUM(AT32:AT43) -> 4162439 | AU31: =SUM(AU32:AU43) -> 4494294 | AV31: =SUM(AV32:AV43) -> 4703071 | AW31: =SUM(AW32:AW43) -> 4699914 | AY31: =SUM(AY32:AY43) -> 4780614 | AZ31: =SUM(AZ32:AZ43) -> 5006693 | BA31: =SUM(BA32:BA43) -> 0 | BB31: =SUM(BB32:BB43) -> 0
B32: Capital social | C32: 20000 | D32: 20000 | E32: 20000 | F32: 50000 | G32: 51500 | H32: 53500 | I32: 55500 | K32: 55600 | L32: 55600 | M32: 55600 | N32: 55600 | P32: 56500 | Q32: 101000 | R32: 101000 | S32: 201000 | U32: 201000 | V32: 201000 | W32: 201000 | X32: 400000 | Z32: 400000 | AA32: 400000 | AB32: 1506212 | AC32: 1506212 | AE32: 1513903 | AF32: 1513904 | AG32: 1514652 | AH32: 1515504 | AJ32: 1520811 | AK32: 1518662 | AL32: 1518662 | AM32: 1518662 | AO32: 1518662 | AP32: 1518662 | AQ32: 1518662 | AR32: 1565587 | AT32: 1518662 | AU32: 1521350 | AV32: 1521350 | AW32: 3478385 | AY32: 3481513 | AZ32: 3481513
B33: Despesas da oferta | C33: 0 | D33: 0 | E33: 0 | F33: 0 | G33: 0 | H33: 0 | I33: 0 | K33: 0 | L33: 0 | M33: 0 | N33: 0 | P33: 0 | Q33: 0 | R33: 0 | S33: 0 | U33: 0 | V33: 0 | W33: 0 | X33: 0 | Z33: 0 | AA33: 0 | AB33: 0 | AC33: 0 | AE33: 0 | AF33: 0 | AG33: 0 | AH33: 0 | AJ33: 0 | AK33: 0 | AL33: 0 | AM33: 0 | AO33: 0 | AP33: 0 | AQ33: 0 | AR33: 0 | AT33: 0 | AU33: 0 | AV33: 0 | AW33: 0 | AY33: 0 | AZ33: 0
B34: Ajustes de avaliação patrimonial | C34: 24936 | D34: 24386 | E34: 23480 | F34: -4266 | G34: -33236 | H34: -7160 | I34: 7689 | K34: 7689 | L34: 7689 | M34: 7689 | N34: 6742 | P34: 6742 | Q34: 6742 | R34: 6742 | S34: 5794 | U34: 5794 | V34: 5321 | W34: 5084 | X34: 4847 | Z34: 4610 | AA34: 4373 | AB34: 4136 | AC34: 3900 | AE34: 3663 | AF34: 3426 | AG34: 3189 | AH34: 2952 | AJ34: 2715.353 | AK34: 2479 | AL34: 2241 | AM34: 2005 | AO34: 1768 | AP34: 1532 | AQ34: 1294 | AR34: 1058 | AT34: 821 | AU34: 583 | AV34: 347 | AW34: 111 | AY34: 0 | AZ34: 0
B35: Ajuste acumulado de conversão | AT35: 0 | AU35: 0 | AV35: 0 | AW35: - | AY35: 0 | AZ35: 0
B36: Ações em tesouraria | C36: 0 | D36: 0 | E36: 0 | F36: 0 | G36: 0 | H36: 0 | I36: 0 | K36: 0 | L36: 0 | M36: 0 | N36: 0 | P36: 0 | Q36: 0 | R36: 0 | S36: 0 | U36: 0 | V36: 0 | W36: 0 | X36: 0 | Z36: 0 | AA36: 0 | AB36: 0 | AC36: 0 | AE36: 0 | AF36: 0 | AG36: 0 | AH36: 0 | AJ36: 0 | AK36: -949 | AL36: -949 | AM36: -1474 | AO36: -15532 | AP36: -7526 | AQ36: -1166 | AR36: -1166 | AT36: -4318 | AU36: -3165 | AV36: -220 | AW36: -220 | AY36: -13402 | AZ36: -4701
B37: Reserva de capital | C37: 557 | D37: 1215 | E37: 0 | F37: 0 | G37: 0 | H37: 0 | I37: 3045 | K37: 6680 | L37: 6680 | M37: 6681 | N37: 0 | P37: 10684 | Q37: 10684 | R37: 10684 | S37: 0 | U37: 0 | V37: 0 | W37: 0 | X37: 0 | Z37: 1331 | AA37: 5324 | AB37: 9318 | AC37: 13311 | AE37: 16052 | AF37: 19090 | AG37: 22155 | AH37: 25086 | AJ37: 27070.865 | AK37: 29315 | AL37: 31874 | AM37: 34266 | AO37: 35888 | AP37: 37293 | AQ37: 38643 | AR37: -6331 | AT37: 41564 | AU37: 42592 | AV37: 43547 | AW37: -1954 | AY37: -1441 | AZ37: 10825
B38: Reserva doações e subvenções e investimentos | C38: 0 | D38: 0 | E38: 0 | F38: 0 | G38: 0 | H38: 0 | I38: 0 | K38: 0 | L38: 0 | M38: 0 | N38: 0 | P38: 24928 | Q38: 9896 | R38: 9896 | S38: 0 | U38: 0 | V38: 0 | W38: 0 | X38: 0 | Z38: 0 | AA38: 0 | AB38: 0 | AC38: 0 | AE38: 0 | AF38: 0 | AG38: 0 | AK38: 0 | AL38: 0 | AM38: 0 | AO38: 0 | AP38: 0 | AQ38: 0 | AR38: 0 | AT38: 0 | AU38: 0 | AV38: 0 | AW38: 0 | AY38: 0 | AZ38: 0
B39: Reserva de lucros | C39: 13111 | D39: 27949 | E39: 42148 | F39: 36431 | G39: 45493 | H39: 71249 | I39: 117631 | K39: 120035 | L39: 147832 | M39: 168018 | N39: 265595 | P39: 184922 | Q39: 170467 | R39: 200892 | S39: 239032 | U39: 239729 | V39: 271606 | W39: 392577 | X39: 295485 | Z39: 346761 | AA39: 447353 | AB39: 545525 | AC39: 712817 | AE39: 769836 | AF39: 883701 | AG39: 1053097 | AH39: 1220368 | AJ39: 1325178 | AK39: 1403773 | AL39: 1623154 | AM39: 1738078 | AO39: 1895739 | AP39: 2042253 | AQ39: 2361225 | AR39: 2402702 | AT39: 2595272 | AU39: 2927065 | AV39: 3130822 | AW39: 1218191 | AY39: 1307421 | AZ39: 1514799
B40: Transações de capital com controladas | C40: 0 | D40: 0 | E40: 0 | F40: 0 | G40: 0 | H40: 0 | I40: 0 | K40: 0 | L40: 0 | M40: 0 | N40: 0 | P40: 0 | Q40: 0 | R40: 0 | S40: 0 | U40: 0 | V40: 0 | W40: 0 | X40: 0 | Z40: 0 | AA40: 0 | AB40: 0 | AC40: 0 | AE40: 0 | AF40: 0 | AG40: 0 | AH40: 0 | AJ40: 0 | AK40: 0 | AL40: -2041 | AM40: -2041 | AO40: -2041 | AP40: -2041 | AQ40: -2041 | AR40: -2969 | AT40: -2565 | AU40: -2565 | AV40: -2565 | AW40: -2565 | AY40: -2565 | AZ40: -2565
B41: Ajuste acumulado de conversão | C41: 0 | D41: 0 | E41: 0 | F41: 0 | G41: 0 | H41: 0 | I41: 0 | K41: 0 | L41: 0 | M41: 0 | N41: 0 | P41: 0 | Q41: 0 | R41: 0 | S41: 0 | U41: 0 | V41: 0 | W41: 0 | X41: 0 | Z41: 0 | AA41: 0 | AB41: 0 | AC41: 0 | AE41: 0 | AF41: 0 | AG41: 0 | AH41: 0 | AJ41: 0 | AK41: 0 | AL41: 1 | AM41: -283 | AO41: 738 | AP41: 4461 | AQ41: 3485 | AR41: 9958 | AT41: 3600 | AU41: -998 | AV41: 99 | AW41: 2669 | AY41: 1904 | AZ41: 652
B42: Dividendos adicionais propostos | C42: 0 | D42: 0 | E42: 0 | F42: 0 | G42: 0 | H42: 0 | I42: 0 | K42: 0 | L42: 0 | M42: 0 | N42: 0 | P42: 0 | Q42: 0 | R42: 0 | S42: 0 | U42: 0 | V42: 0 | W42: 0 | X42: 11800 | Z42: 0 | AA42: 0 | AB42: 0 | AC42: 0 | AE42: 0 | AF42: 0 | AG42: 0 | AH42: 53066 | AJ42: 0 | AK42: 0 | AL42: 0 | AM42: 58524 | AO42: 0 | AP42: 0 | AQ42: 0 | AR42: 68875 | AT42: 0 | AU42: 0 | AV42: 0 | AW42: 0 | AY42: 0 | AZ42: 0
B43: Participações de não controladores | C43: 0 | D43: 0 | E43: 0 | F43: 0 | G43: 0 | H43: 0 | I43: 0 | K43: 0 | L43: 0 | M43: 0 | N43: 0 | P43: 0 | Q43: 0 | R43: 0 | S43: 0 | T43: 0 | U43: 0 | V43: 0 | W43: 0 | X43: 0 | Z43: 0 | AA43: 0 | AB43: 0 | AC43: 0 | AE43: 0 | AF43: 0 | AG43: 0 | AH43: 1579 | AJ43: 0 | AK43: 1640 | AL43: 1265 | AM43: 4154 | AO43: 4523 | AP43: 5691 | AQ43: 6232 | AR43: 8004 | AT43: 9403 | AU43: 9432 | AV43: 9691 | AW43: 5297 | AY43: 7184 | AZ43: 6170
B45: TOTAL DO PASSIVO E PATRIMÔNIO LÍQUIDO | C45: =C31+C21+C7 -> 393655 | D45: =D31+D21+D7 -> 483347 | E45: =E31+E21+E7 -> 619827 | F45: =F31+F21+F7 -> 704083 | G45: =G31+G21+G7 -> 783480 | H45: =H31+H21+H7 -> 788660 | I45: =I31+I21+I7 -> 889107 | K45: 1209614 | L45: 1403831 | M45: 1421505 | N45: 1148833 | P45: 1579945 | Q45: 1557185 | R45: 1576298 | S45: 1637614 | U45: 2213684 | V45: 1761976 | W45: 2157013 | X45: 2321373 | Z45: 3133942 | AA45: 3731347 | AB45: 4353136 | AC45: 4395601 | AE45: 5016524 | AF45: 5526146 | AG45: 5828033 | AH45: 6081989 | AJ45: 6436035 | AK45: 6262703 | AL45: 6622659 | AM45: 6883789 | AO45: =AO31+AO21+AO7 -> 7442511 | AP45: =AP31+AP21+AP7 -> 8530219 | AQ45: =AQ31+AQ21+AQ7 -> 8538809 | AR45: =AR31+AR21+AR7 -> 8889423 | AT45: =AT31+AT21+AT7 -> 9833353 | AU45: =AU31+AU21+AU7 -> 11584408 | AV45: =AV31+AV21+AV7 -> 12381553 | AW45: =AW31+AW21+AW7 -> 13104355 | AY45: =AY31+AY21+AY7 -> 14646091 | AZ45: =AZ31+AZ21+AZ7 -> 14480098 | BA45: =BA31+BA21+BA7 -> 0 | BB45: =BB31+BB21+BB7 -> 0

Sheet DRE_ACM
C2: 2011 | D2: 2012 | E2: 2013 | F2: 2014 | G2: 2015 | H2: 2016 | I2: 2017 | K2: 2018 | P2: 2019 | U2: 2020 | Z2: 2021 | AE2: 2022 | AJ2: 2023 | AO2: 2024 | AT2: 2025 | AY2: 2026
C3: 12M11 | D3: 12M12 | E3: 12M13 | F3: 12M14 | G3: 12M15 | H3: 12M16 | I3: 12M17 | K3: 3M18 | L3: 6M18 | M3: 9M18 | N3: 12M18 | P3: 3M19 | Q3: 6M19 | R3: 9M19 | S3: 12M19 | U3: 3M20 | V3: 6M20 | W3: 9M20 | X3: 12M20 | Z3: 3M21 | AA3: 6M21 | AB3: 9M21 | AC3: 12M21 | AE3: 3M22 | AF3: 6M22 | AG3: 9M22 | AH3: 12M22 | AJ3: 3M23 | AK3: 6M23 | AL3: 9M23 | AM3: 12M23 | AO3: 3M24 | AP3: 6M24 | AQ3: 9M24 | AR3: 12M24 | AT3: 3M25 | AU3: 6M25 | AV3: 9M25 | AW3: 12M25 | AY3: 3M26 | AZ3: 6M26 | BA3: 9M26 | BB3: 12M26
K4: =COLUMN() -> 11 | L4: =COLUMN() -> 12 | M4: =COLUMN() -> 13 | N4: =COLUMN() -> 14 | O4: =COLUMN() -> 15 | P4: =COLUMN() -> 16 | Q4: =COLUMN() -> 17 | R4: =COLUMN() -> 18 | ... AH4: =COLUMN() -> 34
B5: Demonstração do Resultado | C5: 40908 | D5: 41274 | E5: 41639 | F5: 42004 | G5: 42369 | H5: 42735 | I5: 43100 | K5: 43190 | L5: 43281 | M5: 43373 | N5: 43465 | P5: 43555 | Q5: 43646 | R5: 43738 | S5: 43830 | U5: 43921 | V5: 44012 | W5: 44104 | X5: 44196 | Z5: 44286 | AA5: 44377 | AB5: 44469 | AC5: 44561 | AE5: 44651 | AF5: 44742 | AG5: 44834 | AH5: 44926 | AJ5: 45016 | AK5: 45107 | AL5: 45199 | AM5: 45291 | AO5: 45382 | AP5: 45473 | AQ5: 45565 | AR5: 45657 | AT5: 45747 | AU5: 45838 | AV5: 45930 | AW5: 46022 | AY5: 46112 | AZ5: 46203 | BA5: 46295 | BB5: 46387
B7: Receita operacional líquida | C7: 391714 | D7: 480981 | E7: 901692 | F7: 917302 | G7: 1113738 | H7: 1140102 | I7: 1326097 | K7: 334635 | L7: 803835 | M7: 1334041 | N7: 1921574 | P7: 448708 | Q7: 960712 | R7: 1553070 | S7: 2239573 | U7: 513864 | V7: 1254331 | W7: 2102364 | X7: 3110407 | Z7: 769273 | AA7: 1974653 | AB7: 3704198 | AC7: 5339317 | AE7: 1273235 | AF7: 2770538 | AG7: 4729450 | AH7: 6885839 | AJ7: 1804695.8 | AK7: 3565055 | AL7: 5969395 | AM7: 8998985 | AO7: 2679222 | AP7: 5475691 | AQ7: 8972251 | AR7: 12825771 | AT7: 3499108 | AU7: 7061985 | AV7: 12056864 | AW7: 16423694 | AY7: 4206948 | AZ7: 8907348
B8: Custo das mercadorias e produtos vendidos | C8: -329161 | D8: -418781 | E8: -809967 | F8: -768371 | G8: -943746 | H8: -980114 | I8: -1134837 | K8: -276066 | L8: -649161 | M8: -1099952 | N8: -1586216 | P8: -394538 | Q8: -850061 | R8: -1337336 | S8: -1876596 | U8: -445610 | V8: -1056850 | W8: -1708771 | X8: -2515200 | Z8: -662028 | AA8: -1681870 | AB8: -3198415 | AC8: -4638263 | AE8: -1115042 | AF8: -2359253 | AG8: -4076931 | AH8: -5842540 | AJ8: -1544539.9 | AK8: -3120651 | AL8: -5150117 | AM8: -7752979 | AO8: -2178441 | AP8: -4258710 | AQ8: -7124716 | AR8: -10294268 | AT8: -2987775 | AU8: -5826956 | AV8: -10276758 | AW8: -13939323 | AY8: -3555875 | AZ8: -7460903
B9: Lucro bruto | C9: 62553 | D9: 62200 | E9: 91725 | F9: 148931 | G9: 169992 | H9: 159988 | I9: 191260 | K9: 58569 | L9: 154674 | M9: 234089 | N9: 335358 | P9: 54170 | Q9: 110651 | R9: 215734 | S9: 362977 | U9: 68254 | V9: 197481 | W9: 393593 | X9: 595207 | Z9: 107245 | AA9: 292783 | AB9: 505783 | AC9: 701054 | AE9: 158193 | AF9: 411285 | AG9: 652519 | AH9: 1043299 | AJ9: 260155.95 | AK9: 444404 | AL9: 819278 | AM9: 1246006 | AO9: 500781 | AP9: 1216981 | AQ9: =AQ7+AQ8 -> 1847535 | AR9: =AR7+AR8 -> 2531503 | AT9: =AT7+AT8 -> 511333 | AU9: =AU7+AU8 -> 1235029 | AV9: =AV7+AV8 -> 1780106 | AW9: 2484371 | AY9: =AY7+AY8 -> 651073 | AZ9: =AZ7+AZ8 -> 1446445
B10: Despesas com Vendas, Gerais e Admin. | C10: -26009 | D10: -28447 | E10: -40662 | F10: -69873 | G10: -76853 | H10: -90091 | I10: -117393 | K10: -26143 | L10: -66024 | M10: -106058 | N10: -157132 | P10: -36614 | Q10: -76913 | R10: -139459 | S10: -190159 | U10: -39675 | V10: -95363 | W10: -164902 | X10: -199412 | Z10: -57271 | AA10: -127300 | AB10: -228027 | AC10: -347460 | AE10: -111693 | AF10: -210995 | AG10: -353210 | AH10: -505648 | AJ10: -149493.99 | AK10: -292902 | AL10: -506050 | AM10: -804316 | AO10: -314877 | AP10: -652463 | AQ10: =SUM(AQ11:AQ13) -> -941815 | AR10: =SUM(AR11:AR13) -> -1286205 | AT10: =SUM(AT11:AT13) -> -374396 | AU10: =SUM(AU11:AU13) -> -797175 | AV10: =SUM(AV11:AV13) -> -1338505 | AW10: -1945383 | AY10: =SUM(AY11:AY13) -> -548459 | AZ10: =SUM(AZ11:AZ13) -> -1185388
B11: Despesas com vendas | C11: -9028 | D11: -11180 | E11: -14788 | F11: -56870 | G11: -77742 | H11: -88319 | I11: -119411 | K11: -23260 | L11: -61824 | M11: -106617 | N11: -152412 | P11: -33136 | Q11: -83342 | R11: -143636 | S11: -197749 | U11: -42989 | V11: -93294 | W11: -164502 | X11: -203404 | Z11: -48913 | AA11: -113399 | AB11: -205426 | AC11: -319965 | AE11: -98014 | AF11: -192364 | AG11: -320650 | AH11: -462094 | AJ11: -139027.2 | AK11: -271656 | AL11: -474076 | AM11: -764746 | AO11: -303018 | AP11: -601738 | AQ11: -871593 | AR11: -1183262 | AT11: -352095 | AU11: -735129 | AV11: -1213736 | AW11: -1785330 | AY11: -496444 | AZ11: -1074913
B12: Despesas Gerais e Administrativas | C12: -17985 | D12: -21819 | E12: -29933 | F12: -17549 | G12: -6811 | H12: -8838 | I12: -18111 | K12: -5169 | L12: -7172 | M12: -10556 | N12: -12325 | P12: -3996 | Q12: -8119 | R12: -12495 | S12: -19236 | U12: -4246 | V12: -7876 | W12: -12035 | X12: -22003 | Z12: -10682 | AA12: -22170 | AB12: -39928 | AC12: -55707 | AE12: -17456 | AF12: -29840 | AG12: -46087 | AH12: -68374 | AJ12: -16100.712 | AK12: -32572 | AL12: -51640 | AM12: -71818 | AO12: -18957 | AP12: -40931 | AQ12: -65571 | AR12: -106824 | AT12: -23209 | AU12: -54513 | AV12: -95341 | AW12: -137153 | AY12: -44199 | AZ12: -97221
B13: Outras Receitas e Despesas Operacionais | C13: 1034 | D13: 4112 | E13: 3397 | F13: 4606 | G13: 7700 | H13: 7066 | I13: 20129 | K13: 2286 | L13: 2972 | M13: 11115 | N13: 7605 | P13: 518 | Q13: 14548 | R13: 16672 | S13: 26826 | U13: 7560 | V13: 5807 | W13: 11635 | X13: 25995 | Z13: 2324 | AA13: 8269 | AB13: 17327 | AC13: 28212 | AE13: 3777 | AF13: 11209 | AG13: 13527 | AH13: 24820 | AJ13: 5633.9188 | AK13: 11326 | AL13: 19666 | AM13: 32248 | AO13: 7098 | AP13: -9794 | AQ13: -4651 | AR13: 3881 | AT13: 908 | AU13: -7533 | AV13: -29428 | AW13: -22900 | AY13: -7816 | AZ13: -13254
B14: Resultado com Equivalencia Patrimonial | C14: -30 | D14: 440 | E14: 662 | F14: -60 | G14: 0 | H14: 0 | I14: 0
B15: Resultado operacional | C15: 36544 | D15: 33753 | E15: 51063 | F15: 79058 | G15: 93139 | H15: 69897 | I15: 73867 | K15: 32426 | L15: 88650 | M15: 128031 | N15: 178226 | P15: 17556 | Q15: 33738 | R15: 76275 | S15: 172818 | U15: 28579 | V15: 102118 | W15: 228691 | X15: 395795 | Z15: 49974 | AA15: 165483 | AB15: 277756 | AC15: 353594 | AE15: 46500 | AF15: 200290 | AG15: 299309 | AH15: 537651 | AJ15: 110661.95 | AK15: 151502 | AL15: 313228 | AM15: 441690 | AO15: 185904 | AP15: 564518 | AQ15: =AQ9+AQ10 -> 905720 | AR15: =AR9+AR10 -> 1245298 | AT15: =AT9+AT10 -> 136937 | AU15: =AU9+AU10 -> 437854 | AV15: =AV9+AV10 -> 441601 | AW15: 538988 | AY15: =AY9+AY10 -> 102614 | AZ15: =AZ9+AZ10 -> 261057
B16: Resultado financeiro | C16: -22115 | D16: -18347 | E16: -36963 | F16: -42068 | G16: -77137 | H16: -28956 | I16: -46555 | K16: -12656 | L16: -39683 | M16: -56514 | N16: -40205 | P16: -2653 | Q16: 6708 | R16: -4321 | S16: -23394 | U16: -21470 | V16: -59367 | W16: -46607 | X16: -73492 | Z16: -5085 | AA16: 19382 | AB16: 4074 | AC16: 26243 | AE16: 5764 | AF16: 12162 | AG16: 14742 | AH16: 2670 | AJ16: -16454.876 | AK16: 675 | AL16: -45733 | AM16: -12970 | AO16: -9064 | AP16: -171169 | AQ16: =SUM(AQ17:AQ18) -> -57818 | AR16: =SUM(AR17:AR18) -> -244272 | AT16: =SUM(AT17:AT18) -> 111585 | AU16: =SUM(AU17:AU18) -> 261816 | AV16: =SUM(AV17:AV18) -> 511023 | AW16: 497036 | AY16: =AY17+AY18 -> -10399 | AZ16: =AZ17+AZ18 -> 58726
B17: Receitas financeiras líquidas | C17: 27695 | D17: 43560 | E17: 45048 | F17: 60297 | G17: 47607 | H17: 52415 | I17: 37152 | K17: 7604 | L17: 34350 | M17: 41230 | N17: 49390 | P17: 17030 | Q17: 43603 | R17: 67903 | S17: 73083 | U17: 32403 | V17: 58015 | W17: 105107 | X17: 118480 | Z17: 30470 | AA17: 103135 | AB17: 155766 | AC17: 207769 | AE17: 80077 | AF17: 191917 | AG17: 255181 | AH17: 318952 | AJ17: 62275 | AK17: 176059 | AL17: 272012 | AM17: 382546 | AO17: 90811 | AP17: 247900 | AQ17: 212677 | AR17: 762260 | AT17: 331660 | AU17: 587915 | AV17: 837030 | AW17: 855886 | AY17: 252742 | AZ17: 387634
B18: Despesas financeiras líquidas | C18: -49810 | D18: -61907 | E18: -82011 | F18: -102365 | G18: -124744 | H18: -81371 | I18: -83707 | K18: -20260 | L18: -74033 | M18: -97744 | N18: -89595 | P18: -19683 | Q18: -36895 | R18: -72224 | S18: -96477 | U18: -53873 | V18: -117382 | W18: -151714 | X18: -191972 | Z18: -35555 | AA18: -83753 | AB18: -151692 | AC18: -181526 | AE18: -74313 | AF18: -179755 | AG18: -240439 | AH18: -316282 | AJ18: -78730.387 | AK18: -175384 | AL18: -317745 | AM18: -395516 | AO18: -99875 | AP18: -419069 | AQ18: -270495 | AR18: -1006532 | AT18: -220075 | AU18: -326099 | AV18: -326007 | AW18: -358850 | AY18: -263141 | AZ18: -328908
B19: Resultado antes dos impostos e contribuições | C19: 14429 | D19: 15406 | E19: 14100 | F19: 36990 | G19: 16002 | H19: 40941 | I19: 27312 | K19: 19770 | L19: 48967 | M19: 71517 | N19: 138021 | P19: 14903 | Q19: 40446 | R19: 71954 | S19: 149424 | U19: 7109 | V19: 42751 | W19: 182084 | X19: 322303 | Z19: 44889 | AA19: 184865 | AB19: 281830 | AC19: 379837 | AE19: 52264 | AF19: 212452 | AG19: 314051 | AH19: 540321 | AJ19: 94207.079 | AK19: 152177 | AL19: 267495 | AM19: 428720 | AO19: 176840 | AP19: 393349 | AQ19: =AQ15+AQ16 -> 847902 | AR19: =AR15+AR16 -> 1001026 | AT19: =AT15+AT16 -> 248522 | AU19: =AU15+AU16 -> 699670 | AV19: =AV15+AV16 -> 952624 | AW19: 1036024 | AY19: =AY15+AY16 -> 92215 | AZ19: =AZ15+AZ16 -> 319783
B20: Imposto de renda e contribuição social | C20: -3294 | D20: -2242 | E20: -2022 | F20: -12469 | G20: -3772 | H20: -16017 | I20: 21168 | K20: 0 | L20: 0 | M20: 0 | N20: 5572 | P20: 0 | Q20: -7163 | R20: -4846 | S20: -7913 | U20: 2585 | V20: 1401 | W20: -13599 | X20: -29056 | Z20: 6150 | AA20: -19550 | AB20: -18580 | AC20: 50469 | AE20: 4518 | AF20: -34448 | AG20: 33113 | AH20: 30853 | AJ20: 9132.1158 | AK20: 28111 | AL20: 130658 | AM20: 145082 | AO20: -20402 | AP20: -91267 | AQ20: =SUM(AQ21:AQ22) -> -227445 | AR20: =SUM(AR21:AR22) -> -244661 | AT20: =SUM(AT21:AT22) -> -56103 | AU20: =SUM(AU21:AU22) -> -176404 | AV20: =SUM(AV21:AV22) -> -226314 | AW20: -227325 | AY20: =AY21+AY22 -> -7040 | AZ20: =AZ21+AZ22 -> -28720
B21: Corrente | C21: -3294 | D21: -3312 | E21: -1993 | F21: -14065 | G21: -4069 | H21: -16338 | I21: 20388 | K21: 0 | L21: 0 | M21: 0 | N21: -7669 | P21: 0 | Q21: 0 | R21: 0 | S21: -1297 | U21: 0 | V21: 0 | W21: -2844 | X21: -24491 | Z21: 0 | AA21: -16655 | AB21: -5989 | AC21: -17791 | AE21: -13109 | AF21: -27668 | AG21: -4 | AH21: -154 | AJ21: -37.76767 | AK21: -1937 | AL21: -3744 | AM21: -5388 | AO21: -4152 | AP21: -10572 | AQ21: -44660 | AR21: -138855 | AT21: -1092 | AU21: -5881 | AV21: -81009 | AW21: -132865 | AY21: -58047 | AZ21: -29058
B22: Diferido | C22: 0 | D22: 1070 | E22: -29 | F22: 1596 | G22: 297 | H22: 321 | I22: 780 | K22: 0 | L22: 0 | M22: 0 | N22: 13241 | P22: 0 | Q22: -7163 | R22: -4846 | S22: -6616 | U22: 2585 | V22: 1401 | W22: -10755 | X22: -4565 | Z22: 6150 | AA22: -2895 | AB22: -12591 | AC22: 68260 | AE22: 17627 | AF22: -6780 | AG22: 33117 | AH22: 31007 | AJ22: 9169.8834 | AK22: 30048 | AL22: 134402 | AM22: 150470 | AO22: -16250 | AP22: -80695 | AQ22: -182785 | AR22: -105806 | AT22: -55011 | AU22: -170523 | AV22: -145305 | AW22: -94460 | AY22: 51007 | AZ22: 338
B23: Lucro líquido do exercício | C23: 11135 | D23: 13164 | E23: 12078 | F23: 24521 | G23: 12230 | H23: 24924 | I23: 48480 | K23: 19770 | L23: 48967 | M23: 71517 | N23: 143593 | P23: 14903 | Q23: 33283 | R23: 67108 | S23: 141511 | U23: 9694 | V23: 44152 | W23: 168485 | X23: 293247 | Z23: 51039 | AA23: 165315 | AB23: 263250 | AC23: 430306 | AE23: 56782 | AF23: 178004 | AG23: 347164 | AH23: 571174 | AJ23: 103339.19 | AK23: 180288 | AL23: 398153 | AM23: 573802 | AO23: 156438 | AP23: 302082 | AQ23: =AQ19+AQ20 -> 620457 | AR23: =AR19+AR20 -> 756365 | AT23: =AT19+AT20 -> 192419 | AU23: =AU19+AU20 -> 523266 | AV23: =AV19+AV20 -> 726310 | AW23: 808699 | AY23: =AY19+AY20 -> 85175 | AZ23: =AZ19+AZ20 -> 291063
B24: Lucro por Ação | U24: 0.008 | V24: 0.0979 | W24: 0.3457 | X24: 0.6301 | Z24: 0.1276 | AA24: 0.4133 | AB24: 0.6127 | AC24: 0.965 | AE24: 0.1148 | AF24: 0.35931 | AG24: 0.70038 | AH24: 1.15194 | AJ24: 0.2078 | AK24: 0.36221 | AL24: 0.79961 | AM24: 1.15216 | AO24: 0.31394 | AP24: 0.60623 | AQ24: 1.24515 | AR24: 1.5179 | AT24: 0.38615 | AU24: 1.0498 | AV24: 1.45612 | AW24: 1.62126 | AY24: 0.17049 | AZ24: 0.58194
B25: Depreciação | C25: 3584 | D25: 2011 | E25: 5922 | F25: 10106 | G25: 10954 | H25: 10471 | I25: 10901 | K25: 0 | L25: 0 | M25: 0 | N25: 12692 | P25: 287 | Q25: 683 | R25: 1154 | S25: 16788 | U25: 5947 | V25: 11053 | W25: 16018 | X25: 21642 | Z25: 5759 | AA25: 12589 | AB25: 19752 | AC25: 27464 | AE25: 8060 | AF25: 16944.926 | AG25: 26914 | AH25: 37746 | AJ25: 11823 | AK25: 24489 | AL25: 40451 | AM25: 57597 | AO25: 22867 | AP25: 44785 | AQ25: 68980 | AR25: 95363 | AT25: 27784 | AU25: 57020 | AV25: 87270 | AW25: 119388 | AY25: 36099 | AZ25: 82252
B27: EBITDA | C27: 40128 | D27: 35764 | E27: 56985 | F27: 89164 | G27: 104093 | H27: 80368 | I27: 84768 | K27: 32426 | L27: 88651 | M27: 128031 | N27: 190918 | P27: 17843 | Q27: 34421 | R27: 76997 | S27: 189605 | U27: 34526 | V27: 113171 | W27: 244709 | X27: 417437 | Z27: 55733 | AA27: 178072 | AB27: 297508 | AC27: 381058 | AE27: 54560 | AF27: 217234.93 | AG27: 326223 | AH27: 575397 | AJ27: 122484.95 | AK27: 175991 | AL27: 353679 | AM27: 499287 | AO27: 208771 | AP27: =AP15+AP25 -> 609303 | AQ27: 974700 | AR27: 1340661 | AT27: 164721 | AU27: =AU15+AU25 -> 494874 | AV27: =AV15+AV25 -> 528871 | AW27: 658376 | AY27: =AY15+AY25 -> 138713 | AZ27: =AZ15+AZ25 -> 343309
B28: Ajuste a valor justo | C28: 5149 | D28: -3180 | E28: 4945 | F28: -8658 | G28: -7623 | H28: -13966 | I28: 7988 | K28: 0 | L28: 0 | M28: 0 | N28: -32535 | P28: -1450 | Q28: 3464 | R28: -722 | S28: -328 | U28: -8426 | V28: 13058 | W28: 28036 | X28: 15823 | Z28: -14653 | AA28: 7974 | AB28: -20147 | AC28: -113871 | AE28: -41559 | AF28: 24030 | AG28: -2157.0398 | AH28: -47700 | AJ28: 14754.778 | AK28: 24409 | AL28: 85750 | AM28: 15872 | AO28: 70920 | AP28: 388046 | AQ28: 411414 | AR28: 367063.09 | AT28: -124148.88 | AU28: 23617 | AV28: -108670 | AW28: -60460 | AY28: -157124 | AZ28: 108606
B29: EBITDA AJUSTADO | C29: 34979 | D29: 38944 | E29: 52040 | F29: 97822 | G29: 111716 | H29: 94334 | I29: 76780 | K29: 32426 | L29: 88651 | M29: 128031 | N29: 223453 | P29: 19293 | Q29: 30957 | R29: 76997 | S29: 189934 | U29: 42952 | V29: 100113 | W29: 216673 | X29: 401614 | Z29: 70386 | AA29: 170098 | AB29: 317655 | AC29: 494929 | AE29: 96119 | AF29: 193204.93 | AG29: 328380.04 | AH29: 623097 | AJ29: 107730.18 | AK29: 151582 | AL29: 267929 | AM29: 483415 | AO29: 137851 | AP29: =AP27-AP28 -> 221257 | AQ29: 563286 | AR29: 973597.91 | AT29: 288869.88 | AU29: =AU27-AU28 -> 471257 | AV29: =AV27-AV28 -> 637541 | AW29: 718836 | AY29: =AY27-AY28 -> 295837 | AZ29: =AZ27-AZ28 -> 234703

Sheet DRE_TRI
C2: 2018 | H2: 2019 | M2: 2020 | R2: 2021 | W2: 2022 | AB2: 2023 | AG2: 2024 | AL2: 2025 | AQ2: 2026
C3: 1T18 | D3: 2T18 | E3: 3T18 | F3: 4T18 | H3: 1T19 | I3: 2T19 | J3: 3T19 | K3: 4T19 | M3: 1T20 | N3: 2T20 | O3: 3T20 | P3: 4T20 | R3: 1T21 | S3: 2T21 | T3: 3T21 | U3: 4T21 | W3: 1T22 | X3: 2T22 | Y3: 3T22 | Z3: 4T22 | AB3: 1T23 | AC3: 2T23 | AD3: 3T23 | AE3: 4T23 | AG3: 1T24 | AH3: 2T24 | AI3: 3T24 | AJ3: 4T24 | AL3: 1T25 | AM3: 2T25 | AN3: 3T25 | AO3: 4T25 | AQ3: 1T2026 | AR3: 2T2026 | AS3: 3T2026 | AT3: 4T2026
C4: =COLUMN() -> 3 | D4: =COLUMN() -> 4 | E4: =COLUMN() -> 5 | F4: =COLUMN() -> 6 | G4: =COLUMN() -> 7 | H4: =COLUMN() -> 8 | I4: =COLUMN() -> 9 | J4: =COLUMN() -> 10 | ... Z4: =COLUMN() -> 26
B5: Demonstração do Resultado | C5: 43190 | D5: 43281 | E5: 43373 | F5: 43465 | H5: 43555 | I5: 43646 | J5: 43738 | K5: 43830 | M5: 43921 | N5: 44012 | O5: 44104 | P5: 44196 | R5: 44286 | S5: 44377 | T5: 44469 | U5: 44561 | W5: 44651 | X5: 44742 | Y5: 44834 | Z5: 44926 | AB5: 45016 | AC5: 45107 | AD5: 45199 | AE5: 45291 | AG5: 45382 | AH5: 45473 | AI5: 45565 | AJ5: 45657 | AL5: 45747 | AM5: 45838 | AN5: 45930 | AO5: 46022 | AQ5: 46112 | AR5: 46203 | AS5: 46295 | AT5: 46387
B7: Receita operacional líquida | C7: =DRE_ACM!K7 -> 334635 | D7: =DRE_ACM!L7-DRE_ACM!K7 -> 469200 | E7: =DRE_ACM!M7-DRE_ACM!L7 -> 530206 | F7: =DRE_ACM!N7-DRE_ACM!M7 -> 587533 | H7: =DRE_ACM!P7 -> 448708 | I7: =DRE_ACM!Q7-DRE_ACM!P7 -> 512004 | J7: =DRE_ACM!R7-DRE_ACM!Q7 -> 592358 | K7: =DRE_ACM!S7-DRE_ACM!R7 -> 686503 | M7: =DRE_ACM!U7 -> 513864 | N7: =DRE_ACM!V7-DRE_ACM!U7 -> 740467 | O7: =DRE_ACM!W7-DRE_ACM!V7 -> 848033 | P7: =DRE_ACM!X7-DRE_ACM!W7 -> 1008043 | R7: =DRE_ACM!Z7 -> 769273 | S7: =DRE_ACM!AA7-DRE_ACM!Z7 -> 1205380 | T7: =DRE_ACM!AB7-DRE_ACM!AA7 -> 1729545 | U7: =DRE_ACM!AC7-DRE_ACM!AB7 -> 1635119 | W7: =DRE_ACM!AE7 -> 1273235 | X7: =DRE_ACM!AF7-DRE_ACM!AE7 -> 1497303 | Y7: =DRE_ACM!AG7-DRE_ACM!AF7 -> 1958912 | Z7: =DRE_ACM!AH7-DRE_ACM!AG7 -> 2156389 | AB7: 1804695.8 | AC7: =DRE_ACM!AK7-DRE_ACM!AJ7 -> 1760359.2 | AD7: =DRE_ACM!AL7-DRE_ACM!AK7 -> 2404340 | AE7: =DRE_ACM!AM7-DRE_ACM!AL7 -> 3029590 | AG7: 2679222 | AH7: =DRE_ACM!AP7-DRE_ACM!AO7 -> 2796469 | AI7: =DRE_ACM!AQ7-DRE_ACM!AP7 -> 3496560 | AJ7: =DRE_ACM!AR7-DRE_ACM!AQ7 -> 3853520 | AL7: =DRE_ACM!AT7-DRE_ACM!AS7 -> 3499108 | AM7: =DRE_ACM!AU7-DRE_ACM!AT7 -> 3562877 | AN7: =DRE_ACM!AV7-DRE_ACM!AU7 -> 4994879 | AO7: =DRE_ACM!AW7-DRE_ACM!AV7 -> 4366830 | AQ7: =DRE_ACM!AY7-DRE_ACM!AX7 -> 4206948 | AR7: =DRE_ACM!AZ7-DRE_ACM!AY7 -> 4700400
B8: Custo das mercadorias e produtos vendidos | C8: =DRE_ACM!K8 -> -276066 | D8: =DRE_ACM!L8-DRE_ACM!K8 -> -373095 | E8: =DRE_ACM!M8-DRE_ACM!L8 -> -450791 | F8: =DRE_ACM!N8-DRE_ACM!M8 -> -486264 | H8: =DRE_ACM!P8 -> -394538 | I8: =DRE_ACM!Q8-DRE_ACM!P8 -> -455523 | J8: =DRE_ACM!R8-DRE_ACM!Q8 -> -487275 | K8: =DRE_ACM!S8-DRE_ACM!R8 -> -539260 | M8: =DRE_ACM!U8 -> -445610 | N8: =DRE_ACM!V8-DRE_ACM!U8 -> -611240 | O8: =DRE_ACM!W8-DRE_ACM!V8 -> -651921 | P8: =DRE_ACM!X8-DRE_ACM!W8 -> -806429 | R8: =DRE_ACM!Z8 -> -662028 | S8: =DRE_ACM!AA8-DRE_ACM!Z8 -> -1019842 | T8: =DRE_ACM!AB8-DRE_ACM!AA8 -> -1516545 | U8: =DRE_ACM!AC8-DRE_ACM!AB8 -> -1439848 | W8: =DRE_ACM!AE8 -> -1115042 | X8: =DRE_ACM!AF8-DRE_ACM!AE8 -> -1244211 | Y8: =DRE_ACM!AG8-DRE_ACM!AF8 -> -1717678 | Z8: =DRE_ACM!AH8-DRE_ACM!AG8 -> -1765609 | AB8: -1544539.9 | AC8: =DRE_ACM!AK8-DRE_ACM!AJ8 -> -1576111.1 | AD8: =DRE_ACM!AL8-DRE_ACM!AK8 -> -2029466 | AE8: =DRE_ACM!AM8-DRE_ACM!AL8 -> -2602862 | AG8: -2178441 | AH8: =DRE_ACM!AP8-DRE_ACM!AO8 -> -2080269 | AI8: =DRE_ACM!AQ8-DRE_ACM!AP8 -> -2866006 | AJ8: =DRE_ACM!AR8-DRE_ACM!AQ8 -> -3169552 | AL8: =DRE_ACM!AT8-DRE_ACM!AS8 -> -2987775 | AM8: =DRE_ACM!AU8-DRE_ACM!AT8 -> -2839181 | AN8: =DRE_ACM!AV8-DRE_ACM!AU8 -> -4449802 | AO8: =DRE_ACM!AW8-DRE_ACM!AV8 -> -3662565 | AQ8: =DRE_ACM!AY8-DRE_ACM!AX8 -> -3555875 | AR8: =DRE_ACM!AZ8-DRE_ACM!AY8 -> -3905028
