Workbook
Name \0: #REF!
Name \0: #REF!
Name \0: #REF!
Name \0: #REF!
Name \0: #REF!
Name \0: #REF!
Name \0: #REF!
Name \0: #REF!
Name \a: #REF!
Name \a: #REF!
Name \a: #REF!
Name \a: #REF!
Name \a: #REF!
Name \a: #REF!
Name \a: #REF!
Name \a: #REF!
Name \B: #REF!
Name \B: #REF!
Name \B: #REF!
Name \B: #REF!
Name \B: #REF!
Name \B: #REF!
Name \B: #REF!
Name \B: #REF!
Name \C: #REF!
Name \C: #REF!
Name \C: #REF!
Name \C: #REF!
Name \C: #REF!
Name \C: #REF!
Name \C: #REF!
Name \D: #REF!
Name \D: #REF!
Name \D: #REF!
Name \D: #REF!
Name \D: #REF!
Name \D: #REF!
Name \E: #REF!
Name \E: #REF!
Name \E: #REF!
Name \E: #REF!
Name \E: #REF!
Name \E: #REF!
Name \f: #N/A
Name \G: #REF!
Name \G: #REF!
Name \G: #REF!
Name \G: #REF!
Name \G: #REF!
Name \G: #REF!
Name \g_1: #N/A
Name \h: #REF!
Name \h: #REF!
Name \h: #REF!
Name \h: #REF!
Name \h: #REF!
Name \h: #REF!
Name \i: #N/A
Name \j: #REF!
Name \j: #REF!

Sheet Sobre_About the Data

Sheet DRE_Income Statement
B4: Os dados divulgados abaixo refletem as informações dos segmentos Locação e Indústria, conforme Nota Explicativa "Informações por segmento" das DFs. Resultados dos trimestres de 2024 foram reclassificados com os ajustes da cisão das Concessionárias. Maiores informações no Release de Resultados do 3T25 | C4: The data disclosed below reflect information from the Rental and Industry segments, as per the Explanatory Note "Information by segment" of the Financial Statements. The 2024 quarters results were reclassified with adjustments for the spin-off of the Dealers. More information avilable in the 1Q25 Earnings Release
G5: RECLASSIFICADO / RECLASSIFIED ** | L5: RECLASSIFICADO / RECLASSIFIED **
B6: DRE - VAMOS Consolidado (Operações Continuadas) - R$ milhões | C6: Income Statement - VAMOS (Continuing Operations) - R$ million | D6: 2020 | E6: 2021 | F6: 2022 | G6: 1Q23 | H6: 2Q23 | I6: 3Q23 | J6: 4Q23 | K6: 2023 | L6: 1Q24 | M6: 2Q24* | N6: 3Q24 | O6: 4Q24 | P6: 2024* | Q6: 1Q25 | R6: 2Q25 | S6: 3Q25 | T6: 4Q25 | U6: 2025 | V6: 1Q26 | W6: 2Q26
B8: DRE - VAMOS Consolidado (Operações Continuadas) - R$ milhões | C8: Income Statement - VAMOS (Continuing Operations) - R$ million
B9: Receita bruta com eliminações intercompany | C9: Gross revenue with accounting intercompany eliminations | D9: =D10+D13+D15 -> 900.654 | E9: =E10+E13+E15 -> 1329.626 | F9: =F10+F13+F15 -> 2478.635 | G9: =G10+G13+G15 -> 1066.1438 | H9: =H10+H13+H15 -> 1034.7118 | I9: =I10+I13+I15 -> 1104.8852 | J9: =J10+J13+J15 -> 852.19503 | K9: =SUM(G9:J9) -> 4057.9359 | L9: =L10+L13+L15 -> 1227.461 | M9: =M10+M13+M15 -> 1356.5049 | N9: =N10+N13+N15 -> 1368.0811 | O9: =O10+O13+O15 -> 1331.4736 | P9: =SUM(L9:O9) -> 5283.5206 | Q9: =Q10+Q13+Q15 -> 1464.774 | R9: =R10+R13+R15 -> 1562.064 | S9: =S10+S13+S15 -> 1682.101 | T9: =T10+T13+T15 -> 1648.299 | U9: =U10+U13+U15 -> 6357.2347 | V9: =V10+V13+V15 -> 1779.8239 | W9: =W10+W13+W15 -> 1726.6181
B10: Locação | C10: Leasing | D10: =SUM(D11:D12) -> 900.654 | E10: =SUM(E11:E12) -> 1278.883 | F10: =SUM(F11:F12) -> 2186.583 | G10: =SUM(G11:G12) -> 919.03314 | H10: =SUM(H11:H12) -> 920.83086 | I10: =SUM(I11:I12) -> 1025.289 | J10: =SUM(J11:J12) -> 1030.025 | K10: =SUM(G10:J10) -> 3895.178 | L10: =SUM(L11:L12) -> 1117.614 | M10: =SUM(M11:M12) -> 1229.781 | N10: =SUM(N11:N12) -> 1261.141 | O10: =SUM(O11:O12) -> 1240.5469 | P10: =SUM(L10:O10) -> 4849.0829 | Q10: =SUM(Q11:Q12) -> 1362.0512 | R10: =SUM(R11:R12) -> 1453.8316 | S10: =SUM(S11:S12) -> 1554.8078 | T10: =SUM(T11:T12) -> 1535.0717 | U10: =SUM(U11:U12) -> 5905.7623 | V10: =SUM(V11:V12) -> 1637.1521 | W10: =SUM(W11:W12) -> 1582.818
B11: Receita bruta com a prestação de serviços | C11: Gross revenue from services | D11: 726.267 | E11: 1140.606 | F11: 1809.865 | G11: 663.90152 | H11: 729.91248 | I11: 781.104 | J11: 865.62064 | K11: =SUM(G11:J11) -> 3040.5386 | L11: 939.684 | M11: 1026.108 | N11: 1037.617 | O11: 1068.3358 | P11: =SUM(L11:O11) -> 4071.7448 | Q11: 1064.7457 | R11: =R71 -> 1120.5906 | S11: =S71 -> 1148.2086 | T11: =T71 -> 1189.8362 | U11: =U71 -> 4523.381 | V11: =V71 -> 1166.4273 | W11: =W71 -> 1205.8267
B12: Receita bruta com a venda de ativos (Seminovos + CPC-06) | C12: Gross revenue from asset sales (Used assets + CPC-06/IFRS-16) | D12: 174.387 | E12: 138.277 | F12: 376.718 | G12: 255.13162 | H12: 190.91838 | I12: 244.185 | J12: 164.40435 | K12: =SUM(G12:J12) -> 854.63935 | L12: 177.93 | M12: 203.673 | N12: 223.524 | O12: 172.21106 | P12: =SUM(L12:O12) -> 777.33806 | Q12: 297.30551 | R12: =R72 -> 333.24096 | S12: =S72 -> 406.59924 | T12: =T72 -> 345.23552 | U12: =U72 -> 1382.3812 | V12: =V72+V73 -> 470.72478 | W12: =W72+W73 -> 376.99126
B13: Indústria | C13: Industry | D13: 0 | E13: 50.743 | F13: 292.052 | G13: 158.89909 | H13: 176.17291 | I13: 149.652 | J13: 136.25691 | K13: =SUM(G13:J13) -> 620.98091 | L13: 153.371 | M13: 146.1 | N13: 125.772 | O13: 104.03489 | P13: =SUM(L13:O13) -> 529.27789 | Q13: 106.79 | R13: =R117 -> 110.74923 | S13: =S117 -> 133.64923 | T13: =T117 -> 141.9692 | U13: =U117 -> 493.15442 | V13: =V117 -> 187.14411 | W13: =W117 -> 146.71933
K14: =SUM(G14:J14) -> 0 | P14: =SUM(L14:O14) -> 0
B15: Eliminações intercompany | C15: Accounting intercompany eliminations | D15: 0 | E15: 0 | F15: 0 | G15: -11.788428 | H15: -62.29195 | I15: -70.05575 | J15: -314.08687 | K15: =SUM(G15:J15) -> -458.223 | L15: -43.52397 | M15: -19.376113 | N15: -18.831917 | O15: -13.108204 | P15: =SUM(L15:O15) -> -94.840204 | Q15: -4.0672023 | R15: -2.5168199 | S15: -6.356068 | T15: -28.74191 | U15: -41.682001 | V15: -44.472346 | W15: -2.9192038
B17: Deduções Totais | C17: Total Deductions | D17: =SUM(D18:D19) -> -78.547 | E17: =SUM(E18:E19) -> -136.853 | F17: =SUM(F18:F19) -> -264.31429 | G17: =SUM(G18:G19) -> -120.72115 | H17: =SUM(H18:H19) -> -121.88685 | I17: =SUM(I18:I19) -> -120.426 | J17: =SUM(J18:J19) -> -146.23511 | K17: =SUM(G17:J17) -> -509.26911 | L17: =SUM(L18:L19) -> -149.532 | M17: =SUM(M18:M19) -> -149.405 | N17: =SUM(N18:N19) -> -146.986 | O17: =SUM(O18:O19) -> -138.28566 | P17: =SUM(L17:O17) -> -584.20866 | Q17: =SUM(Q18:Q19) -> -132.75489 | R17: =SUM(R18:R19) -> -150.39806 | S17: =SUM(S18:S19) -> -153.09374 | T17: =SUM(T18:T19) -> -165.27601 | U17: =SUM(U18:U19) -> -601.52269 | V17: =SUM(V18:V19) -> -159.53403 | W17: =SUM(W18:W19) -> -162.31297
B18: Deduções da Receita de prestação de serviços | C18: Deductions from Service Revenue | D18: -76.291 | E18: -134.239 | F18: -252.05251 | G18: -97.607145 | H18: -107.05085 | I18: -110.658 | J18: -118.88841 | K18: =SUM(G18:J18) -> -434.20441 | L18: -131.279 | M18: -134.328 | N18: -134.174 | O18: -130.83462 | P18: =SUM(L18:O18) -> -530.61562 | Q18: -125.94089 | R18: =R75+R122 -> -141.44021 | S18: =S75+S122 -> -141.44205 | T18: =T75+T122 -> -146.96932 | U18: =U75+U122 -> -555.79247 | V18: =V75+V122 -> -147.1019 | W18: =W75+W122 -> -150.30731
B19: Deduções da Receita de venda de ativos | C19: Deductions from Revenue from sale of assets | D19: -2.256 | E19: -2.614 | F19: -12.261775 | G19: -23.114 | H19: -14.836 | I19: -9.768 | J19: -27.346705 | K19: =SUM(G19:J19) -> -75.064705 | L19: -18.253 | M19: -15.077 | N19: -12.812 | O19: -7.451046 | P19: =SUM(L19:O19) -> -53.593046 | Q19: -6.814 | R19: =R76 -> -8.957849 | S19: =S76 -> -11.651686 | T19: =T76 -> -18.306692 | U19: =U76 -> -45.730227 | V19: =V76 -> -12.432135 | W19: =W76 -> -12.005655
B21: Receita líquida com eliminações intercompany | C21: Net revenue with accounting intercompany eliminations | D21: =D22+D25+D27 -> 822.107 | E21: =E22+E25+E27 -> 1192.573 | F21: =F22+F25+F27 -> 2214.321 | G21: =G22+G25+G27 -> 945.32265 | H21: =H22+H25+H27 -> 912.72497 | I21: =I22+I25+I27 -> 984.45925 | J21: =J22+J25+J27 -> 705.9099 | K21: =SUM(G21:J21) -> 3548.4168 | L21: =L22+L25+L27 -> 1077.929 | M21: =M22+M25+M27 -> 1207.0999 | N21: =N22+N25+N27 -> 1221.0947 | O21: =O22+O25+O27 -> 1193.1883 | P21: =SUM(L21:O21) -> 4699.3119 | Q21: =Q22+Q25+Q27 -> 1332.0158 | R21: =R22+R25+R27 -> 1411.6659 | S21: =S22+S25+S27 -> 1529.0072 | T21: =T22+T25+T27 -> 1483.023 | U21: =U22+U25+U27 -> 5755.712 | V21: =V22+V25+V27 -> 1620.2898 | W21: =W22+W25+W27 -> 1564.3052
B22: Locação | C22: Leasing | D22: =SUM(D23:D24) -> 822.107 | E22: =SUM(E23:E24) -> 1154.164 | F22: =SUM(F23:F24) -> 1982.146 | G22: =SUM(G23:G24) -> 827.71195 | H22: =SUM(H23:H24) -> 833.27405 | I22: =SUM(I23:I24) -> 934.958 | J22: =SUM(J23:J24) -> 910.6506 | K22: =SUM(G22:J22) -> 3506.5946 | L22: =SUM(L23:L24) -> 998.055 | M22: =SUM(M23:M24) -> 1110.306 | N22: =SUM(N23:N24) -> 1138.35 | O22: =SUM(O23:O24) -> 1126.8157 | P22: =SUM(L22:O22) -> 4373.5267 | Q22: =SUM(Q23:Q24) -> 1251.1049 | R22: =SUM(R23:R24) -> 1326.4132 | S22: =SUM(S23:S24) -> 1433.639 | T22: =SUM(T23:T24) -> 1398.5119 | U22: =SUM(U23:U24) -> 5409.669 | V22: =SUM(V23:V24) -> 1512.6741 | W22: =SUM(W23:W24) -> 1452.8624
B23: Receita líquida com a prestação de serviços | C23: Net revenue from services | D23: 649.976 | E23: 1018.701 | F23: 1617.69 | G23: 595.69433 | H23: 656.33667 | I23: 700.141 | J23: 773.89296 | K23: =SUM(G23:J23) -> 2726.065 | L23: 838.378 | M23: 921.71 | N23: 927.638 | O23: 962.05572 | P23: =SUM(L23:O23) -> 3649.7817 | Q23: 960.61334 | R23: =R79 -> 1002.1301 | S23: =S79 -> 1038.6915 | T23: =T79 -> 1071.5831 | U23: =U79 -> 4073.018 | V23: =V79 -> 1054.3815 | W23: =W79 -> 1087.8768
B24: Receita líquida com a venda de ativos (Seminovos + CPC-06) | C24: Net revenue from asset sales (Used assets + CPC-06/IFRS-16) | D24: 172.131 | E24: 135.463 | F24: 364.456 | G24: 232.01762 | H24: 176.93738 | I24: 234.817 | J24: 136.75764 | K24: =SUM(G24:J24) -> 780.52964 | L24: 159.677 | M24: 188.596 | N24: 210.712 | O24: 164.76001 | P24: =SUM(L24:O24) -> 723.74501 | Q24: 290.49151 | R24: =R80 -> 324.28311 | S24: =S80 -> 394.94756 | T24: =T80 -> 326.92882 | U24: =U80 -> 1336.651 | V24: =V80+V81 -> 458.29265 | W24: =W80+W81 -> 364.9856
B25: Indústria | C25: Industry | D25: 0 | E25: 38.409 | F25: 232.175 | G25: 129.39913 | H25: 141.74287 | I25: 119.557 | J25: 109.34618 | K25: =SUM(G25:J25) -> 500.04518 | L25: 123.398 | M25: 116.17 | N25: 101.577 | O25: 79.480393 | P25: =SUM(L25:O25) -> 420.62539 | Q25: 84.978186 | R25: =R125 -> 87.769559 | S25: =S125 -> 101.72426 | T25: =T125 -> 113.25299 | U25: =U125 -> 387.725 | V25: =V125 -> 152.08804 | W25: =W125 -> 114.36196
B27: Eliminações intercompany | C27: Accounting intercompany eliminations | D27: 0 | E27: 0 | F27: 0 | G27: -11.788428 | H27: -62.29195 | I27: -70.05575 | J27: -314.08687 | K27: =SUM(G27:J27) -> -458.223 | L27: -43.52397 | M27: -19.376113 | N27: -18.832258 | O27: -13.107863 | P27: =SUM(L27:O27) -> -94.840204 | Q27: -4.0672023 | R27: -2.5168199 | S27: -6.356068 | T27: -28.74191 | U27: -41.682001 | V27: -44.472346 | W27: -2.9192038
B29: Custo com eliminações intercompany | C29: Costs with accounting intercompany eliminations | D29: =SUM(D30:D32,D34) -> -448.03651 | E29: =SUM(E30:E32,E34) -> -505.876 | F29: =SUM(F30:F32,F34) -> -747.52073 | G29: =SUM(G30:G32,G34) -> -352.49069 | H29: =SUM(H30:H32,H34) -> -285.97196 | I29: =SUM(I30:I32,I34) -> -324.49025 | J29: =SUM(J30:J32,J34) -> -221.60416 | K29: =SUM(G29:J29) -> -1184.5571 | L29: =SUM(L30:L32,L34) -> -359.575 | M29: =SUM(M30:M32,M34) -> -423.58196 | N29: =SUM(N30:N32,N34) -> -466.21923 | O29: =SUM(O30:O32,O34) -> -444.56758 | P29: =SUM(L29:O29) -> -1693.9438 | Q29: =SUM(Q30:Q32,Q34) -> -601.85386 | R29: =SUM(R30:R32,R34) -> -657.76537 | S29: =SUM(S30:S32,S34) -> -788.9392 | T29: =SUM(T30:T32,T34) -> -689.549 | U29: =SUM(U30:U32,U34) -> -2738.1074 | V29: =SUM(V30:V32,V34) -> -855.43577 | W29: =SUM(W30:W32,W34) -> -777.34654
B30: Custo ex-depreciação | C30: Cost ex-depreciation | D30: -52.28051 | E30: -146.49578 | F30: -186.62996 | G30: -70.056333 | H30: -114.3267 | I30: -110.525 | J30: -138.24093 | K30: =SUM(G30:J30) -> -433.14896 | L30: -120.436 | M30: -120.952 | N30: -120.491 | O30: -116.2359 | P30: =SUM(L30:O30) -> -478.1149 | Q30: -95.976517 | R30: =R83+R130 -> -106.84484 | S30: =S83+S130 -> -132.75127 | T30: =T83+T130 -> -136.85555 | U30: =U83+U130 -> -472.396 | V30: =V83+V130 -> -160.35262 | W30: =W83+W130 -> -128.62587
B31: Depreciação | C31: Depreciation | D31: -238.707 | E31: -260.59022 | F31: -286.34034 | G31: -98.973567 | H31: -98.226433 | I31: -96.673 | J31: -92.328344 | K31: =SUM(G31:J31) -> -386.20134 | L31: -158.142 | M31: -176.018 | N31: -190.412 | O31: -206.11669 | P31: =SUM(L31:O31) -> -730.68869 | Q31: -239.07545 | R31: =R131+R84 -> -252.39848 | S31: =S131+S84 -> -267.60033 | T31: =T131+T84 -> -258.30856 | U31: =U131+U84 -> -1017.415 | V31: =V131+V84 -> -289.49903 | W31: =W131+W84 -> -290.01198
B32: Custo de venda de ativos (Seminovos + CPC-06) | C32: Cost of assets sold (Used assets + CPC-06/IFRS-16) | D32: -157.049 | E32: -98.79 | F32: -274.55043 | G32: -195.24922 | H32: -135.71078 | I32: -187.348 | J32: -90.315933 | K32: =SUM(G32:J32) -> -608.62393 | L32: -123.954 | M32: -145.264 | N32: -173.325 | O32: -135.04167 | P32: =SUM(L32:O32) -> -577.58467 | Q32: -269.47266 | R32: =R85 -> -300.13068 | S32: =S85 -> -393.70297 | T32: =T85 -> -322.99004 | U32: =U85 -> -1286.2963 | V32: =V85+V86 -> -449.91629 | W32: =W85+W86 -> -361.48666
B34: Eliminações intercompany | C34: Accounting intercompany eliminations | D34: 0 | E34: 0 | F34: 0 | G34: 11.788428 | H34: 62.29195 | I34: 70.05575 | J34: 99.281049 | K34: =SUM(G34:J34) -> 243.41718 | L34: 42.957 | M34: 18.652035 | N34: 18.008766 | O34: 12.826675 | P34: =SUM(L34:O34) -> 92.444477 | Q34: 2.6707769 | R34: 1.6086246 | S34: 5.1153674 | T34: 28.605145 | U34: 37.999914 | V34: 44.332171 | W34: 2.7779622
B36: Lucro bruto | C36: Gross profit | D36: =D21+D29 -> 374.07049 | E36: =E21+E29 -> 686.697 | F36: =F21+F29 -> 1466.8003 | G36: =G21+G29 -> 592.83196 | H36: =H21+H29 -> 626.75301 | I36: =I21+I29 -> 659.969 | J36: =J21+J29 -> 484.30574 | K36: =K21+K29 -> 2363.8597 | ... W36: =W21+W29 -> 786.95862
B37: Margem bruta | C37: Gross margin | D37: =D36/D21 -> 0.45501436 | E37: =E36/E21 -> 0.57581129 | F37: =F36/F21 -> 0.66241537 | G37: =G36/G21 -> 0.62712129 | H37: =H36/H21 -> 0.68668332 | I37: =I36/I21 -> 0.67038732 | J37: =J36/J21 -> 0.68607303 | K37: =K36/K21 -> 0.66617307 | ... W37: =W36/W21 -> 0.50307232
B39: Despesas | C39: Expenses | D39: =SUM(D40:D43,D45) -> -59.887 | E39: =SUM(E40:E43,E45) -> -113.478 | F39: =SUM(F40:F43,F45) -> -234.36658 | G39: =SUM(G40:G43,G45) -> -77.903297 | H39: =SUM(H40:H43,H45) -> -79.446421 | I39: =SUM(I40:I43,I45) -> -88.30567 | J39: =SUM(J40:J43,J45) -> -89.164406 | K39: =SUM(K40:K43,K45) -> -334.81979 | ... W39: =SUM(W40:W43,W45) -> -111.22251
B40: Despesas gerais e administrativas ex-depreciação | C40: General and administrative expenses (ex-depreciation) | D40: -64.455 | E40: -109.673 | F40: -227.5022 | G40: -70.693204 | H40: -58.236234 | I40: -64.958 | J40: -76.954551 | K40: =SUM(G40:J40) -> -270.84199 | L40: -76.855 | M40: -162.19 | N40: -78.786 | O40: -110.16461 | P40: =SUM(L40:O40) -> -427.99561 | Q40: -86.631335 | R40: =R95+R137 -> -111.77482 | S40: =S95+S137 -> -109.62239 | T40: =T95+T137 -> -104.80528 | U40: =U95+U137 -> -413.6994 | V40: =V95+V137 -> -106.39733 | W40: =W95+W137 -> -109.20253
B41: Depreciação | C41: Depreciation | D41: -2.099 | E41: -5.142 | F41: -14.375871 | G41: -38.357674 | H41: -38.719326 | I41: -43.261 | J41: -39.564743 | K41: =SUM(G41:J41) -> -159.90274 | L41: -6.545 | M41: -3.915 | N41: -4.757 | O41: -4.7072186 | P41: =SUM(L41:O41) -> -19.924219 | Q41: -4.4985623 | R41: =R96+R138 -> -4.7908968 | S41: =S96+S138 -> -5.5313828 | T41: =T96+T138 -> -5.5951581 | U41: =U96+U138 -> -20.416 | V41: =V96+V138 -> -5.8430417 | W41: =W96+W138 -> -5.7832849
B42: Outras despesas e receitas | C42: Other expenses/revenues | D42: 6.667 | E42: 1.337 | F42: 7.511491 | G42: 1.4570179 | H42: -0.53901788 | I42: 2.23 | J42: -3.1451119 | K42: =SUM(G42:J42) -> 0.00288807 | L42: 4.925 | M42: 1.65 | N42: -4.025 | O42: 0.64613212 | P42: =SUM(L42:O42) -> 3.1961321 | Q42: 2.7324716 | R42: =R97+R139 -> 15.639806 | S42: =S97+S139 -> -4.254597 | T42: =T97+T139 -> 9.7956589 | U42: =U97+U139 -> 24.778405 | V42: =V97+V139 -> 3.2492551 | W42: =W97+W139 -> 3.6225108
B43: Efeitos extraordinários/não recorrentes | C43: Extraordinary effects (weather events in Rio Grande do Sul + one-off increase in the bad debt provision)* | D43: 0 | E43: 0 | F43: 0 | G43: 0 | H43: 0 | I43: 0 | J43: 0 | L43: 0 | M43: 82.282838 | N43: 0 | O43: 0 | P43: =SUM(L43:O43) -> 82.282838 | Q43: 0 | R43: =R98 -> -14.819736 | S43: =S98 -> 0 | T43: =T98 -> 0 | U43: -14.819736 | V43: =V98 -> 0 | W43: =W98 -> 0
B45: Eliminações intercompany | C45: Accounting intercompany eliminations | D45: 0 | E45: 0 | F45: 0 | G45: 29.690562 | H45: 18.048158 | I45: 17.68333 | J45: 30.5 | K45: =SUM(G45:J45) -> 95.92205 | L45: 0.568499 | M45: 0.72254832 | N45: 0.82349198 | O45: 0.28144691 | P45: =SUM(L45:O45) -> 2.3959862 | Q45: 1.3964253 | R45: 0.90819524 | S45: 1.2407006 | T45: 0.1396788 | U45: 3.685 | V45: 0.140175 | W45: 0.14079973
B47: EBIT | C47: EBIT | D47: =D36+D39 -> 314.18349 | E47: =E36+E39 -> 573.219 | F47: =F36+F39 -> 1232.4337 | G47: =G36+G39 -> 514.92866 | H47: =H36+H39 -> 547.30659 | I47: =I36+I39 -> 571.66333 | J47: =J36+J39 -> 395.14134 | K47: =K36+K39 -> 2029.0399 | ... W47: =W36+W39 -> 675.73611
B48: Margem EBIT | C48: EBIT Margin | D48: =D47/D21 -> 0.38216861 | E48: =E47/E21 -> 0.48065737 | F48: =F47/F21 -> 0.55657409 | G48: =G47/G21 -> 0.54471207 | H48: =H47/H21 -> 0.59964021 | I48: =I47/I21 -> 0.58068765 | J48: =J47/J21 -> 0.55976171 | K48: =K47/K21 -> 0.57181556 | ... W48: =W47/W21 -> 0.43197205
B50: Despesas financeiras líquidas | C50: Financial Result | D50: =SUM(D51:D52) -> -103.895 | E50: =SUM(E51:E52) -> -163.807 | F50: =SUM(F51:F52) -> -759.03974 | G50: =SUM(G51:G52) -> -338.28026 | H50: =SUM(H51:H52) -> -412.75674 | I50: =SUM(I51:I52) -> -405.046 | J50: =SUM(J51:J52) -> -324.3432 | K50: =SUM(K51:K52) -> -1480.4262 | ... W50: =SUM(W51:W52) -> -547.39076
B51: Receita financeira | C51: Financial revenue | D51: 17.245 | E51: 103.285 | F51: 357.65331 | G51: 31.827258 | H51: 42.577742 | I51: 44.411 | J51: 34.205115 | K51: =SUM(G51:J51) -> 153.02111 | L51: 64.982 | M51: 70.206936 | N51: 99.644 | O51: 74.078883 | P51: =SUM(L51:O51) -> 308.91182 | Q51: 91.248669 | R51: 130.80259 | S51: 147.77795 | T51: 200.73414 | U51: 570.56335 | V51: 152.964 | W51: 220.96206
B52: Despesa financeira | C52: Financial expenses | D52: -121.14 | E52: -267.092 | F52: -1116.6931 | G52: -370.10751 | H52: -455.33449 | I52: -449.457 | J52: -358.54832 | K52: =SUM(G52:J52) -> -1633.4473 | L52: -436.414 | M52: -459.32094 | N52: -515.113 | O52: -518.49523 | P52: =SUM(L52:O52) -> -1929.3432 | Q52: -584.471 | R52: -662.37165 | S52: -709.91458 | T52: -792.35311 | U52: -2749.1103 | V52: -694.39627 | W52: -768.35282
B54: Lucro antes do Imposto de Renda e Contribuição Social | C54: EBT | D54: =D47+D50 -> 210.28849 | E54: =E47+E50 -> 409.412 | F54: =F47+F50 -> 473.39395 | G54: =G47+G50 -> 176.6484 | H54: =H47+H50 -> 134.54985 | I54: =I47+I50 -> 166.61733 | J54: =J47+J50 -> 70.798134 | K54: =K47+K50 -> 548.61372 | ... W54: =W47+W50 -> 128.34535
B55: Despesas de IR e CS | C55: Income tax and social contribution | D55: -62.015 | E55: -126.594 | F55: -74.242913 | G55: -30.987987 | H55: -9.3460128 | I55: -5.162 | J55: -5.5404104 | K55: =SUM(G55:J55) -> -51.03641 | L55: -70.83434 | M55: -52.56166 | N55: -67.992 | O55: -26.292903 | P55: =SUM(L55:O55) -> -217.6809 | Q55: -42.108708 | R55: -29.547583 | S55: -9.3177087 | T55: -23.727 | U55: -104.701 | V55: -27.932281 | W55: -27.276783
...

Sheet BP_Balance Sheet
B4: Informações financeiras não auditadas, exceto dez/2024. | C4: Unaudited financial information, except for dec/2024.
B5: Balanço Patrimonial - VAMOS (Operações Continuadas) - R$ milhões | C5: Balance Sheet - VAMOS (Continuing Operations) - R$ million | D5: Dec/2020 | E5: Dec/2021 | F5: Dec/2022 | G5: Mar/2023 | H5: Jun/2023 | I5: Sep/2023 | J5: Dec/2023 | K5: Mar/2024 | L5: Jun/2024 | M5: Sep/2024 | N5: Dec/2024 | O5: Mar/2025 | P5: Jun/2025 | Q5: Sep/2025 | R5: Dec/2025 | S5: Mar/2026 | T5: Jun/2026
B8: Ativo circulante | C8: Current assets
B9: Caixa e equivalentes de caixa | C9: Cash and cash equivalents | D9: 13.43 | E9: 128.178 | F9: 60.347 | G9: 1219.149 | H9: 141.116 | I9: 316.311 | J9: 73.517 | K9: 254.746 | L9: 221.294 | M9: 241.396 | N9: 152.938 | O9: 75.60925 | P9: 104.067 | Q9: 147.23 | R9: 325.423 | S9: 174.845 | T9: 185.221
B10: Títulos, valores mobiliários e aplicações financeiras | C10: Marketable securities and financial instruments | D10: 668.444 | E10: 3613.327 | F10: 1361.474 | G10: 847.69 | H10: 862.817 | I10: 973.218 | J10: 1599.3452 | K10: 1490.667 | L10: 1234.37 | M10: 3289.258 | N10: 2635.29 | O10: 4406.3077 | P10: 3963.868 | Q10: 4450.335 | R10: 4392.585 | S10: 4620.097 | T10: 4221.786
B11: Instrumentos financeiros derivativos | C11: Derivative financial instruments | D11: 0 | E11: 0 | F11: 0 | G11: 0 | H11: 0 | I11: 2.694 | J11: 2.769 | K11: 0 | L11: 7.476 | M11: 2.079 | N11: 0 | O11: 0 | P11: 0 | Q11: 0 | R11: 55.455 | S11: 56.004 | T11: 39.119
B12: Contas a receber | C12: Trade receivables | D12: 161.65801 | E12: 257.435 | F12: 561.60882 | G12: 748.416 | H12: 714.487 | I12: 821.324 | J12: 653.95108 | K12: 713.799 | L12: 530.954 | M12: 481.14 | N12: 540.228 | O12: 574.30299 | P12: 800.255 | Q12: 999.089 | R12: 667.582 | S12: 758.486 | T12: 970.098
B13: Estoques | C13: Inventories | D13: 1.815 | E13: 57.235 | F13: 141.682 | G13: 120.871 | H13: 120.042 | I13: 122.654 | J13: 112.496 | K13: 102.667 | L13: 108.077 | M13: 103.471 | N13: 103.894 | O13: 94.039422 | P13: 91.461 | Q13: 120.274 | R13: 130.585 | S13: 105.225 | T13: 106.608
B14: Tributos a recuperar | C14: Taxes Recoverable | D14: 1.379 | E14: 2.421 | F14: 25.67 | G14: 29.965 | H14: 47.179 | I14: 55.772 | J14: 62.053 | K14: 63.363 | L14: 62.891 | M14: 27.009 | N14: 33.517 | O14: 34.704841 | P14: 70.489 | Q14: 57.103 | R14: 57.846 | S14: 51.211 | T14: 46.544
B15: Imposto de renda e contribuição social a recuperar | C15: Income tax and social contribution receivable | D15: 27.591 | E15: 62.503 | F15: 145.551 | G15: 155.371 | H15: 161.289 | I15: 161.317 | J15: 169.815 | K15: 153.103 | L15: 160.665 | M15: 178.131 | N15: 194.322 | O15: 220.71216 | P15: 253.497 | Q15: 259.094 | R15: 253.296 | S15: 240.556 | T15: 232.223
B16: Ativos circulantes mantidos para venda | C16: Current assets held for sale | D16: 33.329 | E16: 40.891 | F16: 171.121 | G16: 191.264 | H16: 251.325 | I16: 307.122 | J16: 343.297 | K16: 400.724 | L16: 596.487 | M16: 681.102 | N16: 427.756 | O16: 412.0526 | P16: 500.44 | Q16: 523.113 | R16: 502.821 | S16: 454.737 | T16: 474.023
B17: Despesas antecipadas | C17: Prepaid Expenses | D17: 24.333 | E17: 10.303 | F17: 19.643 | G17: 67.83 | H17: 58.489 | I17: 31.962 | J17: 10.929 | K17: 69.063 | L17: 64.504 | M17: 44.099 | N17: 13.526 | O17: 68.209447 | P17: 55.211 | Q17: 37.432 | R17: 15.483 | S17: 90.079 | T17: 61.884
B18: Adiantamento a terceiros | C18: Advances to third parties | D18: 2.21 | E18: 8.495 | F18: 11.43 | G18: 4.979 | H18: 19.152 | I18: 13.441 | J18: 26.453 | K18: 33.584 | L18: 19.459 | M18: 27.034 | N18: 27.074 | O18: 17.038815 | P18: 14.855 | Q18: 20.222 | R18: 15.934 | S18: 16.157 | T18: 14.816
B19: Outros créditos | C19: Other credits | D19: 11.167 | E19: 1.138 | F19: 3.7814077 | G19: 7.159 | H19: 5.269 | I19: 4.443 | J19: 0.00012419 | K19: 4.413 | L19: 6.358 | M19: 6.125 | N19: 15.966 | O19: 11.838147 | P19: 13.254 | Q19: 17.209 | R19: 14.147 | S19: 13.066 | T19: 25.437
B20: Total do ativo circulante | C20: Total current assets | D20: =SUM(D9:D19) -> 945.35601 | E20: =SUM(E9:E19) -> 4181.926 | F20: =SUM(F9:F19) -> 2502.3082 | G20: =SUM(G9:G19) -> 3392.694 | H20: =SUM(H9:H19) -> 2381.165 | I20: =SUM(I9:I19) -> 2810.258 | J20: =SUM(J9:J19) -> 3054.6255 | K20: =SUM(K9:K19) -> 3286.129 | ... N20: =SUM(N9:N19) -> 4144.511 | O20: 5914.8154 | P20: =SUM(P9:P19) -> 5867.397 | Q20: =SUM(Q9:Q19) -> 6631.101 | R20: =SUM(R9:R19) -> 6431.157 | S20: =SUM(S9:S19) -> 6580.463 | T20: =SUM(T9:T19) -> 6377.759
B22: Ativo não circulante | C22: Non-current assets
B23: Realizável a longo prazo | C23: Long-term
B24: Títulos, valores mobiliários e aplicações financeiras | C24: Marketable securities and financial investments | D24: 6.206 | E24: 7.112 | F24: 18.452 | G24: 18.335 | H24: 18.769 | I24: 13.04 | J24: 10.521 | K24: 10.78 | L24: 10.519 | M24: 0 | N24: 0 | O24: 0 | P24: 0 | Q24: 0 | R24: 0 | S24: 0 | T24: 0
B25: Instrumentos financeiros derivativos | C25: Derivative financial instruments | D25: 98.5 | E25: 9.371 | F25: 12.871 | G25: 11.747 | H25: 252.724 | I25: 86.148 | J25: 506.091 | K25: 431.338 | L25: 334.462 | M25: 261.326 | N25: 111.285 | O25: 110.81979 | P25: 224.424 | Q25: 103.011 | R25: 236.145 | S25: 158.33 | T25: 150.204
B26: Contas a receber | C26: Trade receivables | D26: 11.166 | E26: 20.138 | F26: 23.754 | G26: 26.835 | H26: 25.264 | I26: 11.327 | J26: 46.226 | K26: 73.639 | L26: 73.981 | M26: 65.694 | N26: 32.455 | O26: 28.613827 | P26: 26.414 | Q26: 27.084 | R26: 23.213 | S26: 137.12 | T26: 139.815
B27: Tributos a recuperar | C27: Taxes recoverable | D27: 0 | E27: 0.015 | F27: 0.015 | G27: 0 | H27: 0 | I27: 0 | J27: 0 | K27: 0 | L27: 0 | M27: 35.598 | N27: 37.694 | O27: 37.693968 | P27: 0 | Q27: 0 | R27: 0 | S27: 0 | T27: 0
B28: Imposto de renda e contribuição social diferidos | C28: Deferred Income tax and social contribution | D28: 0 | E28: 5.871 | F28: 16.295 | G28: 25.918 | H28: 34.009 | I28: 39.165 | J28: 45.531 | K28: 48.525 | L28: 51.552 | M28: 52.465 | N28: 60.789 | O28: 60.433827 | P28: 61.139 | Q28: 63.02 | R28: 68.13 | S28: 72.819 | T28: 73.447
B29: Ativo de indenização | C29: Indemnification assets | D29: 0 | E29: 8.74 | F29: 45.045 | G29: 45.045 | H29: 45.045 | I29: 53.033 | J29: 45.045 | K29: 46.018 | L29: 46.956 | M29: 47.936 | N29: 36.883 | O29: 37.718459 | P29: 38.65 | Q29: 39.683 | R29: 18.454 | S29: 19.405 | T29: 20.331
B30: Depósitos judiciais | C30: Judicial deposits | D30: 0.311 | E30: 0.361 | F30: 0.956 | G30: 0.974 | H30: 1.031 | I30: 1.133 | J30: 1.083 | K30: 1.362 | L30: 1.368 | M30: 1.627 | N30: 1.825 | O30: 2.319481 | P30: 1.839 | Q30: 2.082 | R30: 1.799 | S30: 2.065 | T30: 2.349
B31: Créditos com partes relacionadas | C31: Receivables from related parties | D31: 0 | E31: 0 | F31: 0 | G31: 0 | H31: 0 | I31: 0 | J31: 0 | K31: 0 | L31: 0 | M31: 0 | N31: 0 | O31: 0 | P31: 0 | Q31: 0 | R31: 0 | S31: 0 | T31: 0
B32: Outros créditos | C32: Other credits | D32: 0.878 | E32: 0.884 | F32: 0.087 | G32: 0.105 | H32: 0.104 | I32: 0.101 | J32: 0.23 | K32: 6.164 | L32: 2.854 | M32: 1.877 | N32: 2.147 | O32: 4.428627 | P32: 3.531 | Q32: 6.198 | R32: 3.367 | S32: 2.045 | T32: 4.489
B33: Total do Realizável a Longo Prazo | C33: Total Non-current assets | D33: =SUM(D24:D32) -> 117.061 | E33: =SUM(E24:E32) -> 52.492 | F33: =SUM(F24:F32) -> 117.475 | G33: =SUM(G24:G32) -> 128.959 | H33: =SUM(H24:H32) -> 376.946 | I33: =SUM(I24:I32) -> 203.947 | J33: =SUM(J24:J32) -> 654.727 | K33: =SUM(K24:K32) -> 617.826 | ... N33: =SUM(N24:N32) -> 283.078 | O33: 282.02798 | P33: =SUM(P24:P32) -> 355.997 | Q33: =SUM(Q24:Q32) -> 241.078 | R33: =SUM(R24:R32) -> 351.108 | S33: =SUM(S24:S32) -> 391.784 | T33: =SUM(T24:T32) -> 390.635
B35: Investimentos | C35: Investments | D35: 0 | E35: 0 | F35: 0 | G35: 0 | H35: 0 | I35: 0 | J35: 0 | K35: 0 | L35: 0 | M35: 0 | N35: 0 | O35: 0 | P35: 0 | Q35: 9.201 | R35: 10.076 | S35: 10.381 | T35: 14.993
B36: Imobilizado | C36: Property and equipment | D36: 2424.234 | E36: 4812.389 | F36: 11640.012 | G36: 11982.996 | H36: 12346.939 | I36: 12414.357 | J36: 13040.476 | K36: 14338.017 | L36: 14990.663 | M36: 15184.56 | N36: 15669.649 | O36: 16029.484 | P36: 16041.82 | Q36: 15962.512 | R36: 15995.284 | S36: 15822.606 | T36: 15813.085
B37: Intangível | C37: Intangible | D37: 85.437 | E37: 141.916 | F37: 66.936 | G37: 62.571 | H37: 144.291 | I37: 140.678 | J37: 137.059 | K37: 228.963 | L37: 132.651 | M37: 130.492 | N37: 179.789 | O37: 178.22882 | P37: 178.23 | Q37: 177.743 | R37: 176.962 | S37: 176.602 | T37: 176.33
B39: Total do ativo não circulante | C39: Total Non-current assets | D39: =D33+D36+D37 -> 2626.732 | E39: =E33+E36+E37 -> 5006.797 | F39: =F33+F36+F37 -> 11824.423 | G39: =G33+G36+G37 -> 12174.526 | H39: =H33+H36+H37 -> 12868.176 | I39: =I33+I36+I37 -> 12758.982 | J39: =J33+J36+J37 -> 13832.262 | K39: =K33+K36+K37 -> 15184.806 | ... N39: =N33+N36+N37 -> 16132.516 | O39: 16489.741 | P39: =SUM(P33,P35:P37) -> 16576.047 | Q39: =SUM(Q33,Q35:Q37) -> 16390.534 | R39: =SUM(R33,R35:R37) -> 16533.43 | S39: =SUM(S33,S35:S37) -> 16401.373 | T39: =SUM(T33,T35:T37) -> 16395.043
B41: Total do ativo | C41: Total Assets | D41: =D39+D20 -> 3572.088 | E41: =E39+E20 -> 9188.723 | F41: =F39+F20 -> 14326.731 | G41: =G39+G20 -> 15567.22 | H41: =H39+H20 -> 15249.341 | I41: =I39+I20 -> 15569.24 | J41: =J39+J20 -> 16886.887 | K41: =K39+K20 -> 18470.935 | ... N41: =N39+N20 -> 20277.027 | O41: 22404.556 | P41: =SUM(P20,P39) -> 22443.444 | Q41: =SUM(Q20,Q39) -> 23021.635 | R41: =SUM(R20,R39) -> 22964.587 | S41: =SUM(S20,S39) -> 22981.836 | T41: =SUM(T20,T39) -> 22772.802
B43: Passivo circulante | C43: Current liabilities
B44: Fornecedores | C44: Trade payables | D44: 440.65201 | E44: 522.625 | F44: 2405.7945 | G44: 1153.721 | H44: 229.987 | I44: 302.3 | J44: 523.586 | K44: 1004.13 | L44: 1041.121 | M44: 863.45 | N44: 650.291 | O44: 990.748 | P44: 708.555 | Q44: 778.826 | R44: 696.798 | S44: 589.523 | T44: 889.89
B45: Risco sacado a pagar | C45: Supplier financing | D45: 0 | E45: 0 | F45: 31.319 | G45: 26.422 | H45: 37.503 | I45: 65.204 | J45: 53.289 | K45: 5.24 | L45: 0 | M45: 0 | N45: 0 | O45: 0 | P45: 0 | Q45: 0 | R45: 0 | S45: 0 | T45: 0
B46: Empréstimos, financiamentos e debêntures | C46: Loans, borrowings and debentures | D46: 295.853 | E46: 203.964 | F46: 541.786 | G46: 694.298 | H46: 633.911 | I46: 940.857 | J46: 846.806 | K46: 1453.021 | L46: 1561.07 | M46: 1051.197 | N46: 942.379 | O46: 1187.759 | P46: 1471.37 | Q46: 1694.605 | R46: 1669.708 | S46: 1766.598 | T46: 1807.861
B47: Arrendamentos por direito de uso | C47: Leasing payable | D47: 1.713 | E47: 2.474 | F47: 6.033 | G47: 7.592 | H47: 10.253 | I47: 10.629 | J47: 13.368 | K47: 15.361 | L47: 13.614 | M47: 14.443 | N47: 14.923 | O47: 19.722 | P47: 20.915 | Q47: 20.082 | R47: 20.684 | S47: 20.471 | T47: 20.339
B48: Arrendamentos a pagar | C48: Right-of-use leases | D48: 5.197 | E48: 0 | F48: 0 | G48: 0 | H48: 0 | I48: 0 | J48: 0 | K48: 0 | L48: 0 | M48: 0 | N48: 0 | O48: 0 | P48: 0 | Q48: 0 | R48: 0 | S48: 0 | T48: 0
B49: Cessão de direitos creditórios | C49: Assignment of receivables | D49: 6.043 | E49: 21.834 | F49: 304.539 | G49: 558.754 | H49: 579.478 | I49: 431.209 | J49: 343.328 | K49: 326.9 | L49: 413.269 | M49: 531.392 | N49: 556.847 | O49: 491.169 | P49: 754.529 | Q49: 597.218 | R49: 666.483 | S49: 634.415 | T49: 487.241
B50: Instrumentos Financeiros Derivativos | C50: Derivative financial instruments | D50: 0 | E50: 0 | F50: 0 | G50: 0 | H50: 0 | I50: 0 | J50: 214.27 | K50: 240.492 | L50: 150.64 | M50: 163.622 | N50: 0 | O50: 0 | P50: 0 | Q50: 0 | R50: 69.001 | S50: 248.873 | T50: 281.647
...

Sheet Fluxo de Caixa_Cash Flow
B5: Fluxo de Caixa - VAMOS (Operações Continuadas) - (R$ milhões) | C5: Cash Flow - VAMOS (Continuing Operations) - R$ million | D5: Dec/2023 YTD | E5: Dec/2024 YTD | F5: Mar/2025 YTD | G5: Jun/2025 YTD | H5: Sep/2025 YTD | I5: Dec/2025 YTD | J5: Mar/2026 YTD | K5: Jun/2026 YTD
B8: Fluxo de caixa das atividades operacionais | C8: Cash flow from operating activities
B9: Lucro antes do imposto de renda e da contribuição da social | C9: Profit before income tax and social contribution | D9: 548.591 | E9: 942.61 | F9: 149.939 | G9: 272.252 | H9: 332.016 | I9: 433.403 | J9: 114.57047 | K9: 242.915
B10: Ajustes para: | C10: Adjustments to:
B11: Depreciação e amortização | C11: Depreciation and amortization | D11: 547.118 | E11: 750.61259 | F11: 243.606 | G11: 500.795 | H11: 773.927 | I11: 1037.831 | J11: 295.342 | K11: 591.137
B12: Resultado de equivalência patrimonial | C12: Equity in earnings of subsidiaries | K12: -0.109
B13: Custo de venda de ativos desmobilizados | C13: Cost of sale of decommissioned assets | D13: 608.424 | E13: 577.585 | F13: 269.473 | G13: 569.603 | H13: 963.306 | I13: 1283.967 | J13: 449.916 | K13: 811.403
B14: Provisão (reversão) para demandas judiciais e administrativas | C14: Provision (reversal) for judicial and administrative litigation | D14: 0.99 | E14: -1.3567454 | F14: -0.79 | G14: 0.155 | H14: 2.892 | I14: 3.666 | J14: -0.104 | K14: 1.68
B15: Provisão para perdas esperadas (impairment) de contas a receber | C15: Estimated losses (impairment) of trade receivables | D15: 84.671 | E15: 184.612 | F15: 29.019 | G15: 65.283 | H15: 82.095 | I15: 91.315 | J15: 26.776 | K15: 53.293
B16: Custo na venda de outros ativos imobilizados | C16: Cost of sale of other property and equipment | D16: 26.347 | E16: 24.416 | F16: 1.257 | G16: 0 | H16: 0 | I16: 0 | J16: 0 | K16: 0
B17: Provisão para perdas em estoques | C17: Allowance for inventory losses | D17: -1.436 | E17: 1.79 | F17: 0 | G17: 0 | H17: 0 | I17: 0 | J17: 0 | K17: 0
B18: Provisão para perda de valor recuperável de ativos não financeiros (Impairment) - ativos circulantes mantidos para venda | C18: Estimated impairment losses of non-financial assets (impairment) - current assets held for sale | D18: 0 | E18: 2.158 | F18: 0 | G18: 0 | H18: 0 | I18: 0 | J18: 0 | K18: 0
B19: Remuneração com base em ações | C19: Share-based payments | D19: 0 | E19: 0 | F19: 0 | G19: 0 | H19: 0 | I19: 0 | J19: 0 | K19: 0
B20: Créditos de impostos extemporâneos | C20: Out-of-period tax credits | D20: 0 | E20: 0 | F20: 0 | G20: 0 | H20: 0 | I20: 0 | J20: 0 | K20: 0
B21: Baixa de outros ativos imobilizados e intangíveis | C21: Write-off of other property and equipment and intangible assets | G21: 9.892 | H21: 14.553 | I21: 18.552 | J21: 3.435 | K21: 15.72
B22: Resultado nas operações de derivativos (hedge) | C22: Gains (losses) on derivative transactions | D22: 246.017 | E22: -41.702 | F22: 61 | G22: 293.011 | H22: 447.713 | I22: 437.869 | J22: 267.016 | K22: 396.429
B23: Juros sobre venda de participação societária | C23: Interest on the sale of shareholdings | D23: 0 | E23: 0 | F23: 0 | G23: 0 | H23: 0 | I23: 0 | J23: 0 | K23: 0
B24: Juros sobre compra de ações a termo | C24: Interest on forward purchase of shares | D24: 0 | E24: 5.891 | F24: 0 | G24: 0 | H24: 0 | I24: 0 | J24: 0 | K24: 0
B25: Despesa com captação de empréstimos e financiamentos | C25: Expenses with loans and financing | D25: 23.818 | E25: 27.016 | F25: 10.142 | G25: 17.643 | H25: 27.259 | I25: 47.893 | J25: 13.416 | K25: 26.787
B26: Juros sobre desconto de recebíveis | C26: Interest received from customers | D26: 10.761 | E26: 19.163 | F26: 4.144 | G26: 8.917 | H26: 9.851 | I26: 9.851 | J26: 0.164 | K26: 0.259
B27: Imposto de renda e contribuição social pagos | C27: Income tax and social contribution paid | G27: 0 | H27: 0 | I27: 0 | J27: 0 | K27: 0
B28: Juros pagos sobre empréstimos, financiamentos e debêntures e arrendamentos | C28: Interest paid on loans, borrowings and debentures, supplier financing and leases | F28: -249.362 | I28: 0 | J28: 0 | K28: 0
B29: Juros e variações monetárias e cambiais sobre empréstimos, financiamentos e debêntures, arrendamentos e outros passivos financeiros | C29: Interest paid on loans, borrowings and debentures, supplier financing and leases | D29: 0 | E29: 0 | F29: 0 | G29: 0 | H29: 0 | I29: 2130.544 | J29: 398.804 | K29: 968.182
B30: Apropriação de juros conforme CPC-06 (R2) | C30: Interest accrual in accordance with CPC-06 (R2) | J30: -2.392 | K30: -10.99
B31: Compra de ativo imobilizado operacional para locação | C31: Acquisition of operational property and equipment for leasing | D31: 0 | E31: 0 | F31: -839.104 | G31: 0 | H31: 0 | I31: 0 | J31: 0 | K31: 0
B32: Resgate de (investimento em) títulos, valores mobiliários e aplicações financeiras | C32: Redemption of (investments in) marketable securities and financial investments | D32: 0 | E32: 0 | F32: 0 | G32: 0 | H32: 0 | I32: 0 | J32: 0 | K32: 0
B33: Total fluxo de caixa das atividades operacionais | C33: Total cash flow from operating activities | D33: =SUM(D9:D32) -> 2095.301 | E33: =SUM(E9:E32) -> 2492.7948 | F33: =SUM(F9:F32) -> -320.676 | G33: =SUM(G9:G32) -> 1737.551 | H33: =SUM(H9:H32) -> 2653.612 | I33: =SUM(I9:I32) -> 5494.891 | J33: =SUM(J9:J32) -> 1566.9435 | K33: =SUM(K9:K32) -> 3096.706
B34: Variações no capital circulante líquido operacional | C34: Changes in operating assets/liabilities
B35: Resgate de (investimento em) títulos, valores mobiliários e aplicações financeiras | C35: Redemption of (investments in) marketable securities and financial investments | D35: 0 | E35: 0 | F35: 0 | G35: 0 | H35: 0 | I35: 0 | J35: 0 | K35: 0
B36: Contas a receber | C36: Trade receivables | D36: -334.806 | E36: -299.32012 | F36: -127.931 | G36: -154.688 | H36: -231.232 | I36: -582.787 | J36: -229.359 | K36: -461.68
B37: Estoques | C37: Inventories | D37: 28.988 | E37: 28.873 | F37: 9.855 | G37: 12.433 | H37: -16.38 | I37: -26.691 | J37: 25.36 | K37: 23.977
B38: Tributos a recuperar | C38: Taxes recoverable | D38: -39.316 | E38: -54.063 | F38: -1.188 | G38: 0.722 | H38: 14.108 | I38: 13.365 | J38: 6.635 | K38: 11.302
B39: Fornecedores | C39: Trade payables | D39: -1953.599 | E39: 122.857 | F39: 341.437 | G39: 60.366 | H39: 131.928 | I39: 51.197 | J39: -50.512 | K39: -53.699
B40: Floor Plan | C40: Floor plan | D40: 0.001 | E40: 193.979 | F40: 0 | G40: 0 | H40: 0 | I40: 0 | J40: 0 | K40: 0
B41: Obrigações trabalhistas e tributos a recolher | C41: Labor and tax liabilities | D41: -28.611 | E41: 20.019 | F41: 0.038 | G41: 10.24 | H41: 15.662 | I41: 19.517 | J41: -26.542 | K41: -17.868
B42: Juros pagos sobre empréstimos, financiamentos e debêntures e arrendamentos | C42: Interest paid on loans, borrowings and debentures, supplier financing and leases | D42: 0 | E42: 0 | F42: 0 | G42: -884.733 | H42: -1144.158 | I42: 0 | J42: 0 | K42: 0
B43: Imposto de renda e contribuição social pagos | C43: Income tax and social contribution paid | D43: 0 | E43: 0 | F43: 0 | G43: -0.67 | H43: -2.785 | I43: 0 | J43: 0 | K43: 0
B44: Compra de ativo imobilizado operacional para locação | C44: Acquisition of operational property and equipment for leasing | D44: 0 | E44: 0 | F44: 0 | G44: -1488.121 | H44: -2071.209 | I44: 0 | J44: 0 | K44: 0
B45: Outros ativos e passivos circulantes e não circulantes | C45: Other current and non-current assets and liabilities | D45: 35.877 | E45: -111.86201 | F45: -129.333 | G45: -105.141 | H45: -60.673 | I45: -49.062 | J45: -1.342 | K45: 3.087
B46: Variações no capital circulante líquido operacional | C46: Changes in operating assets and liabilities | D46: =SUM(D35:D45) -> -2291.466 | E46: =SUM(E35:E45) -> -99.517134 | F46: =SUM(F35:F45) -> 92.878 | G46: =SUM(G35:G45) -> -2549.592 | H46: =SUM(H35:H45) -> -3364.739 | I46: =SUM(I35:I45) -> -574.461 | J46: =SUM(J35:J45) -> -275.76 | K46: =SUM(K35:K45) -> -494.881
...

Sheet ROIC_ROE
B4: Informações financeiras não auditadas referente aos segmentos de locação + indústria | C4: Unaudited financial information below refers to the leasing + industry segments
B5: (R$ milhões) | C5: (R$ million) | D5: Dec/2020 LTM | E5: Dec/2021 LTM | F5: Dec/2022 LTM | G5: Dec/2023 LTM | H5: Mar/2024 LTM | I5: Jun/2024 LTM** | J5: Sep/2024 LTM** | K5: Dec/2024 LTM** | L5: Mar/2025 LTM | M5: Jun/2025 LTM | N5: Sep/2025 LTM | O5: Dec/2025 LTM** | P5: Mar/2026 LTM | Q5: Jun/2026 LTM
B7: ROIC - VAMOS (Operações Continuadas) | C7: ROIC - VAMOS (Continuing Operations)
B8: EBIT | C8: EBIT | D8: ='DRE_Income Statement'!D47 -> 314.18349 | E8: ='DRE_Income Statement'!E47 -> 573.219 | F8: ='DRE_Income Statement'!F47 -> 1232.4337 | G8: ='DRE_Income Statement'!K47 -> 2029.0399 | H8: 2193.1997 | I8: 2393.8949 | J8: 2523.1335 | K8: ='DRE_Income Statement'!P47 -> 2645.3233 | L8: 2648.0316 | M8: 2585.031 | N8: 2538.8007 | O8: ='DRE_Income Statement'!U47 -> 2597.1328 | P8: 2609.9739 | Q8: 2646.6485
B9: Despesas financeiras líquidas | C9: Net financial expenses | D9: ='DRE_Income Statement'!D50 -> -103.895 | E9: ='DRE_Income Statement'!E50 -> -163.807 | F9: ='DRE_Income Statement'!F50 -> -759.03974 | G9: ='DRE_Income Statement'!K50 -> -1480.4262 | H9: -1537 | I9: -1525 | J9: -1545 | K9: ='DRE_Income Statement'!P50 -> -1620.4313 | L9: ='DRE_Income Statement'!Q50+SUM('DRE_Income Statement'!M50:O50) -> -1742.2217 | M9: ='DRE_Income Statement'!R50+'DRE_Income Statement'!Q50+'DRE_Income Statement'!O50+'DRE_Income Statement'!N50 -> -1884.6767 | N9: ='DRE_Income Statement'!S50+'DRE_Income Statement'!R50+'DRE_Income Statement'!Q50+'DRE_Income Statement'!O50 -> -2031.3444 | O9: ='DRE_Income Statement'!U50 -> -2178.547 | P9: -2226.7569 | Q9: ='DRE_Income Statement'!W50+'DRE_Income Statement'!V50+'DRE_Income Statement'!T50+'DRE_Income Statement'!S50 -> -2242.5786
B10: EBT | C10: EBT | D10: =D8+D9 -> 210.28849 | E10: =E8+E9 -> 409.412 | F10: =F8+F9 -> 473.39395 | G10: =G8+G9 -> 548.61372 | H10: =H8+H9 -> 656.19969 | I10: =I8+I9 -> 868.89485 | J10: =J8+J9 -> 978.13352 | K10: =K8+K9 -> 1024.8919 | ... Q10: =Q8+Q9 -> 404.06987
B11: Impostos | C11: Taxes | D11: -62.015 | E11: -126.594 | F11: -79.966071 | G11: -51.035 | H11: -91.120246 | I11: -162.07185 | J11: -224.90142 | K11: -245.65533 | L11: -216.92969 | M11: -160.90248 | N11: -102.22819 | O11: -99.663477 | P11: -85.48704 | Q11: -88.253773
B12: Alíquota efetiva | C12: Effective rate | D12: =D11/D10 -> -0.2949044 | E12: =E11/E10 -> -0.30920931 | F12: =F11/F10 -> -0.16892077 | G12: -0.093029404 | H12: -0.13876911 | I12: -0.18643019 | J12: -0.22997484 | K12: -0.2396902 | L12: -0.23948699 | M12: -0.22974441 | N12: -0.2014522 | O12: -0.23809632 | P12: -0.22307748 | Q12: -0.21841216
B13: NOPAT | C13: NOPAT | D13: =(D8+(D8*D12)) -> 221.5294 | E13: =(E8+(E8*E12)) -> 395.97435 | F13: =(F8+(F8*F12)) -> 1024.25 | G13: =(G8+(G8*G12)) -> 1840.2795 | H13: =(H8+(H8*H12)) -> 1888.8513 | I13: =(I8+(I8*I12)) -> 1947.6006 | J13: =(J8+(J8*J12)) -> 1942.8763 | K13: =(K8+(K8*K12)) -> 2011.2652 | ... Q13: =(Q8+(Q8*Q12)) -> 2068.5883
B14: Dívida líquida média | C14: Average net debt | D14: 1767.2195 | E14: 2180.9515 | F14: 4156.355 | G14: 7650.512 | H14: 8664.0915 | I14: 10015.173 | J14: 9913.131 | K14: 10489.158 | L14: 11014.944 | M14: 11666.91 | N14: 11504.847 | O14: 11706.53 | P14: 11908.837 | Q14: =AVERAGE(Endividamento_Indebtedness!T28,Endividamento_Indebtedness!P28) -> 11936.702
B15: Patrimônio líquido médio | C15: Average shareholders´ equity | D15: 131.4115 | E15: 1083.567 | F15: 2151.9885 | G15: 2269.9905 | H15: 2414.0665 | I15: 2292.5395 | J15: 2702.561 | K15: 2363.167 | L15: 2498.65 | M15: 2613.8755 | N15: 2728.6909 | O15: 2502.2247 | P15: 2546.4725 | Q15: =AVERAGE('BP_Balance Sheet'!T74,'BP_Balance Sheet'!P74) -> 2951.3485
B16: Capital investido médio | C16: Average invested capital | D16: 1898.631 | E16: 3264.5185 | F16: 6308.3435 | G16: 9920.5025 | H16: 11078.158 | I16: 12307.712 | J16: 12615.692 | K16: 12852.325 | L16: 13513.594 | M16: 14280.786 | N16: 14233.538 | O16: 14208.755 | P16: 14455.309 | Q16: =SUM(Q14:Q15) -> 14888.051
B17: ROIC | C17: ROIC | D17: =D13/D16 -> 0.11667849 | E17: =E13/E16 -> 0.1212964 | F17: =F13/F16 -> 0.16236434 | G17: =G13/G16 -> 0.18550265 | H17: =H13/H16 -> 0.17050229 | I17: =I13/I16 -> 0.15824229 | J17: =J13/J16 -> 0.15400473 | K17: =K13/K16 -> 0.15649038 | ... Q17: =Q13/Q16 -> 0.13894285
B20: ROE - VAMOS (Operações Continuadas) | C20: ROE- VAMOS (Continuing Operations)
B21: Lucro líquido | C21: Net Income | D21: 148.11081 | E21: 282.59083 | F21: 421.08592 | G21: 497.555 | H21: 591.09595 | I21: 737.6954 | J21: 796.58101 | K21: 779.23147 | L21: 688.88022 | M21: 539.45181 | N21: 405.22813 | O21: 318.92123 | P21: 297.73269 | Q21: =SUM('DRE_Income Statement'!W59,'DRE_Income Statement'!V59,'DRE_Income Statement'!T59,'DRE_Income Statement'!S59) -> 315.81609
B22: Patrimônio líquido médio* | C22: Average shareholders´ equity | D22: 131.4115 | E22: 1083.567 | F22: 2151.9885 | G22: 2269.9905 | H22: 2414.0665 | I22: 2292.5395 | J22: 2702.561 | K22: 2363.167 | L22: 2498.65 | M22: 2613.8755 | N22: 2728.6909 | O22: 2502.2247 | P22: 2546.4725 | Q22: =Q15 -> 2951.3485
B23: ROE | C23: ROE | D23: =D21/D22 -> 1.1270765 | E23: =E21/E22 -> 0.26079682 | F23: =F21/F22 -> 0.19567294 | G23: =G21/G22 -> 0.21918814 | H23: =H21/H22 -> 0.24485487 | I23: =I21/I22 -> 0.32178089 | J23: =J21/J22 -> 0.29475043 | K23: =K21/K22 -> 0.32974033 | ... Q23: =Q21/Q22 -> 0.10700739
B26: *Considera saldo anterior mais saldo atual dividido por 2. | C26: *Considers previous balance plus current balance divided by 2.
B27: ** Considera o resultado ajustado excluindo os efeitos extraordinários/ não recorrentes | C27: ** Considers the adjusted result excluding extraordinary/non-recurring effects
B29: LTM (Last Twelve Months) significa últimos doze meses findos nos respectivos períodos. | C29: LTM (Last Twelve Months) means the last twelve months ending in the respective periods.

Sheet Cronograma dívida_Debt Schedule
B5: Cronograma de amortização de dívidas - (R$ milhões)
B7: Dívida (30/06/2026) | C7: Emissão | D7: Vencimento | E7: Estrutura | F7: 2026 | G7: 2027 | H7: 2028 | I7: 2029 | J7: 2030 | K7: 2031 | L7: >2032 | M7: Total
B8: Finame | C8: 44816 | D8: 47041 | E8: SELIC + 1,73% | F8: 49.790527 | G8: 100.34666 | H8: 69.00836 | I8: 0 | J8: 0 | K8: 0 | L8: 0 | M8: =SUM(F8:L8) -> 219.14555
B9: Finame | C9: 44991 | D9: 47284 | E9: IPCA + 6,65% | F9: 281.49863 | G9: 888.41266 | H9: 854.31908 | I9: 295.92946 | J9: 19.105158 | K9: 0 | L9: 0 | M9: =SUM(F9:L9) -> 2339.265
B10: 2ª Debênture | C10: 20/08/2019 | D10: 46254 | E10: CDI + 1,81% | F10: 64.84083 | G10: 0 | H10: 0 | I10: 0 | J10: 0 | K10: 0 | L10: 0 | M10: =SUM(F10:L10) -> 64.84083
B11: 3ª Debênture | C11: 44385 | D11: 48015 | E11: SWAP 131,75% CDI | CDI+2,53% | IPCA+6,36% | F11: 0 | G11: 103.9299 | H11: 103.93005 | I11: 384.09814 | J11: 280.16851 | K11: 280.16851 | L11: 0 | M11: =SUM(F11:L11) -> 1152.2951
B12: 4ª Debênture | C12: 44512 | D12: 48136 | E12: SWAP 127,50% | CDI+2,60% | IPCA+7,68% | F12: 308.79815 | G12: 308.79842 | H12: 294.45742 | I12: 371.34843 | J12: 371.34893 | K12: 333.45149 | L12: 0 | M12: =SUM(F12:L12) -> 1988.2029
B13: 7ª Debênture | C13: 45093 | D13: 46919 | E13: CDI + 2,17% | F13: 0 | G13: 0 | H13: 8.304 | I13: 0 | J13: 0 | K13: 0 | L13: 0 | M13: =SUM(F13:L13) -> 8.304
B14: 9ª Debênture | C14: 45288 | D14: 47107 | E14: CDI + 2,35% | F14: 0 | G14: 125 | H14: 125 | I14: 0 | J14: 0 | K14: 0 | L14: 0 | M14: =SUM(F14:L14) -> 250
B15: 10ª Debênture | C15: 45345 | D15: 47170 | E15: CDI + 2,35% | F15: 0 | G15: 0 | H15: 250 | I15: 250 | J15: 0 | K15: 0 | L15: 0 | M15: =SUM(F15:L15) -> 500
B16: 11ª Debênture | C16: 45485 | D16: 47294 | E16: CDI + 2,35% | F16: 0 | G16: 0 | H16: 351.75 | I16: 351.75 | J16: 0 | K16: 0 | L16: 0 | M16: =SUM(F16:L16) -> 703.5
B17: 13ª Debênture | C17: 45932 | D17: 47746 | E17: CDI+2,25% | F17: 0 | G17: 0 | H17: 0 | I17: 0 | J17: 600 | K17: 0 | L17: 0 | M17: =SUM(F17:L17) -> 600
B18: 14° Debenture | C18: 46006 | D18: 48233 | E18: SWAP Pré 15,72% l CDI + 3,66% | F18: 0 | G18: 0 | H18: 0 | I18: 0 | J18: 0 | K18: 0 | L18: 0 | M18: =SUM(F18:L18) -> 0
B19: 15ª Debênture | C19: 46104 | D19: 48111 | E19: CDI + 2,17% | F19: 0 | G19: 0 | H19: 0 | I19: 0 | J19: 250 | K19: 250 | L19: 0 | M19: =SUM(F19:L19) -> 500
B20: CRA 2 | C20: 43825 | D20: 46342 | E20: SWAP 133,80% CDI | Pré 8,0% | F20: 18.76371 | G20: 0 | H20: 0 | I20: 0 | J20: 0 | K20: 0 | L20: 0 | M20: =SUM(F20:L20) -> 18.76371
B21: CRA 3 | C21: 43998 | D21: 46553 | E21: SWAP 165,00% CDI | IPCA+5,70% | F21: 0 | G21: 238.6496 | H21: 0 | I21: 0 | J21: 0 | K21: 0 | L21: 0 | M21: =SUM(F21:L21) -> 238.6496
B22: CRA 4 | C22: 44161 | D22: 47805 | E22: SWAP 133,60% CDI | IPCA+5,73% | F22: 0 | G22: 0 | H22: 186.99956 | I22: 186.99984 | J22: 186.99984 | K22: 0 | L22: 0 | M22: =SUM(F22:L22) -> 560.99923
... B31: Bond | C31: 45932 | D31: 47874 | E31: SWAP CDI+ 3,68 l USD+9,20% | F31: 0 | G31: 0 | H31: 0 | I31: 0 | J31: 0 | K31: 1551.51 | L31: 0 | M31: =SUM(F31:L31) -> 1551.51
B32: Juros líquidos incorridos, custos de captação e swap | M32: 39.912721
B33: Caixa e equivalentes de caixa | M33: =Endividamento_Indebtedness!T26 -> -4407.007
B34: Dívida Líquida | F34: =SUM(F8:F31) -> 734.84634 | G34: =SUM(G8:G31) -> 1870.9133 | H34: =SUM(H8:H31) -> 4266.7066 | I34: =SUM(I8:I31) -> 2160.3781 | J34: =SUM(J8:J31) -> 2811.0034 | K34: =SUM(K8:K31) -> 3528.9644 | L34: =SUM(L8:L31) -> 555.34422 | M34: =SUM(M8:M33) -> 11561.062
B37: Debt amortization schedule - (R$ million)
B39: Debt (06/30/2026) | C39: Issuance | D39: Due date | E39: Structure | F39: 2026 | G39: 2027 | H39: 2028 | I39: 2029 | J39: 2030 | K39: 2031 | L39: >2032 | M39: Total
B40: Finame | C40: 44904 | D40: 10/15/2028 | E40: =E8 -> SELIC + 1,73% | F40: =F8 -> 49.790527 | G40: =G8 -> 100.34666 | H40: =H8 -> 69.00836 | I40: =I8 -> 0 | J40: =J8 -> 0 | K40: =K8 -> 0 | L40: =L8 -> 0 | M40: =SUM(F40:L40) -> 219.14555
B41: Finame | C41: 45080 | D41: 06/15/2029 | E41: =E9 -> IPCA + 6,65% | F41: =F9 -> 281.49863 | G41: =G9 -> 888.41266 | H41: =H9 -> 854.31908 | I41: =I9 -> 295.92946 | J41: =J9 -> 19.105158 | K41: =K9 -> 0 | L41: =L9 -> 0 | M41: =SUM(F41:L41) -> 2339.265
B42: 2nd Debenture | C42: 08/20/2019 | D42: 08/20/2026 | E42: =E10 -> CDI + 1,81% | F42: =F10 -> 64.84083 | G42: =G10 -> 0 | H42: =H10 -> 0 | I42: =I10 -> 0 | J42: =J10 -> 0 | K42: =K10 -> 0 | L42: =L10 -> 0 | M42: =SUM(F42:L42) -> 64.84083
B43: 3rd Debenture | C43: 44415 | D43: 06/16/2031 | E43: =E11 -> SWAP 131,75% CDI | CDI+2,53% | IPCA+6,36% | F43: =F11 -> 0 | G43: =G11 -> 103.9299 | H43: =H11 -> 103.93005 | I43: =I11 -> 384.09814 | J43: =J11 -> 280.16851 | K43: =K11 -> 280.16851 | L43: =L11 -> 0 | M43: =SUM(F43:L43) -> 1152.2951
B44: 4th Debenture | C44: 10/15/2021 | D44: 10/15/2031 | E44: =E12 -> SWAP 127,50% | CDI+2,60% | IPCA+7,68% | F44: =F12 -> 308.79815 | G44: =G12 -> 308.79842 | H44: =H12 -> 294.45742 | I44: =I12 -> 371.34843 | J44: =J12 -> 371.34893 | K44: =K12 -> 333.45149 | L44: =L12 -> 0 | M44: =SUM(F44:L44) -> 1988.2029
B45: 7th Debenture | C45: 06/16/2023 | D45: 06/15/2028 | E45: =E13 -> CDI + 2,17% | F45: =F13 -> 0 | G45: =G13 -> 0 | H45: =H13 -> 8.304 | I45: =I13 -> 0 | J45: =J13 -> 0 | K45: =K13 -> 0 | L45: =L13 -> 0 | M45: =SUM(F45:L45) -> 8.304
B46: 9th Debenture | C46: 12/20/2023 | D46: 12/20/2028 | E46: =E14 -> CDI + 2,35% | F46: =F14 -> 0 | G46: =G14 -> 125 | H46: =H14 -> 125 | I46: =I14 -> 0 | J46: =J14 -> 0 | K46: =K14 -> 0 | L46: =L14 -> 0 | M46: =SUM(F46:L46) -> 250
B47: 10th Debenture | C47: 02/23/2024 | D47: 02/21/2029 | E47: =E15 -> CDI + 2,35% | F47: =F15 -> 0 | G47: =G15 -> 0 | H47: =H15 -> 250 | I47: =I15 -> 250 | J47: =J15 -> 0 | K47: =K15 -> 0 | L47: =L15 -> 0 | M47: =SUM(F47:L47) -> 500
B48: 11th Debenture | C48: 45633 | D48: 06/25/2029 | E48: =E16 -> CDI + 2,35% | F48: =F16 -> 0 | G48: =G16 -> 0 | H48: =H16 -> 351.75 | I48: =I16 -> 351.75 | J48: =J16 -> 0 | K48: =K16 -> 0 | L48: =L16 -> 0 | M48: =SUM(F48:L48) -> 703.5
B49: 13th Debenture | C49: 45698 | D49: 09/20/2030 | E49: =E17 -> CDI+2,25% | F49: =F17 -> 0 | G49: =G17 -> 0 | H49: =H17 -> 0 | I49: =I17 -> 0 | J49: =J17 -> 600 | K49: =K17 -> 0 | L49: =L17 -> 0 | M49: =SUM(F49:L49) -> 600
B50: 14th Debenture | C50: 12/15/2025 | D50: 01/20/2032 | E50: =E18 -> SWAP Pré 15,72% l CDI + 3,66% | F50: =F18 -> 0 | G50: =G18 -> 0 | H50: =H18 -> 0 | I50: =I18 -> 0 | J50: =J18 -> 0 | K50: =K18 -> 0 | L50: =L18 -> 0 | M50: =SUM(F50:L50) -> 0
B51: 15th Debenture | C51: 03/23/2026 | D51: 09/20/2031 | E51: =E19 -> CDI + 2,17% | F51: =F19 -> 0 | G51: =G19 -> 0 | H51: =H19 -> 0 | I51: =I19 -> 0 | J51: =J19 -> 250 | K51: =K19 -> 250 | L51: =L19 -> 0 | M51: =SUM(F51:L51) -> 500
B52: CRA 2 | C52: 11/15/2019 | D52: 11/13/2026 | E52: =E20 -> SWAP 133,80% CDI | Pré 8,0% | F52: =F20 -> 18.76371 | G52: =G20 -> 0 | H52: =H20 -> 0 | I52: =I20 -> 0 | J52: =J20 -> 0 | K52: =K20 -> 0 | L52: =L20 -> 0 | M52: =SUM(F52:L52) -> 18.76371
B53: CRA 3 | C53: 44171 | D53: 06/14/2027 | E53: =E21 -> SWAP 165,00% CDI | IPCA+5,70% | F53: =F21 -> 0 | G53: =G21 -> 238.6496 | H53: =H21 -> 0 | I53: =I21 -> 0 | J53: =J21 -> 0 | K53: =K21 -> 0 | L53: =L21 -> 0 | M53: =SUM(F53:L53) -> 238.6496
B54: CRA 4 | C54: 11/26/2020 | D54: 11/18/2030 | E54: =E22 -> SWAP 133,60% CDI | IPCA+5,73% | F54: =F22 -> 0 | G54: =G22 -> 0 | H54: =H22 -> 186.99956 | I54: =I22 -> 186.99984 | J54: =J22 -> 186.99984 | K54: =K22 -> 0 | L54: =L22 -> 0 | M54: =SUM(F54:L54) -> 560.99923
B55: CRA 5 | C55: 44598 | D55: 05/15/2037 | E55: =E23 -> SWAP 112,65% CDI | IPCA+6,68% | F55: =F23 -> 0 | G55: =G23 -> 0 | H55: =H23 -> 0 | I55: =I23 -> 0 | J55: =J23 -> 121.01444 | K55: =K23 -> 121.01462 | L55: =L23 -> 475.34932 | M55: =SUM(F55:L55) -> 717.37837
B56: CRA 6 | C56: 44987 | D56: 01/14/2030 | E56: =E24 -> CDI + 1,05% | IPCA + 7,16% | F56: =F24 -> 0 | G56: =G24 -> 0 | H56: =H24 -> 233.535 | I56: =I24 -> 0 | J56: =J24 -> 595.67596 | K56: =K24 -> 0 | L56: =L24 -> 0 | M56: =SUM(F56:L56) -> 829.21096
...

Sheet Endividamento_Indebtedness
B4: Informações financeiras não auditadas, exceto dez/2024. | C4: Unaudited financial information, except for dec/2024.
B5: Endividamento - VAMOS (Operações Continuadas) - R$ milhões | C5: Indebtedness - VAMOS (Continuing Operations) - R$ million | D5: Dec/2020 | E5: Dec/2021 | F5: Dec/2022 | G5: Mar/2023 | H5: Jun/2023 | I5: Sep/2023 | J5: Dec/2023 | K5: Mar/2024 | L5: Jun/2024 | M5: Sep/2024 | N5: Dec/2024 | O5: Mar/2025 | P5: Jun/2025 | Q5: Sep/2025 | R5: Dec/2025 | S5: Mar/2026 | T5: Jun/2026
B8: Dívida Bruta | C8: Gross Debt
B9: Empréstimos, financiamentos e debêntures CP | C9: Loans, financing and debentures ST | D9: ='BP_Balance Sheet'!D46 -> 295.853 | E9: ='BP_Balance Sheet'!E46 -> 203.964 | F9: ='BP_Balance Sheet'!F46 -> 541.786 | G9: ='BP_Balance Sheet'!G46 -> 694.298 | H9: ='BP_Balance Sheet'!H46 -> 633.911 | I9: ='BP_Balance Sheet'!I46 -> 940.857 | J9: ='BP_Balance Sheet'!J46 -> 846.806 | K9: ='BP_Balance Sheet'!K46 -> 1453.021 | ... T9: ='BP_Balance Sheet'!T46 -> 1807.861
B10: Arrendamento financeiro a pagar CP | C10: Leasing payable ST | D10: ='BP_Balance Sheet'!D48 -> 5.197 | E10: 0 | F10: 0 | G10: 0 | H10: 0 | I10: 0 | J10: 0 | K10: 0 | L10: 0 | M10: 0 | N10: 0 | O10: 0 | P10: 0 | Q10: 0 | R10: 0 | S10: 0 | T10: 0
B11: Risco sacado a pagar | C11: Confirming payable | D11: ='BP_Balance Sheet'!D45 -> 0 | E11: ='BP_Balance Sheet'!E45 -> 0 | F11: ='BP_Balance Sheet'!F45 -> 31.319 | G11: ='BP_Balance Sheet'!G45 -> 26.422 | H11: ='BP_Balance Sheet'!H45 -> 37.503 | I11: ='BP_Balance Sheet'!I45 -> 65.204 | J11: ='BP_Balance Sheet'!J45 -> 53.289 | K11: ='BP_Balance Sheet'!K45 -> 5.24 | ... T11: ='BP_Balance Sheet'!T45 -> 0
B12: Fornecedores CP | D12: ='BP_Balance Sheet'!D44 -> 440.65201 | E12: ='BP_Balance Sheet'!E44 -> 522.625 | F12: ='BP_Balance Sheet'!F44 -> 2405.7945 | G12: ='BP_Balance Sheet'!G44 -> 1153.721 | H12: ='BP_Balance Sheet'!H44 -> 229.987 | I12: ='BP_Balance Sheet'!I44 -> 302.3 | J12: ='BP_Balance Sheet'!J44 -> 523.586 | K12: ='BP_Balance Sheet'!K44 -> 1004.13 | ... T12: ='BP_Balance Sheet'!T44 -> 889.89
B13: Fornecedores LP | D13: ='BP_Balance Sheet'!D62 -> 0 | E13: ='BP_Balance Sheet'!E62 -> 0 | F13: ='BP_Balance Sheet'!F62 -> 0 | G13: ='BP_Balance Sheet'!G62 -> 0 | H13: ='BP_Balance Sheet'!H62 -> 0 | I13: ='BP_Balance Sheet'!I62 -> 0 | J13: ='BP_Balance Sheet'!J62 -> 0 | K13: ='BP_Balance Sheet'!K62 -> 0 | ... T13: ='BP_Balance Sheet'!T62 -> 39.993
B14: Empréstimos, financiamentos e debêntures LP | C14: Loans, borrowings and debentures LT | D14: ='BP_Balance Sheet'!D63 -> 2462.406 | E14: ='BP_Balance Sheet'!E63 -> 5803.464 | F14: ='BP_Balance Sheet'!F63 -> 6528.824 | G14: ='BP_Balance Sheet'!G63 -> 8268.15 | H14: ='BP_Balance Sheet'!H63 -> 9436.858 | I14: ='BP_Balance Sheet'!I63 -> 9028.566 | J14: ='BP_Balance Sheet'!J63 -> 10381.596 | K14: ='BP_Balance Sheet'!K63 -> 10687.81 | ... T14: ='BP_Balance Sheet'!T63 -> 13785.515
B15: Arrendamento financeiro a pagar LP | C15: Leasing payable LT | D15: ='BP_Balance Sheet'!D65 -> 0.078 | E15: ='BP_Balance Sheet'!E65 -> 0 | F15: ='BP_Balance Sheet'!F65 -> 0 | G15: ='BP_Balance Sheet'!G65 -> 0 | H15: 0 | I15: 0 | J15: 0 | K15: 0 | L15: 0 | M15: 0 | N15: 0 | O15: 0 | P15: 0 | Q15: 0 | R15: 0 | S15: 0 | T15: 0
B16: Instrumentos financeiros derivativos - Passivo CP | C16: Derivative financial instruments - Liabilities ST | D16: ='BP_Balance Sheet'!D50 -> 0 | E16: ='BP_Balance Sheet'!E50 -> 0 | F16: ='BP_Balance Sheet'!F50 -> 0 | G16: ='BP_Balance Sheet'!G50 -> 0 | H16: ='BP_Balance Sheet'!H50 -> 0 | I16: ='BP_Balance Sheet'!I50 -> 0 | J16: ='BP_Balance Sheet'!J50 -> 214.27 | K16: ='BP_Balance Sheet'!K50 -> 240.492 | ... T16: ='BP_Balance Sheet'!T50 -> 281.647
B17: Instrumentos financeiros derivativos - Passivo LP | C17: Derivative financial instruments - Liabilities LT | D17: ='BP_Balance Sheet'!D69 -> 0 | E17: ='BP_Balance Sheet'!E69 -> 135.509 | F17: ='BP_Balance Sheet'!F69 -> 278.976 | G17: ='BP_Balance Sheet'!G69 -> 224.934 | H17: ='BP_Balance Sheet'!H69 -> 176.022 | I17: ='BP_Balance Sheet'!I69 -> 133.257 | J17: ='BP_Balance Sheet'!J69 -> 69.545 | K17: ='BP_Balance Sheet'!K69 -> 12.268 | ... T17: ='BP_Balance Sheet'!T69 -> 282.368
B18: Instrumentos financeiros derivativos - Ativo CP | C18: Derivative financial instruments - Assets ST | D18: =-'BP_Balance Sheet'!D11 -> 0 | E18: =-'BP_Balance Sheet'!E11 -> 0 | F18: =-'BP_Balance Sheet'!F11 -> 0 | G18: =-'BP_Balance Sheet'!G11 -> 0 | H18: =-'BP_Balance Sheet'!H11 -> 0 | I18: =-'BP_Balance Sheet'!I11 -> -2.694 | J18: =-'BP_Balance Sheet'!J11 -> -2.769 | K18: =-'BP_Balance Sheet'!K11 -> 0 | ... T18: =-'BP_Balance Sheet'!T11 -> -39.119
B19: Instrumentos financeiros derivativos - Ativo LP | C19: Derivative financial instruments - Assets LT | D19: =-'BP_Balance Sheet'!D25 -> -98.5 | E19: =-'BP_Balance Sheet'!E25 -> -9.371 | F19: =-'BP_Balance Sheet'!F25 -> -12.871 | G19: =-'BP_Balance Sheet'!G25 -> -11.747 | H19: =-'BP_Balance Sheet'!H25 -> -252.724 | I19: =-'BP_Balance Sheet'!I25 -> -86.148 | J19: =-'BP_Balance Sheet'!J25 -> -506.091 | K19: =-'BP_Balance Sheet'!K25 -> -431.338 | ... T19: =-'BP_Balance Sheet'!T25 -> -150.204
B20: Dívida Bruta Total | C20: Total Gross Debt | D20: =SUM(D9:D11,D14:D19) -> 2665.034 | E20: =SUM(E9:E11,E14:E19) -> 6133.566 | F20: =SUM(F9:F11,F14:F19) -> 7368.034 | G20: =SUM(G9:G11,G14:G19) -> 9202.057 | H20: =SUM(H9:H11,H14:H19) -> 10031.57 | I20: =SUM(I9:I11,I14:I19) -> 10079.042 | J20: =SUM(J9:J11,J14:J19) -> 11056.646 | K20: =SUM(K9:K11,K14:K19) -> 11967.493 | ... T20: =SUM(T9:T11,T14:T19) -> 15968.068
B22: Caixa | C22: Liquidity
B23: Caixas e equivalentes de caixa | C23: Cash and cash equivalents | D23: =-'BP_Balance Sheet'!D9 -> -13.43 | E23: =-'BP_Balance Sheet'!E9 -> -128.178 | F23: =-'BP_Balance Sheet'!F9 -> -60.347 | G23: =-'BP_Balance Sheet'!G9 -> -1219.149 | H23: =-'BP_Balance Sheet'!H9 -> -141.116 | I23: =-'BP_Balance Sheet'!I9 -> -316.311 | J23: =-'BP_Balance Sheet'!J9 -> -73.517 | K23: =-'BP_Balance Sheet'!K9 -> -254.746 | ... S23: =-'BP_Balance Sheet'!S9 -> -174.845 | T23: -185.221
B24: Títulos e valores mobiliários CP | C24: Securities ST | D24: =-'BP_Balance Sheet'!D10 -> -668.444 | E24: =-'BP_Balance Sheet'!E10 -> -3613.327 | F24: =-'BP_Balance Sheet'!F10 -> -1361.474 | G24: =-'BP_Balance Sheet'!G10 -> -847.69 | H24: =-'BP_Balance Sheet'!H10 -> -862.817 | I24: =-'BP_Balance Sheet'!I10 -> -973.218 | J24: =-'BP_Balance Sheet'!J10 -> -1599.3452 | K24: =-'BP_Balance Sheet'!K10 -> -1490.667 | ... S24: =-'BP_Balance Sheet'!S10 -> -4620.097 | T24: -4221.786
