Workbook

Sheet CAPA

Sheet KPIs Operacionais
B1: #VALUE!
C4: Indicadores Operacionais | D4: 1T17 | E4: 2T17 | F4: 3T17 | G4: 4T17 | H4: 1T18 | I4: 2T18 | J4: 3T18 | K4: 4T18 | L4: 1T19 | M4: 2T19 | N4: 3T19 | O4: 4T19 | P4: 1T20 | Q4: 2T20 | R4: 3T20 | S4: 4T20 | T4: 1T21 | U4: 2T21 | V4: 3T21 | W4: 4T21 | X4: 1T22 | Y4: 2T22 | Z4: 3T22 | AA4: 4T22 | AB4: 1T23 | AC4: 2T23 | AD4: 3T23 | AE4: 4T23 | AF4: 1T24 | AG4: 2T24 | AH4: 3T24 | AI4: 4T24 | AJ4: 1T25 | AK4: 2T25 | AL4: 3T25 | AM4: 4T25 | AN4: 1T26 | AO4: 2T26 | AQ4: 2017 | AR4: =AQ4+1 -> 2018 | AS4: =AR4+1 -> 2019 | AT4: =AS4+1 -> 2020 | AU4: =AT4+1 -> 2021 | AV4: =AU4+1 -> 2022 | AW4: =AV4+1 -> 2023 | AX4: =AW4+1 -> 2024 | AY4: =AX4+1 -> 2025 | AZ4: 2026 (YTD)
C6: Portfolio de lojas (#)
C7: Número de lojas - início do período | D7: 952 | E7: 977 | F7: 993 | G7: 1023 | H7: 1082 | I7: 1115 | J7: 1141 | K7: 1150 | L7: 1165 | M7: 1177 | N7: 1164 | O7: 1149 | P7: 1122 | Q7: 1124 | R7: 1112 | S7: 1105 | T7: 1105 | U7: 1101 | V7: 1101 | W7: 1126 | X7: 1165 | Y7: 1169 | Z7: 1193 | AA7: 1592 | AB7: 1646 | AC7: 1647 | AD7: 1652 | AE7: 1648 | AF7: 1632 | AG7: 1655 | AH7: 1653 | AI7: 1649 | AJ7: 1649 | AK7: 1656 | AL7: 1657 | AM7: 1667 | AN7: 1689 | AO7: =AN11 -> 1688 | AQ7: 952 | AR7: 1082 | AS7: 1165 | AT7: 1122 | AU7: 1105 | AV7: 1165 | AW7: 1646 | AX7: 1632 | AY7: 1649 | AZ7: =AY11 -> 1689
C8: Aberturas | D8: 39 | E8: 26 | F8: 40 | G8: 66 | H8: 37 | I8: 37 | J8: 34 | K8: 33 | L8: 12 | M8: 7 | N8: 3 | O8: 6 | P8: 2 | Q8: 0 | R8: 0 | S8: 0 | T8: 1 | U8: 6 | V8: 25 | W8: 48 | X8: 10 | Y8: 28 | Z8: 19 | AA8: 61 | AB8: 4 | AC8: 16 | AD8: 0 | AE8: 0 | AF8: 29 | AG8: 1 | AH8: 0 | AI8: 0 | AJ8: 7 | AK8: 9 | AL8: 11 | AM8: 23 | AN8: 1 | AO8: 8 | AQ8: 171 | AR8: 141 | AS8: 28 | AT8: 2 | AU8: 80 | AV8: 118 | AW8: 20 | AX8: 30 | AY8: 50 | AZ8: =SUM(AN8:AO8) -> 9
C9: Fechamentos | D9: -14 | E9: -10 | F9: -10 | G9: -7 | H9: -4 | I9: -11 | J9: -25 | K9: -18 | L9: 0 | M9: -20 | N9: -18 | O9: -33 | P9: 0 | Q9: -12 | R9: -7 | S9: 0 | T9: -5 | U9: -6 | V9: 0 | W9: -9 | X9: -6 | Y9: -4 | Z9: -19 | AA9: -7 | AB9: -3 | AC9: -11 | AD9: -4 | AE9: -16 | AF9: -6 | AG9: -3 | AH9: -4 | AI9: 0 | AJ9: 0 | AK9: -8 | AL9: -1 | AM9: -1 | AN9: -2 | AO9: -1 | AQ9: -41 | AR9: -58 | AS9: -71 | AT9: -19 | AU9: -20 | AV9: -36 | AW9: -34 | AX9: -13 | AY9: -10 | AZ9: =SUM(AN9:AO9) -> -3
C10: Aquisições | D10: 0 | E10: 0 | F10: 0 | G10: 0 | H10: 0 | I10: 0 | J10: 0 | K10: 0 | L10: 0 | M10: 0 | N10: 0 | O10: 0 | P10: 0 | Q10: 0 | R10: 0 | S10: 0 | T10: 0 | U10: 0 | V10: 0 | W10: 0 | X10: 0 | Y10: 0 | Z10: 399 | AA10: 0 | AB10: 0 | AC10: 0 | AD10: 0 | AE10: 0 | AF10: 0 | AG10: 0 | AH10: 0 | AI10: 0 | AJ10: 0 | AK10: 0 | AL10: 0 | AM10: 0 | AN10: 0 | AO10: 0 | AQ10: 0 | AR10: 0 | AS10: 0 | AT10: 0 | AU10: 0 | AV10: 399 | AW10: 0 | AX10: 0 | AY10: 0 | AZ10: =SUM(AN10:AO10) -> 0
C11: Número de lojas - fim do período | D11: 977 | E11: 993 | F11: 1023 | G11: 1082 | H11: 1115 | I11: 1141 | J11: 1150 | K11: 1165 | L11: 1177 | M11: 1164 | N11: 1149 | O11: 1122 | P11: 1124 | Q11: 1112 | R11: 1105 | S11: 1105 | T11: 1101 | U11: 1101 | V11: 1126 | W11: 1165 | X11: 1169 | Y11: 1193 | Z11: 1592 | AA11: 1646 | AB11: 1647 | AC11: 1652 | AD11: 1648 | AE11: 1632 | AF11: 1655 | AG11: 1653 | AH11: 1649 | AI11: 1649 | AJ11: 1656 | AK11: 1657 | AL11: 1667 | AM11: 1689 | AN11: 1688 | AO11: =SUM(AO7:AO10) -> 1695 | AQ11: 1082 | AR11: 1165 | AS11: 1122 | AT11: 1105 | AU11: 1165 | AV11: 1646 | AW11: 1632 | AX11: 1649 | AY11: 1689 | AZ11: =AO11 -> 1695
C13: Distribuição Geográfica (% total de lojas)
C14: Norte | D14: 0.093142272 | E14: 0.095669688 | F14: 0.098729228 | G14: 0.099815157 | H14: 0.09955157 | I14: 0.10341805 | J14: 0.10434783 | K14: 0.10386266 | L14: 0.10280374 | M14: 0.10395189 | N14: 0.10356832 | O14: 0.10071301 | P14: 0.10053381 | Q14: 0.10071942 | R14: 0.10135747 | S14: 0.10135747 | T14: 0.099909173 | U14: 0.099909173 | V14: 0.09946714 | W14: 0.098712446 | X14: 0.098374679 | Y14: 0.097233864 | Z14: 0.15515075 | AA14: 0.15188335 | AB14: 0.15118397 | AC14: 0.15012107 | AD14: 0.14927184 | AE14: 0.1495098 | AF14: 0.14691657 | AG14: 0.14700544 | AH14: 0.14736204 | AI14: 0.14736204 | AJ14: 0.147343 | AK14: 0.14785757 | AL14: 0.14877025 | AM14: 0.15038484 | AN14: 0.14988152 | AO14: 0.14985251 | AQ14: 0.099815157 | AR14: 0.10386266 | AS14: 0.10071301 | AT14: 0.10135747 | AU14: 0.098712446 | AV14: 0.15188335 | AW14: 0.1495098 | AX14: 0.14736204 | AY14: 0.15038484 | AZ14: =AO14 -> 0.14985251
C15: Nordeste | D15: 0.56499488 | E15: 0.56495468 | F15: 0.5659824 | G15: 0.56469501 | H15: 0.55964126 | I15: 0.55390009 | J15: 0.56695652 | K15: 0.56909871 | L15: 0.57009346 | M15: 0.57731959 | N15: 0.58398607 | O15: 0.59536542 | P15: 0.59430605 | Q15: 0.59982014 | R15: 0.60090498 | S15: 0.60090498 | T15: 0.60399637 | U15: 0.60762943 | V15: 0.61456483 | W15: 0.61802575 | X15: 0.6176219 | Y15: 0.620285 | Z15: 0.60678392 | AA15: 0.60874848 | AB15: 0.61020036 | AC15: 0.61380145 | AD15: 0.61468447 | AE15: 0.61642157 | AF15: 0.61789601 | AG15: 0.61826981 | AH15: 0.61795027 | AI15: 0.61673742 | AJ15: 0.61775362 | AK15: 0.61677731 | AL15: 0.61727654 | AM15: 0.61574896 | AN15: 0.61552133 | AO15: 0.61533923 | AQ15: 0.56469501 | AR15: 0.56909871 | AS15: 0.59536542 | AT15: 0.60090498 | AU15: 0.61802575 | AV15: 0.60874848 | AW15: 0.61642157 | AX15: 0.61673742 | AY15: 0.61574896 | AZ15: =AO15 -> 0.61533923
C16: Centro-Oeste | D16: 0.094165814 | E16: 0.09164149 | F16: 0.092864125 | G16: 0.091497227 | H16: 0.088789238 | I16: 0.086765995 | J16: 0.084347826 | K16: 0.084120172 | L16: 0.083262532 | M16: 0.08161512 | N16: 0.082680592 | O16: 0.083778966 | P16: 0.083629893 | Q16: 0.084532374 | R16: 0.084162896 | S16: 0.084162896 | T16: 0.0835604 | U16: 0.081743869 | V16: 0.079928952 | W16: 0.082403433 | X16: 0.082976903 | Y16: 0.082984074 | Z16: 0.061557789 | AA16: 0.066221142 | AB16: 0.066180935 | AC16: 0.066585956 | AD16: 0.066747573 | AE16: 0.066789216 | AF16: 0.068319226 | AG16: 0.068360557 | AH16: 0.06852638 | AI16: 0.067919951 | AJ16: 0.06763285 | AK16: 0.068799034 | AL16: 0.068386323 | AM16: 0.071640024 | AN16: 0.072274882 | AO16: 0.073156342 | AQ16: 0.091497227 | AR16: 0.084120172 | AS16: 0.083778966 | AT16: 0.084162896 | AU16: 0.082403433 | AV16: 0.066221142 | AW16: 0.066789216 | AX16: 0.067919951 | AY16: 0.071640024 | AZ16: =AO16 -> 0.073156342
C17: Sudeste | D17: 0.19651996 | E17: 0.19738167 | F17: 0.19354839 | G17: 0.19685767 | H17: 0.20358744 | I17: 0.20858896 | J17: 0.20434783 | K17: 0.20343348 | L17: 0.20475786 | M17: 0.1967354 | N17: 0.19060052 | O17: 0.18181818 | P17: 0.18327402 | Q17: 0.17625899 | R17: 0.17556561 | S17: 0.17556561 | T17: 0.17438692 | U17: 0.17257039 | V17: 0.1687389 | W17: 0.16566524 | X17: 0.16595381 | Y17: 0.16512992 | Z17: 0.15075377 | AA17: 0.14823815 | AB17: 0.14754098 | AC17: 0.14467312 | AD17: 0.14441748 | AE17: 0.14215686 | AF17: 0.14147521 | AG17: 0.14095584 | AH17: 0.14069133 | AI17: 0.14190418 | AJ17: 0.14130435 | AK17: 0.14061557 | AL17: 0.13977205 | AM17: 0.13735938 | AN17: 0.13744076 | AO17: 0.13687316 | AQ17: 0.19685767 | AR17: 0.20343348 | AS17: 0.18181818 | AT17: 0.17556561 | AU17: 0.16566524 | AV17: 0.14823815 | AW17: 0.14215686 | AX17: 0.14190418 | AY17: 0.13735938 | AZ17: =AO17 -> 0.13687316
C18: Sul | D18: 0.051177073 | E18: 0.050352467 | F18: 0.048875855 | G18: 0.047134935 | H18: 0.048430493 | I18: 0.047326906 | J18: 0.04 | K18: 0.039484979 | L18: 0.039082413 | M18: 0.040378007 | N18: 0.039164491 | O18: 0.038324421 | P18: 0.038256228 | Q18: 0.038669065 | R18: 0.03800905 | S18: 0.03800905 | T18: 0.038147139 | U18: 0.038147139 | V18: 0.037300178 | W18: 0.035193133 | X18: 0.035072712 | Y18: 0.034367142 | Z18: 0.025753769 | AA18: 0.02490887 | AB18: 0.024893746 | AC18: 0.024818402 | AD18: 0.024878641 | AE18: 0.025122549 | AF18: 0.025392987 | AG18: 0.025408348 | AH18: 0.025469982 | AI18: 0.02607641 | AJ18: 0.025966184 | AK18: 0.025950513 | AL18: 0.025794841 | AM18: 0.024866785 | AN18: 0.024881517 | AO18: 0.024778761 | AQ18: 0.047134935 | AR18: 0.039484979 | AS18: 0.038324421 | AT18: 0.03800905 | AU18: 0.035193133 | AV18: 0.02490887 | AW18: 0.025122549 | AX18: 0.02607641 | AY18: 0.024866785 | AZ18: =AO18 -> 0.024778761
C20: Perfil etário das lojas (% total de lojas)
C21: Nova | D21: 0.16171955 | E21: 0.15609265 | F21: 0.15640274 | G21: 0.16543438 | H21: 0.16412556 | I21: 0.15863278 | J21: 0.16086957 | K21: 0.13562232 | L21: 0.11299915 | M21: 0.085910653 | N21: 0.053959965 | O21: 0.035650624 | P21: 0.017793594 | Q21: 0.010791367 | R21: 0.0081447964 | S21: 0.0036199095 | T21: 0.00090826521 | U21: 0.0063578565 | V21: 0.028419183 | W21: 0.068669528 | X21: 0.076133447 | Y21: 0.093042749 | Z21: 0.07160804 | AA21: 0.084447145 | AB21: 0.07225258 | AC21: 0.073849879 | AD21: 0.057038835 | AE21: 0.031862745 | AF21: 0.028415961 | AG21: 0.026013309 | AH21: 0.018192844 | AI21: 0.018192844 | AJ21: 0.0060386473 | AK21: 0.0096560048 | AL21: 0.016196761 | AM21: 0.029603316 | AN21: 0.027251185 | AO21: 0.027138643 | AQ21: 0.16543438 | AR21: 0.13562232 | AS21: 0.035650624 | AT21: 0.0036199095 | AU21: 0.068669528 | AV21: 0.084447145 | AW21: 0.031862745 | AX21: 0.018192844 | AY21: 0.029603316 | AZ21: =AO21 -> 0.027138643
C22: Entre 1 e 2 anos | D22: 0.11770727 | E22: 0.12084592 | F22: 0.11925709 | G22: 0.13123845 | H22: 0.12735426 | I22: 0.13321648 | J22: 0.12434783 | K22: 0.13304721 | L22: 0.1393373 | M22: 0.13487973 | N22: 0.14099217 | O22: 0.10516934 | P22: 0.096085409 | Q22: 0.076438849 | R22: 0.049773756 | S22: 0.03438914 | T22: 0.017257039 | U22: 0.010899183 | V22: 0.0079928952 | W22: 0.0034334764 | X22: 0.00085543199 | Y22: 0.0058675608 | Z22: 0.022613065 | AA22: 0.036452005 | AB22: 0.050394657 | AC22: 0.053874092 | AD22: 0.059466019 | AE22: 0.064338235 | AF22: 0.070133011 | AG22: 0.067755596 | AH22: 0.057004245 | AI22: 0.032747119 | AJ22: 0.025966184 | AK22: 0.018105009 | AL22: 0.017996401 | AM22: 0.017761989 | AN22: 0.0035545024 | AO22: 0.0076696165 | AQ22: 0.13123845 | AR22: 0.13304721 | AS22: 0.10516934 | AT22: 0.03438914 | AU22: 0.0034334764 | AV22: 0.036452005 | AW22: 0.064338235 | AX22: 0.032747119 | AY22: 0.017761989 | AZ22: =AO22 -> 0.0076696165
C23: Entre 2 e 3 anos | D23: 0.088024565 | E23: 0.083585096 | F23: 0.085043988 | G23: 0.083179298 | H23: 0.10134529 | I23: 0.10078878 | J23: 0.10173913 | K23: 0.11759657 | L23: 0.11214953 | M23: 0.1185567 | N23: 0.11488251 | O23: 0.12210339 | P23: 0.12900356 | Q23: 0.12769784 | R23: 0.13393665 | S23: 0.10588235 | T23: 0.097184378 | U23: 0.072661217 | V23: 0.045293073 | W23: 0.030901288 | X23: 0.016253208 | Y23: 0.0092204526 | Z23: 0.0056532663 | AA23: 0.0060753341 | AB23: 0.0012143291 | AC23: 0.0036319613 | AD23: 0.015169903 | AE23: 0.034926471 | AF23: 0.048367594 | AG23: 0.05323654 | AH23: 0.058217101 | AI23: 0.062462098 | AJ23: 0.06763285 | AK23: 0.05974653 | AL23: 0.047990402 | AM23: 0.01124926 | AN23: 0.026066351 | AO23: 0.017699115 | AQ23: 0.083179298 | AR23: 0.11759657 | AS23: 0.12210339 | AT23: 0.10588235 | AU23: 0.030901288 | AV23: 0.0060753341 | AW23: 0.034926471 | AX23: 0.062462098 | AY23: 0.01124926 | AZ23: =AO23 -> 0.017699115
C24: Madura | D24: 0.63254862 | E24: 0.63947633 | F24: 0.63929619 | G24: 0.62014787 | H24: 0.60717489 | I24: 0.60736196 | J24: 0.61304348 | K24: 0.61373391 | L24: 0.63551402 | M24: 0.66065292 | N24: 0.69016536 | O24: 0.73707665 | P24: 0.75711744 | Q24: 0.78507194 | R24: 0.8081448 | S24: 0.8561086 | T24: 0.88465032 | U24: 0.91008174 | V24: 0.91829485 | W24: 0.89699571 | X24: 0.90675791 | Y24: 0.89186924 | Z24: 0.90012563 | AA24: 0.87302552 | AB24: 0.87613843 | AC24: 0.86864407 | AD24: 0.86832524 | AE24: 0.86887255 | AF24: 0.85308343 | AG24: 0.85299456 | AH24: 0.86658581 | AI24: 0.88659794 | AJ24: 0.90036232 | AK24: 0.91249246 | AL24: 0.91781644 | AM24: 0.94138544 | AN24: 0.94312796 | AO24: 0.94749263 | AQ24: 0.62014787 | AR24: 0.61373391 | AS24: 0.73707665 | AT24: 0.8561086 | AU24: 0.89699571 | AV24: 0.87302552 | AW24: 0.86887255 | AX24: 0.88659794 | AY24: 0.94138544 | AZ24: =AO24 -> 0.94749263
C26: Desempenho de Vendas
C27: Crescimento total (%) | D27: 0.169 | E27: 0.078 | F27: 0.051 | G27: 0.038 | H27: 0.001 | I27: 0.047 | J27: 0.074 | K27: 0.061 | L27: 0.047 | M27: 0.026 | N27: 0.009 | O27: 0.038 | P27: 0.088 | Q27: 0.003 | R27: 0.091 | S27: 0.121 | T27: 0.083 | U27: 0.206 | V27: 0.074 | W27: 0.061 | X27: 0.10464955 | Y27: 0.10131135 | Z27: 0.13533563 | AA27: 0.11289348 | AB27: 0.068489199 | AC27: 0.081416145 | AD27: 0.080960576 | AE27: 0.076627421 | AF27: 0.10018327 | AG27: 0.12164988 | AH27: 0.13926905 | AI27: 0.17426965 | AJ27: 0.17064521 | AK27: 0.17991933 | AL27: 0.18039679 | AM27: 0.19758461 | AN27: 0.14350609 | AO27: ='DRE Gerencial | Consolidado'!AO6/'DRE Gerencial | Consolidado'!AK6-1 -> 0.092548425 | AQ27: 0.081 | AR27: 0.046 | AS27: 0.029 | AT27: 0.076021204 | AU27: 0.10322614 | AV27: 0.099732842 | AW27: 0.084935922 | AX27: 0.13735011 | AY27: 0.18260823 | AZ27: 0.11684703
C28: Crescimento mesmas lojas (%) | D28: 0.074 | E28: -0.012 | F28: -0.029 | G28: -0.042 | H28: -0.086 | I28: -0.046 | J28: -0.023 | K28: -0.009 | L28: -0.006 | M28: -0.011 | N28: -0.007 | O28: 0.026 | P28: 0.109 | Q28: 0.053 | R28: 0.11 | S28: 0.13957966 | T28: 0.096208968 | U28: 0.19697559 | V28: 0.070649607 | W28: 0.042535291 | X28: 0.064946499 | Y28: 0.057784654 | Z28: 0.089939372 | AA28: 0.078783822 | AB28: 0.043708563 | AC28: 0.05595328 | AD28: 0.059419999 | AE28: 0.056234107 | AF28: 0.096106199 | AG28: 0.11409475 | AH28: 0.1363054 | AI28: 0.17120941 | AJ28: 0.16966846 | AK28: 0.18132766 | AL28: 0.17628312 | AM28: 0.18617366 | AN28: 0.13046996 | AO28: 0.080258811 | AQ28: -0.004 | AR28: -0.041 | AS28: 0.001 | AT28: 0.10697939 | AU28: 0.099198401 | AV28: 0.07296344 | AW28: 0.05402141 | AX28: 0.14070448 | AY28: 0.17865387 | AZ28: 0.10419195
C29: Crescimento lojas maduras (%) | D29: 0.055 | E29: -0.029 | F29: -0.052 | G29: -0.071 | H29: -0.118 | I29: -0.078 | J29: -0.052 | K29: -0.037 | L29: -0.034 | M29: -0.036 | N29: -0.029 | O29: 0.009 | P29: 0.084 | Q29: 0.034 | R29: 0.098 | S29: 0.1234165 | T29: 0.086864729 | U29: 0.18911801 | V29: 0.065500943 | W29: 0.040560963 | X29: 0.062789756 | Y29: 0.057064126 | Z29: 0.087536704 | AA29: 0.073848086 | AB29: 0.037801854 | AC29: 0.049762789 | AD29: 0.050816233 | AE29: 0.046164711 | AF29: 0.08251821 | AG29: 0.10264946 | AH29: 0.12676914 | AI29: 0.16399608 | AJ29: 0.16325036 | AK29: 0.17507677 | AL29: 0.17127761 | AM29: 0.18300677 | AN29: 0.12832752 | AO29: 0.077829804 | AQ29: -0.027 | AR29: -0.071 | AS29: -0.022 | AT29: 0.087655701 | AU29: 0.092531044 | AV29: 0.070401047 | AW29: 0.046253903 | AX29: 0.13151639 | AY29: 0.17357822 | AZ29: 0.10189192
C30: Ticket médio (R$) | D30: 52.9 | E30: 52.44 | F30: 54.25 | G30: 53.05 | H30: 51.72 | I30: 53.34 | J30: 54.75 | K30: 54.78 | L30: 55.02 | M30: 55.8 | N30: 56.61 | O30: 57.39 | P30: 59.7 | Q30: 69.52 | R30: 70.28 | S30: 69.69 | T30: 73.28 | U30: 75.83 | V30: 74.55 | W30: 73.6 | X30: 70.776277 | Y30: 73.57469 | Z30: 75.371697 | AA30: 75.264567 | AB30: 76.658436 | AC30: 78.370045 | AD30: 81.066452 | AE30: 80.463445 | AF30: 81.568688 | AG30: 83.772413 | AH30: 85.891736 | AI30: 86.599688 | AJ30: 89.191797 | AK30: 91.044553 | AL30: 94.388705 | AM30: 95.656715 | AN30: 96.15823 | AO30: 95.402929 | AQ30: 53.16 | AR30: 53.67 | AS30: 56.22 | AT30: 67.09 | AU30: 74.32 | AV30: 75.78669 | AW30: 79.159735 | AX30: 84.522357 | AY30: 92.656462 | AZ30: 95.770196
C31: Mix de vendas - Medicamento de marca | D31: 0.44595458 | E31: 0.45419565 | F31: 0.44966063 | G31: 0.44205152 | H31: 0.43933332 | I31: 0.43964 | J31: 0.43274086 | K31: 0.43085127 | L31: 0.42891228 | M31: 0.43127839 | N31: 0.44153077 | O31: 0.43945589 | P31: 0.43427187 | Q31: 0.41980844 | R31: 0.424 | S31: 0.42276 | T31: 0.42092 | U31: 0.4213 | V31: 0.42934274 | W31: 0.42236245 | X31: 0.39226267 | Y31: 0.40266423 | Z31: 0.40326679 | AA31: 0.39190208 | AB31: 0.39322822 | AC31: 0.39184787 | AD31: 0.39446829 | AE31: 0.39092511 | AF31: 0.39253356 | AG31: 0.40162219 | AH31: 0.41441413 | AI31: 0.41105356 | AJ31: 0.41542153 | AK31: 0.42084787 | AL31: 0.43078645 | AM31: 0.42891007 | AN31: 0.43151342 | AO31: 0.4220318 | AQ31: 0.44794652 | AR31: 0.43560882 | AS31: 0.43544536 | AT31: 0.42526666 | AU31: 0.424 | AV31: 0.39758457 | AW31: 0.39261151 | AX31: 0.40447935 | AY31: 0.42435117 | AZ31: =SUM('KPIs Operacionais'!AN31*'DRE Contabil | Consolidado'!$AN$6,'DRE Contabil | Consolidado'!$AO$6*'KPIs Operacionais'!AO31)/SUM('DRE Contabil | Consolidado'!$AN$6:$AO$6) -> 0.42666094
C32: Mix de vendas - Medicamento genérico | D32: 0.08296833 | E32: 0.082178465 | F32: 0.083799013 | G32: 0.083631881 | H32: 0.087612991 | I32: 0.088940183 | J32: 0.087666925 | K32: 0.0884817 | L32: 0.091837383 | M32: 0.091538902 | N32: 0.090526584 | O32: 0.090100536 | P32: 0.093717987 | Q32: 0.093020363 | R32: 0.092 | S32: 0.0888 | T32: 0.08996 | U32: 0.0962 | V32: 0.09668313 | W32: 0.098750215 | X32: 0.10315631 | Y32: 0.11109117 | Z32: 0.11257864 | AA32: 0.1118598 | AB32: 0.11266309 | AC32: 0.11697319 | AD32: 0.11713947 | AE32: 0.1141006 | AF32: 0.11519202 | AG32: 0.11858948 | AH32: 0.11489004 | AI32: 0.11409987 | AJ32: 0.11905812 | AK32: 0.11944595 | AL32: 0.12111218 | AM32: 0.12194963 | AN32: 0.12749535 | AO32: 0.12557681 | AQ32: 0.083147258 | AR32: 0.088196506 | AS32: 0.090980957 | AT32: 0.091712932 | AU32: 0.095 | AV32: 0.10979341 | AW32: 0.11526737 | AX32: 0.11541422 | AY32: 0.12026005 | AZ32: =SUM('KPIs Operacionais'!AN32*'DRE Contabil | Consolidado'!$AN$6,'DRE Contabil | Consolidado'!$AO$6*'KPIs Operacionais'!AO32)/SUM('DRE Contabil | Consolidado'!$AN$6:$AO$6) -> 0.12651348
C33: Mix de vendas - Higiene, nutrição e beleza | D33: 0.24994026 | E33: 0.24149468 | F33: 0.25030044 | G33: 0.2584218 | H33: 0.25268643 | I33: 0.24137384 | J33: 0.25730213 | K33: 0.26007428 | L33: 0.25595422 | M33: 0.24630852 | N33: 0.24260081 | O33: 0.25093697 | P33: 0.23355264 | Q33: 0.23554132 | R33: 0.25 | S33: 0.25376 | T33: 0.22826 | U33: 0.226 | V33: 0.24131694 | W33: 0.24261595 | X33: 0.24269821 | Y33: 0.24520609 | Z33: 0.2569347 | AA33: 0.26775201 | AB33: 0.27110771 | AC33: 0.25924234 | AD33: 0.26686103 | AE33: 0.27572569 | AF33: 0.2703555 | AG33: 0.25309692 | AH33: 0.25105647 | AI33: 0.25906729 | AJ33: 0.24739294 | AK33: 0.238442 | AL33: 0.23631739 | AM33: 0.24947061 | AN33: 0.23348836 | AO33: 0.23995031 | AQ33: 0.25005533 | AR33: 0.253018 | AS33: 0.24884418 | AT33: 0.24375467 | AU33: 0.235 | AV33: 0.25342921 | AW33: 0.26821159 | AX33: 0.25793153 | AY33: 0.24287396 | AZ33: =SUM('KPIs Operacionais'!AN33*'DRE Contabil | Consolidado'!$AN$6,'DRE Contabil | Consolidado'!$AO$6*'KPIs Operacionais'!AO33)/SUM('DRE Contabil | Consolidado'!$AN$6:$AO$6) -> 0.23679544
C34: Mix de vendas - OTC (over-the-counter) | D34: 0.21663401 | E34: 0.21904471 | F34: 0.2134925 | G34: 0.21361627 | H34: 0.21770121 | I34: 0.22736726 | J34: 0.22006987 | K34: 0.21787006 | L34: 0.22084232 | M34: 0.22828921 | N34: 0.22155927 | O34: 0.21598743 | P34: 0.23481342 | Q34: 0.24631513 | R34: 0.227 | S34: 0.22279 | T34: 0.23063 | U34: 0.2234 | V34: 0.2151168 | W34: 0.22192496 | X34: 0.23114162 | Y34: 0.23226275 | Z34: 0.22109412 | AA34: 0.22346829 | AB34: 0.21952343 | AC34: 0.22832703 | AD34: 0.21929106 | AE34: 0.21584104 | AF34: 0.21871198 | AG34: 0.22405283 | AH34: 0.21794904 | AI34: 0.21321963 | AJ34: 0.21411554 | AK34: 0.21720927 | AL34: 0.20726369 | AM34: 0.19557833 | AN34: 0.2032859 | AO34: 0.20820603 | AQ34: 0.21566337 | AR34: 0.22081229 | AS34: 0.22162754 | AT34: 0.23227041 | AU34: 0.223 | AV34: 0.22686852 | AW34: 0.22073539 | AX34: 0.21836006 | AY34: 0.2083397 | AZ34: =SUM('KPIs Operacionais'!AN34*'DRE Contabil | Consolidado'!$AN$6,'DRE Contabil | Consolidado'!$AO$6*'KPIs Operacionais'!AO34)/SUM('DRE Contabil | Consolidado'!$AN$6:$AO$6) -> 0.20580391
C35: Mix de vendas - Serviços | D35: 0.0045028177 | E35: 0.0030865003 | F35: 0.0027474138 | G35: 0.0022785294 | H35: 0.0026660487 | I35: 0.0026787075 | J35: 0.0022202093 | K35: 0.0027226849 | L35: 0.0024537924 | M35: 0.0025849743 | N35: 0.0037825616 | O35: 0.0035191668 | P35: 0.0036440829 | Q35: 0.0053147438 | R35: 0.007 | S35: 0.01188 | T35: 0.03022 | U35: 0.0332 | V35: 0.01754039 | W35: 0.014346434 | X35: 0.030741201 | Y35: 0.0087757584 | Z35: 0.0061257456 | AA35: 0.0050178105 | AB35: 0.0034775447 | AC35: 0.0036095753 | AD35: 0.0022401505 | AE35: 0.003407562 | AF35: 0.0032069418 | AG35: 0.0026385719 | AH35: 0.0016903196 | AI35: 0.002559651 | AJ35: 0.0040118592 | AK35: 0.004054917 | AL35: 0.004520279 | AM35: 0.0040913656 | AN35: 0.004216964 | AO35: 0.0042350625 | AQ35: 0.0031875225 | AR35: 0.0023643853 | AS35: 0.0031019679 | AT35: 0.0069953386 | AU35: 0.024 | AV35: 0.012324289 | AW35: 0.0031741504 | AX35: 0.0038148387 | AY35: 0.0041751189 | AZ35: =SUM('KPIs Operacionais'!AN35*'DRE Contabil | Consolidado'!$AN$6,'DRE Contabil | Consolidado'!$AO$6*'KPIs Operacionais'!AO35)/SUM('DRE Contabil | Consolidado'!$AN$6:$AO$6) -> 0.0042262264
C36: Participação omnichannel (% venda total) | D36: - | E36: - | F36: - | G36: - | H36: - | I36: - | J36: - | K36: - | L36: 0.02 | M36: 0.021 | N36: 0.023 | O36: 0.023 | P36: 0.027 | Q36: 0.052 | R36: 0.052 | S36: 0.052 | T36: 0.061 | U36: 0.074 | V36: 0.085 | W36: 0.088 | X36: 0.077536634 | Y36: 0.083354358 | Z36: 0.09506891 | AA36: 0.098779303 | AB36: 0.11403913 | AC36: 0.116754 | AD36: 0.12126673 | AE36: 0.12480935 | AF36: 0.13437222 | AG36: 0.14073821 | AH36: 0.15204109 | AI36: 0.15990839 | AJ36: 0.17625517 | AK36: 0.18707069 | AL36: 0.19760868 | AM36: 0.21049625 | AN36: 0.22157283 | AO36: 0.24071158 | AQ36: - | AR36: - | AS36: 0.021612264 | AT36: 0.046024108 | AU36: 0.077316222 | AV36: 0.088963046 | AW36: 0.11934013 | AX36: 0.14741606 | AY36: 0.1936357 | AZ36: =SUM('KPIs Operacionais'!AN36*'DRE Contabil | Consolidado'!$AN$6,'DRE Contabil | Consolidado'!$AO$6*'KPIs Operacionais'!AO36)/SUM('DRE Contabil | Consolidado'!$AN$6:$AO$6) -> 0.23136761
C38: Produtividade²
C39: Total funcionários (lojas, CDs e corporativo) | D39: 20811 | E39: 21176 | F39: 21308 | G39: 22161 | H39: 22352 | I39: 22356 | J39: 22090 | K39: 21493 | L39: 20910 | M39: 20654 | N39: 20212 | O39: 20148 | P39: 19900 | Q39: 19489 | R39: 19217 | S39: 18947 | T39: 19121 | U39: 19642 | V39: 19561 | W39: 19988 | X39: 20055 | Y39: 19653 | Z39: 25451 | AA39: 25701 | AB39: 25373 | AC39: 25375 | AD39: 25268 | AE39: 25445 | AF39: 25799 | AG39: 25874 | AH39: 25606 | AI39: 26057 | AJ39: 26261 | AK39: 27242 | AL39: 27191 | AM39: 28207 | AN39: 28316 | AO39: 28534 | AQ39: 22161 | AR39: 21493 | AS39: 20148 | AT39: 18947 | AU39: 19988 | AV39: 25701 | AW39: 25445 | AX39: 26057 | AY39: 28207 | AZ39: =AO39 -> 28534
C40: Total funcionários de loja | D40: - | E40: - | F40: - | G40: - | H40: - | I40: - | J40: - | K40: - | L40: - | M40: - | N40: - | O40: - | P40: - | Q40: - | R40: - | S40: - | T40: 15749 | U40: 16169 | V40: 15999 | W40: 16340 | X40: 16331 | Y40: 15977 | Z40: 20669 | AA40: 20809 | AB40: 20503 | AC40: 20679 | AD40: 20599 | AE40: 20775 | AF40: 21140 | AG40: 21381 | AH40: 21075 | AI40: 21281 | AJ40: 21436 | AK40: 22212 | AL40: 22106 | AM40: 22941 | AN40: 22989 | AO40: 23072 | AQ40: - | AR40: - | AS40: - | AT40: - | AU40: 16340 | AV40: 20809 | AW40: 20775 | AX40: 21281 | AY40: 22941 | AZ40: =AO40 -> 23072
C41: Média de funcionários por loja | D41: 21.300921 | E41: 21.325277 | F41: 20.828935 | G41: 20.481516 | H41: 20.046637 | I41: 19.593339 | J41: 19.208696 | K41: 18.448927 | L41: 17.765506 | M41: 17.743986 | N41: 17.590949 | O41: 17.957219 | P41: 17.704626 | Q41: 17.526079 | R41: 17.39095 | S41: 17.146606 | T41: 17.366939 | U41: 17.840145 | V41: 17.372114 | W41: 17.157082 | X41: 17.155689 | Y41: 16.473596 | Z41: 15.986809 | AA41: 15.614216 | AB41: 15.405586 | AC41: 15.360169 | AD41: 15.332524 | AE41: 15.591299 | AF41: 15.58852 | AG41: 15.652753 | AH41: 15.528199 | AI41: 15.801698 | AJ41: 15.858092 | AK41: 16.440555 | AL41: 16.311338 | AM41: 16.700414 | AN41: 16.756487 | AO41: =AO39/AO11 -> 16.834218 | AQ41: 20.481516 | AR41: 18.448927 | AS41: 17.957219 | AT41: 17.146606 | AU41: 17.157082 | AV41: 15.614216 | AW41: 15.591299 | AX41: 15.801698 | AY41: 16.700414 | AZ41: =AZ39/AZ11 -> 16.834218
C43: Ciclo de Caixa (dias)³
C44: (+) Prazo médio de recebíveis (PMR) | D44: 25.973188 | E44: 25.398733 | F44: 25.266024 | G44: 25.56582 | H44: 27.174739 | I44: 27.462775 | J44: 27.184001 | K44: 24.17019 | L44: 27.088153 | M44: 26.614438 | N44: 25.696875 | O44: 24.838739 | P44: 27.994913 | Q44: 26.777152 | R44: 25.836664 | S44: 24.846754 | T44: 29.000007 | U44: 27.804704 | V44: 27.81165 | W44: 27.993181 | X44: 28.46356 | Y44: 29.794383 | Z44: 30.096403 | AA44: 28.423729 | AB44: 30.839629 | AC44: 28.975449 | AD44: 27.563095 | AE44: 27.955239 | AF44: 30.549332 | AG44: 29.200675 | AH44: 28.540239 | AI44: 27.867887 | AJ44: 31.719043 | AK44: 32.130659 | AL44: 33.320624 | AM44: 32.319943 | AN44: 33.781667 | AO44: 32.515713 | AQ44: =G44 -> 25.56582 | AR44: =K44 -> 24.17019 | AS44: =O44 -> 24.838739 | AT44: =S44 -> 24.846754 | AU44: =W44 -> 27.993181 | AV44: =AA44 -> 28.423729 | AW44: =AE44 -> 27.955239 | AX44: =AI44 -> 27.867887 | AY44: =AM44 -> 32.319943 | AZ44: =AO44 -> 32.515713
C45: (+) Prazo médio de estoques (PME) | D45: 92.397669 | E45: 86.037123 | F45: 90.402172 | G45: 99.442491 | H45: 96.850489 | I45: 98.347057 | J45: 95.752818 | K45: 104.25549 | L45: 101.95978 | M45: 95.895859 | N45: 85.71499 | O45: 94.220899 | P45: 98.95208 | Q45: 109.0338 | R45: 97 | S45: 102 | T45: 114 | U45: 112 | V45: 108 | W45: 113.1941 | X45: 114.60165 | Y45: 115.28145 | Z45: 115.75171 | AA45: 126.18151 | AB45: 128.78368 | AC45: 120.34282 | AD45: 114.35872 | AE45: 116.08197 | AF45: 112.71599 | AG45: 101.75135 | AH45: 103.49325 | AI45: 111.84888 | AJ45: 104.28294 | AK45: 99.7042 | AL45: 101.18316 | AM45: 103.37345 | AN45: 108.97915 | AO45: 103.81296 | AQ45: =G45 -> 99.442491 | AR45: =K45 -> 104.25549 | AS45: =O45 -> 94.220899 | AT45: =S45 -> 102 | AU45: =W45 -> 113.1941 | AV45: =AA45 -> 126.18151 | AW45: =AE45 -> 116.08197 | AX45: =AI45 -> 111.84888 | AY45: =AM45 -> 103.37345 | AZ45: =AO45 -> 103.81296
C46: (-) Prazo médio de pagamento (PMP) | D46: 67.541794 | E46: 59.353776 | F46: 69.557455 | G46: 74.080487 | H46: 73.565498 | I46: 75.398081 | J46: 69.539591 | K46: 78.418945 | L46: 73.64123 | M46: 64.0649 | N46: 61.185545 | O46: 72.123177 | P46: 75.3266 | Q46: 75.588168 | R46: 69 | S46: 75 | T46: 76.137475 | U46: 68.914185 | V46: 66.668654 | W46: 70.572055 | X46: 70.585158 | Y46: 66.913444 | Z46: 66.361532 | AA46: 71.389629 | AB46: 68.420941 | AC46: 67.52422 | AD46: 66.446944 | AE46: 76.446547 | AF46: 70.415252 | AG46: 66.952809 | AH46: 71.382073 | AI46: 78.377941 | AJ46: 70.042839 | AK46: 67.588694 | AL46: 66.839442 | AM46: 73.640353 | AN46: 70.403185 | AO46: 67.629582 | AQ46: =G46 -> 74.080487 | AR46: =K46 -> 78.418945 | AS46: =O46 -> 72.123177 | AT46: =S46 -> 75 | AU46: =W46 -> 70.572055 | AV46: =AA46 -> 71.389629 | AW46: =AE46 -> 76.446547 | AX46: =AI46 -> 78.377941 | AY46: =AM46 -> 73.640353 | AZ46: =AO46 -> 67.629582
C47: (-) Operações de risco sacado | D47: 0 | E47: 0 | F47: 0 | G47: 0 | H47: 0 | I47: 0 | J47: 0 | K47: 0 | L47: 0 | M47: 0 | N47: 0 | O47: 0 | P47: 0 | Q47: 0 | R47: 0 | S47: 0 | T47: 4.8625247 | U47: 4.0858149 | V47: 4.3313457 | W47: 5.9364095 | X47: 4.5594609 | Y47: 3.9221345 | Z47: 6.0645531 | AA47: 10.350302 | AB47: 4.505454 | AC47: 0.13498429 | AD47: 2.197961 | AE47: 0 | AF47: 0 | AG47: 0 | AH47: 0 | AI47: 0 | AJ47: 0 | AK47: 0 | AL47: 0 | AM47: 0 | AN47: 0 | AO47: 0 | AQ47: =G47 -> 0 | AR47: =K47 -> 0 | AS47: =O47 -> 0 | AT47: =S47 -> 0 | AU47: =W47 -> 5.9364095 | AV47: =AA47 -> 10.350302 | AW47: =AE47 -> 0 | AX47: =AI47 -> 0 | AY47: =AM47 -> 0 | AZ47: =AO47 -> 0
C48: (=) Ciclo de caixa operacional | D48: =D44+D45-D46-D47 -> 50.829063 | E48: =E44+E45-E46-E47 -> 52.082079 | F48: =F44+F45-F46-F47 -> 46.110742 | G48: =G44+G45-G46-G47 -> 50.927823 | H48: =H44+H45-H46-H47 -> 50.459729 | I48: =I44+I45-I46-I47 -> 50.411752 | J48: =J44+J45-J46-J47 -> 53.397228 | K48: =K44+K45-K46-K47 -> 50.006739 | ... AO48: =AO44+AO45-AO46-AO47 -> 68.699096 | AQ48: =G48 -> 50.927823 | AR48: =K48 -> 50.006739 | AS48: =O48 -> 46.936462 | AT48: =S48 -> 51.846754 | AU48: =W48 -> 64.678815 | AV48: =AA48 -> 72.865304 | AW48: =AE48 -> 67.590661 | AX48: =AI48 -> 61.338825 | AY48: =AM48 -> 62.053042 | AZ48: =AO48 -> 68.699096
...

Sheet DRE Contabil | Consolidado
B1: #VALUE!
C4: Demonstração do Resultado do Exercício (em R$ milhões) | D4: 1T17 | E4: 2T17 | F4: 3T17 | G4: 4T17 | H4: 1T18 | I4: 2T18 | J4: 3T18 | K4: 4T18 | L4: 1T19 | M4: 2T19 | N4: 3T19 | O4: 4T19 | P4: 1T20 | Q4: 2T20 | R4: 3T20 | S4: 4T20 | T4: 1T21 | U4: 2T21 | V4: 3T21 | W4: 4T21 | X4: 1T22 | Y4: 2T22 | Z4: 3T22 | AA4: 4T22 | AB4: 1T23 | AC4: 2T23 | AD4: 3T23 | AE4: 4T23 | AF4: 1T24 | AG4: 2T24 | AH4: 3T24 | AI4: 4T24 | AJ4: 1T25 | AK4: 2T25 | AL4: 3T25 | AM4: 4T25 | AN4: 1T26 | AO4: 2T26 | AQ4: 2017 | AR4: 2018 | AS4: 2019 | AT4: 2020 | AU4: 2021 | AV4: 2022 | AW4: 2023 | AX4: 2024 | AY4: 2025 | AZ4: 2026 (YTD)
C6: Receita Bruta | D6: 1546.082 | E6: 1566.416 | F6: 1608.508 | G6: 1584.532 | H6: 1547.744 | I6: 1640.531 | J6: 1727.957 | K6: 1681.707 | L6: 1619.865 | M6: 1683.564 | N6: 1743.819 | O6: 1744.857 | P6: 1763.223 | Q6: 1688.308 | R6: 1901.637 | S6: 1955.281 | T6: 1910.213 | U6: 2035.761 | V6: 2042.121 | W6: 2074.777 | X6: 2111.533 | Y6: 2210.379 | Z6: 2659.2731 | AA6: 2843.4319 | AB6: 2813.224 | AC6: 3003.629 | AD6: 3081.941 | AE6: 3062.065 | AF6: 3095.062 | AG6: 3369.021 | AH6: 3511.16 | AI6: 3595.69 | AJ6: 3623.219 | AK6: 3975.173 | AL6: 4144.562 | AM6: 4306.143 | AN6: 4143.173 | AO6: 4343.069 | AQ6: =SUM(D6:G6) -> 6305.538 | AR6: =SUM(H6:K6) -> 6597.939 | AS6: =SUM(L6:O6) -> 6792.105 | AT6: =SUM(P6:S6) -> 7308.449 | AU6: =SUM(T6:W6) -> 8062.872 | AV6: =SUM(X6:AA6) -> 9824.617 | AW6: =SUM(AB6:AE6) -> 11960.859 | AX6: =SUM(AF6:AI6) -> 13570.933 | AY6: =SUM(AJ6:AM6) -> 16049.097 | AZ6: =SUM(AN6:AO6) -> 8486.242
C7: Deduções | D7: -84.959 | E7: -84.788 | F7: -88.957 | G7: -84.03 | H7: -71.871 | I7: -89.716 | J7: -97.411 | K7: -93.891 | L7: -90.411 | M7: -90.184 | N7: -102.689 | O7: -86.573 | P7: -99.336 | Q7: -104.841 | R7: -119.872 | S7: -125.908 | T7: -133.893 | U7: -139.038 | V7: -130.083 | W7: -131.148 | X7: -138.654 | Y7: -140.033 | Z7: -169.102 | AA7: -187.753 | AB7: -192.853 | AC7: -166.924 | AD7: -202.452 | AE7: -196.508 | AF7: -212.562 | AG7: -230.19 | AH7: -239.856 | AI7: -246.5 | AJ7: -252.513 | AK7: -281.802 | AL7: -291.34 | AM7: -317.013 | AN7: -335.228 | AO7: -355.892 | AQ7: =SUM(D7:G7) -> -342.734 | AR7: =SUM(H7:K7) -> -352.889 | AS7: =SUM(L7:O7) -> -369.857 | AT7: =SUM(P7:S7) -> -449.957 | AU7: =SUM(T7:W7) -> -534.162 | AV7: =SUM(X7:AA7) -> -635.542 | AW7: =SUM(AB7:AE7) -> -758.737 | AX7: =SUM(AF7:AI7) -> -929.108 | AY7: =SUM(AJ7:AM7) -> -1142.668 | AZ7: =SUM(AN7:AO7) -> -691.12
C8: Receita Líquida | D8: 1461.123 | E8: 1481.628 | F8: 1519.551 | G8: 1500.502 | H8: 1475.873 | I8: 1550.815 | J8: 1630.546 | K8: 1587.816 | L8: 1529.454 | M8: 1593.38 | N8: 1641.13 | O8: 1658.284 | P8: 1663.887 | Q8: 1583.467 | R8: 1781.765 | S8: 1829.373 | T8: 1776.32 | U8: 1896.723 | V8: 1912.038 | W8: 1943.629 | X8: 1972.879 | Y8: 2070.346 | Z8: 2490.1711 | AA8: 2655.6789 | AB8: 2620.371 | AC8: 2836.705 | AD8: 2879.489 | AE8: 2865.557 | AF8: 2882.5 | AG8: 3138.831 | AH8: 3271.304 | AI8: 3349.19 | AJ8: 3370.706 | AK8: 3693.371 | AL8: 3853.222 | AM8: 3989.13 | AN8: 3807.945 | AO8: =AO6+AO7 -> 3987.177 | AQ8: =AQ6+AQ7 -> 5962.804 | AR8: =AR6+AR7 -> 6245.05 | AS8: =AS6+AS7 -> 6422.248 | AT8: =AT6+AT7 -> 6858.492 | AU8: =AU6+AU7 -> 7528.71 | AV8: =AV6+AV7 -> 9189.075 | AW8: =AW6+AW7 -> 11202.122 | AX8: =AX6+AX7 -> 12641.825 | ... AZ8: =AZ6+AZ7 -> 7795.122
C9: Custo das Mercadorias Vendidas | D9: -1009.911 | E9: -1001.142 | F9: -1037.823 | G9: -1048.307 | H9: -1010.34 | I9: -1051.251 | J9: -1102.286 | K9: -1003.493 | L9: -1062.241 | M9: -1080.416 | N9: -1129.903 | O9: -1131.522 | P9: -1156.401 | Q9: -1088.595 | R9: -1238.291 | S9: -1254.538 | T9: -1207.307 | U9: -1266.428 | V9: -1307.448 | W9: -1326.964 | X9: -1347.688 | Y9: -1374.026 | Z9: -1710.9451 | AA9: -1805.6409 | AB9: -1802.952 | AC9: -1906.101 | AD9: -1975.647 | AE9: -1972.183 | AF9: -1978.947 | AG9: -2115.639 | AH9: -2239.106 | AI9: -2282.017 | AJ9: -2329.656 | AK9: -2473.802 | AL9: -2615.062 | AM9: -2724.811 | AN9: -2587.718 | AO9: -2659.508 | AQ9: =SUM(D9:G9) -> -4097.183 | AR9: =SUM(H9:K9) -> -4167.37 | AS9: =SUM(L9:O9) -> -4404.082 | AT9: =SUM(P9:S9) -> -4737.825 | AU9: =SUM(T9:W9) -> -5108.147 | AV9: =SUM(X9:AA9) -> -6238.3 | AW9: =SUM(AB9:AE9) -> -7656.883 | AX9: =SUM(AF9:AI9) -> -8615.709 | AY9: =SUM(AJ9:AM9) -> -10143.331 | AZ9: =SUM(AN9:AO9) -> -5247.226
C10: Lucro Bruto | D10: 451.212 | E10: 480.486 | F10: 481.728 | G10: 452.195 | H10: 465.533 | I10: 499.564 | J10: 528.26 | K10: 584.323 | L10: 467.213 | M10: 512.964 | N10: 511.227 | O10: 526.762 | P10: 507.486 | Q10: 494.872 | R10: 543.474 | S10: 574.835 | T10: 569.013 | U10: 630.295 | V10: 604.59 | W10: 616.665 | X10: 625.191 | Y10: 696.32 | Z10: 779.226 | AA10: 850.038 | AB10: 817.419 | AC10: 930.604 | AD10: 903.842 | AE10: 893.374 | AF10: 903.553 | AG10: 1023.192 | AH10: 1032.198 | AI10: 1067.173 | AJ10: 1041.05 | AK10: 1219.569 | AL10: 1238.16 | AM10: 1264.319 | AN10: 1220.227 | AO10: =AO8+AO9 -> 1327.669 | AQ10: =AQ8+AQ9 -> 1865.621 | AR10: =AR8+AR9 -> 2077.68 | AS10: =AS8+AS9 -> 2018.166 | AT10: =AT8+AT9 -> 2120.667 | AU10: =AU8+AU9 -> 2420.563 | AV10: =AV8+AV9 -> 2950.775 | AW10: =AW8+AW9 -> 3545.239 | AX10: =AX8+AX9 -> 4026.116 | ... AZ10: =AZ8+AZ9 -> 2547.896
C11: Despesas com Vendas | D11: -352.92 | E11: -355.721 | F11: -363.96 | G11: -332.651 | H11: -381.162 | I11: -416.744 | J11: -417.549 | K11: -391.972 | L11: -410.13366 | M11: -423.61521 | N11: -394.36417 | O11: -375.65108 | P11: -400.875 | Q11: -374.985 | R11: -401.375 | S11: -420.611 | T11: -420.24 | U11: -440.80451 | V11: -455.33083 | W11: -474.24272 | X11: -477.097 | Y11: -493.93 | Z11: -458.67203 | AA11: -524.66638 | AB11: -669.13584 | AC11: -696.16165 | AD11: -700.06897 | AE11: -703.4247 | AF11: -720.44773 | AG11: -757.17389 | AH11: -758.27825 | AI11: -798.46252 | AJ11: -801.01387 | AK11: -864.93905 | AL11: -871.84047 | AM11: -905.65914 | AN11: -906.23906 | AO11: -925.3189 | AQ11: =SUM(D11:G11) -> -1405.252 | AR11: =SUM(H11:K11) -> -1607.427 | AS11: =SUM(L11:O11) -> -1603.7641 | AT11: =SUM(P11:S11) -> -1597.846 | AU11: =SUM(T11:W11) -> -1790.6181 | AV11: =SUM(X11:AA11) -> -1954.3654 | AW11: =SUM(AB11:AE11) -> -2768.7912 | AX11: =SUM(AF11:AI11) -> -3034.3624 | AY11: =SUM(AJ11:AM11) -> -3443.4525 | AZ11: =SUM(AN11:AO11) -> -1831.558
C12: Reversão Despesas de Arrendamento (IFRS 16) | D12: 0 | E12: 0 | F12: 0 | G12: 0 | H12: 0 | I12: 0 | J12: 0 | K12: 0 | L12: 60.465659 | M12: 60.392213 | N12: 60.248173 | O12: 60.990077 | P12: 60.821 | Q12: 61.566 | R12: 62.756 | S12: 60.682 | T12: 60.256 | U12: 60.743374 | V12: 70.479261 | W12: 78.935446 | X12: 78.972 | Y12: 78.483 | Z12: 97.73947 | AA12: 104.67597 | AB12: 113.91884 | AC12: 118.52861 | AD12: 122.9354 | AE12: 147.37158 | AF12: 120.69133 | AG12: 119.51034 | AH12: 117.61305 | AI12: 120.60993 | AJ12: 121.2948 | AK12: 122.32225 | AL12: 123.43612 | AM12: 125.83661 | AN12: 127.251 | AO12: 127.62504 | AQ12: =SUM(D12:G12) -> 0 | AR12: =SUM(H12:K12) -> 0 | AS12: =SUM(L12:O12) -> 242.09612 | AT12: =SUM(P12:S12) -> 245.825 | AU12: =SUM(T12:W12) -> 270.41408 | AV12: =SUM(X12:AA12) -> 359.87044 | AW12: =SUM(AB12:AE12) -> 502.75443 | AX12: =SUM(AF12:AI12) -> 478.42465 | AY12: =SUM(AJ12:AM12) -> 492.88978 | AZ12: =SUM(AN12:AO12) -> 254.87603
C13: Margem de Contribuição | D13: 98.292 | E13: 124.765 | F13: 117.768 | G13: 119.544 | H13: 84.371 | I13: 82.82 | J13: 110.711 | K13: 192.351 | L13: 117.545 | M13: 149.741 | N13: 177.111 | O13: 212.101 | P13: 167.432 | Q13: 181.453 | R13: 204.855 | S13: 214.906 | T13: 209.029 | U13: 250.23387 | V13: 219.73843 | W13: 221.35773 | X13: 227.066 | Y13: 280.873 | Z13: 418.29344 | AA13: 430.0476 | AB13: 262.202 | AC13: 352.97096 | AD13: 326.70844 | AE13: 337.32088 | AF13: 303.79659 | AG13: 385.52845 | AH13: 391.5328 | AI13: 389.32041 | AJ13: 361.33094 | AK13: 476.9522 | AL13: 489.75565 | AM13: 484.49647 | AN13: 441.23894 | AO13: =AO10+AO11+AO12 -> 529.97514 | AQ13: =SUM(AQ10:AQ12) -> 460.369 | AR13: =SUM(AR10:AR12) -> 470.253 | AS13: =SUM(AS10:AS12) -> 656.498 | AT13: =SUM(AT10:AT12) -> 768.646 | AU13: =SUM(AU10:AU12) -> 900.35902 | AV13: =SUM(AV10:AV12) -> 1356.28 | AW13: =SUM(AW10:AW12) -> 1279.2023 | AX13: =SUM(AX10:AX12) -> 1470.1783 | AY13: =SUM(AY10:AY12) -> 1812.5353 | AZ13: =SUM(AN13:AO13) -> 971.21408
C14: Despesas Gerais e Administrativas | D14: -45.327 | E14: -46.767 | F14: -39.686 | G14: -75.464 | H14: -39.301 | I14: -36.395 | J14: -41.042 | K14: -66.906 | L14: -39.115 | M14: -43.183 | N14: -29.952 | O14: -75.412 | P14: -42.02 | Q14: -41.797 | R14: -55.397 | S14: -57.062 | T14: -49.686 | U14: -60.200542 | V14: -67.944248 | W14: -69.880442 | X14: -66.111 | Y14: -75.045 | Z14: -88.721691 | AA14: -102.23864 | AB14: -92.902 | AC14: -91.720584 | AD14: -72.759993 | AE14: -81.101196 | AF14: -88.988722 | AG14: -90.524053 | AH14: -89.554296 | AI14: -108.71054 | AJ14: -92.135731 | AK14: -116.89379 | AL14: -106.2474 | AM14: -109.73677 | AN14: -109.70438 | AO14: -121.70474 | AQ14: =SUM(D14:G14) -> -207.244 | AR14: =SUM(H14:K14) -> -183.644 | AS14: =SUM(L14:O14) -> -187.662 | AT14: =SUM(P14:S14) -> -196.276 | AU14: =SUM(T14:W14) -> -247.71123 | AV14: =SUM(X14:AA14) -> -332.11633 | AW14: =SUM(AB14:AE14) -> -338.48377 | AX14: =SUM(AF14:AI14) -> -377.77761 | AY14: =SUM(AJ14:AM14) -> -425.01368 | AZ14: =SUM(AN14:AO14) -> -231.40912
C15: EBITDA | D15: 52.965 | E15: 77.998 | F15: 78.082 | G15: 44.08 | H15: 45.07 | I15: 46.425 | J15: 69.669 | K15: 125.445 | L15: 78.43 | M15: 106.558 | N15: 147.159 | O15: 136.689 | P15: 125.412 | Q15: 139.656 | R15: 149.458 | S15: 157.844 | T15: 159.343 | U15: 190.03333 | V15: 151.79418 | W15: 151.47728 | X15: 160.955 | Y15: 205.828 | Z15: 329.57175 | AA15: 327.80896 | AB15: 169.3 | AC15: 261.25038 | AD15: 253.94844 | AE15: 256.21968 | AF15: 214.80787 | AG15: 295.0044 | AH15: 301.9785 | AI15: 280.60987 | AJ15: 269.1952 | AK15: 360.05841 | AL15: 383.50825 | AM15: 374.7597 | AN15: 331.53456 | AO15: =AO13+AO14 -> 408.2704 | AQ15: =SUM(AQ13:AQ14) -> 253.125 | AR15: =SUM(AR13:AR14) -> 286.609 | AS15: =SUM(AS13:AS14) -> 468.836 | AT15: =SUM(AT13:AT14) -> 572.37 | AU15: =SUM(AU13:AU14) -> 652.64779 | AV15: =SUM(AV13:AV14) -> 1024.1637 | AW15: =SUM(AW13:AW14) -> 940.7185 | AX15: =SUM(AX13:AX14) -> 1092.4006 | AY15: =SUM(AY13:AY14) -> 1387.5216 | AZ15: =SUM(AN15:AO15) -> 739.80496
C16: Depreciação e Amortização | D16: -18.205 | E16: -20.139 | F16: -21.415 | G16: -23.66 | H16: -25.009 | I16: -27.109 | J16: -28.344 | K16: -27.615 | L16: -21.827151 | M16: -23.134762 | N16: -23.020498 | O16: -24.393305 | P16: -22.093 | Q16: -21.889 | R16: -21.646 | S16: -21.827 | T16: -22.385 | U16: -22.323205 | V16: -23.259965 | W16: -24.860943 | X16: -28.244 | Y16: -25.679492 | Z16: -39.709309 | AA16: -45.530784 | AB16: -50.644309 | AC16: -62.805608 | AD16: -51.412259 | AE16: -43.403616 | AF16: -48.125252 | AG16: -49.089638 | AH16: -49.505683 | AI16: -49.618328 | AJ16: -46.731237 | AK16: -47.853332 | AL16: -48.974747 | AM16: -50.459605 | AN16: -55.250523 | AO16: -55.38719 | AQ16: =SUM(D16:G16) -> -83.419 | AR16: =SUM(H16:K16) -> -108.077 | AS16: =SUM(L16:O16) -> -92.375717 | AT16: =SUM(P16:S16) -> -87.455 | AU16: =SUM(T16:W16) -> -92.829113 | AV16: =SUM(X16:AA16) -> -139.16359 | AW16: =SUM(AB16:AE16) -> -208.26579 | AX16: =SUM(AF16:AI16) -> -196.3389 | AY16: =SUM(AJ16:AM16) -> -194.01892 | AZ16: =SUM(AN16:AO16) -> -110.63771
C17: Depreciação e Amortização (IFRS 16) | D17: 0 | E17: 0 | F17: 0 | G17: 0 | H17: 0 | I17: 0 | J17: 0 | K17: 0 | L17: -40.573849 | M17: -40.046238 | N17: -40.031502 | O17: -39.982695 | P17: -40.312 | Q17: -40.639 | R17: -40.931 | S17: -41.251 | T17: -41.509 | U17: -41.400857 | V17: -48.970439 | W17: -53.948584 | X17: -54.061 | Y17: -53.474508 | Z17: -67.370071 | AA17: -73.259161 | AB17: -81.611691 | AC17: -79.627767 | AD17: -83.986184 | AE17: -73.771068 | AF17: -80.898621 | AG17: -79.529763 | AH17: -79.229819 | AI17: -82.131538 | AJ17: -81.760968 | AK17: -82.643077 | AL17: -83.532508 | AM17: -84.3931 | AN17: -84.391035 | AO17: -83.08021 | AQ17: =SUM(D17:G17) -> 0 | AR17: =SUM(H17:K17) -> 0 | AS17: =SUM(L17:O17) -> -160.63428 | AT17: =SUM(P17:S17) -> -163.133 | AU17: =SUM(T17:W17) -> -185.82888 | AV17: =SUM(X17:AA17) -> -248.16474 | AW17: =SUM(AB17:AE17) -> -318.99671 | AX17: =SUM(AF17:AI17) -> -321.78974 | AY17: =SUM(AJ17:AM17) -> -332.32965 | AZ17: =SUM(AN17:AO17) -> -167.47125
C18: Resultado Financeiro | D18: -32.278 | E18: -23.033 | F18: -20.842 | G18: -28.535 | H18: -27.852 | I18: -20.358 | J18: -36.289 | K18: -45.707 | L18: -36.663 | M18: -38.225 | N18: -14.291 | O18: -28.833 | P18: -39.475 | Q18: -40.519 | R18: -29.365 | S18: -28.686 | T18: -19.408 | U18: -18.304599 | V18: -20.308509 | W18: -22.400803 | X18: -40.523 | Y18: -45.837957 | Z18: -66.018285 | AA18: -103.34159 | AB18: -127.25204 | AC18: -129.16659 | AD18: -129.23732 | AE18: -100.93741 | AF18: -107.73108 | AG18: -93.31768 | AH18: -85.696108 | AI18: -92.364649 | AJ18: -106.06171 | AK18: -135.5281 | AL18: -129.81611 | AM18: -125.63704 | AN18: -112.3113 | AO18: -133.06062 | AQ18: =SUM(D18:G18) -> -104.688 | AR18: =SUM(H18:K18) -> -130.206 | AS18: =SUM(L18:O18) -> -118.012 | AT18: =SUM(P18:S18) -> -138.045 | AU18: =SUM(T18:W18) -> -80.421911 | AV18: =SUM(X18:AA18) -> -255.72083 | AW18: =SUM(AB18:AE18) -> -486.59336 | AX18: =SUM(AF18:AI18) -> -379.10952 | AY18: =SUM(AJ18:AM18) -> -497.04295 | AZ18: =SUM(AN18:AO18) -> -245.37192
C19: Juros de Arrendamento (IFRS 16) | D19: 0 | E19: 0 | F19: 0 | G19: 0 | H19: 0 | I19: 0 | J19: 0 | K19: 0 | L19: -33.319 | M19: -32.643 | N19: -31.468 | O19: -30.41 | P19: -29.491 | Q19: -29.142 | R19: -28.495 | S19: -28.01 | T19: -27.479 | U19: -27.021401 | V19: -30.749491 | W19: -34.988197 | X19: -34.278 | Y19: -34.453 | Z19: -40.745715 | AA19: -42.415453 | AB19: -47.480962 | AC19: -49.646407 | AD19: -47.419679 | AE19: -64.055587 | AF19: -49.554921 | AG19: -48.03932 | AH19: -47.247892 | AI19: -47.929351 | AJ19: -49.883295 | AK19: -49.184904 | AL19: -45.906889 | AM19: -44.17996 | AN19: -47.299703 | AO19: -47.03438 | AQ19: =SUM(D19:G19) -> 0 | AR19: =SUM(H19:K19) -> 0 | AS19: =SUM(L19:O19) -> -127.84 | AT19: =SUM(P19:S19) -> -115.138 | AU19: =SUM(T19:W19) -> -120.23809 | AV19: =SUM(X19:AA19) -> -151.89217 | AW19: =SUM(AB19:AE19) -> -208.60264 | AX19: =SUM(AF19:AI19) -> -192.77148 | AY19: =SUM(AJ19:AM19) -> -189.15505 | AZ19: =SUM(AN19:AO19) -> -94.334083
C20: Resultado Antes dos Tributos sobre o Lucro | D20: 2.482 | E20: 34.826 | F20: 35.825 | G20: -8.115 | H20: -7.791 | I20: -1.042 | J20: 5.036 | K20: 52.123 | L20: -53.953 | M20: -27.491 | N20: 38.348 | O20: 13.07 | P20: -5.959 | Q20: 7.467 | R20: 29.021 | S20: 38.07 | T20: 48.562 | U20: 80.983265 | V20: 28.505777 | W20: 15.278757 | X20: 3.849 | Y20: 46.383043 | Z20: 115.72837 | AA20: 63.261972 | AB20: -137.689 | AC20: -59.996 | AD20: -58.107 | AE20: -25.948 | AF20: -71.502 | AG20: 25.028 | AH20: 40.299 | AI20: 8.566 | AJ20: -15.242 | AK20: 44.849 | AL20: 75.278 | AM20: 70.09 | AN20: 32.282 | AO20: =SUM(AO15:AO19) -> 89.708 | AQ20: =SUM(AQ15:AQ19) -> 65.018 | AR20: =SUM(AR15:AR19) -> 48.326 | AS20: =SUM(AS15:AS19) -> -30.026 | AT20: =SUM(AT15:AT19) -> 68.599 | AU20: =SUM(AU15:AU19) -> 173.3298 | AV20: =SUM(AV15:AV19) -> 229.22238 | AW20: =SUM(AW15:AW19) -> -281.74 | AX20: =SUM(AX15:AX19) -> 2.391 | AY20: =SUM(AY15:AY19) -> 174.975 | AZ20: =SUM(AN20:AO20) -> 121.99
C21: Imposto de Renda e Contribuição Social | D21: 4.471 | E21: -4.441 | F21: -4.572 | G21: 21.094 | H21: 9.381 | I21: 5.701 | J21: 10.266 | K21: 19.299 | L21: 12.306791 | M21: 7.8089164 | N21: -2.8853115 | O21: -9.9590329 | P21: 12.109148 | Q21: -1.1161923 | R21: 8.864 | S21: -3.455 | T21: -7.363 | U21: -14.237714 | V21: -1.7688273 | W21: 2.375546 | X21: 16.401 | Y21: 3.96 | Z21: -34.568638 | AA21: 34.603219 | AB21: 69.592903 | AC21: 19.047509 | AD21: 31.428043 | AE21: 155.95927 | AF21: 31.209847 | AG21: 4.7630289 | AH21: -2.4968426 | AI21: 54.840674 | AJ21: 17.808964 | AK21: 3.1410838 | AL21: -1.4504583 | AM21: 57.505437 | AN21: 18.459487 | AO21: -19.18619 | AQ21: =SUM(D21:G21) -> 16.552 | AR21: =SUM(H21:K21) -> 44.647 | AS21: =SUM(L21:O21) -> 7.2713633 | AT21: =SUM(P21:S21) -> 16.401956 | AU21: =SUM(T21:W21) -> -20.993995 | AV21: =SUM(X21:AA21) -> 20.395581 | AW21: =SUM(AB21:AE21) -> 276.02773 | AX21: =SUM(AF21:AI21) -> 88.316707 | AY21: =SUM(AJ21:AM21) -> 77.005027 | AZ21: =SUM(AN21:AO21) -> -0.72670332
C22: Imposto de Renda e Contribuição Social (IFRS 16) | D22: 0 | E22: 0 | F22: 0 | G22: 0 | H22: 0 | I22: 0 | J22: 0 | K22: 0 | L22: 4.5652087 | M22: 4.1810836 | N22: 3.8253115 | O22: 3.2380329 | P22: 3.0538521 | Q22: 2.7931923 | R22: 2.268 | S22: 2.917 | T22: 2.969 | U22: 2.6107136 | V22: 3.1418273 | W22: 3.4004541 | X22: 3.185 | Y22: 3.2112433 | Z22: 3.2956384 | AA22: 3.7395377 | AB22: 5.1590974 | AC22: 3.6534907 | AD22: 2.879957 | AE22: -3.2452743 | AF22: 3.3191532 | AG22: 2.7399711 | AH22: 3.1678426 | AI22: 3.2133263 | AJ22: 2.5280356 | AK22: 2.3529162 | AL22: 2.1544583 | AM22: 1.9155626 | AN22: 1.3415133 | AO22: 0.69419002 | AQ22: =SUM(D22:G22) -> 0 | AR22: =SUM(H22:K22) -> 0 | AS22: =SUM(L22:O22) -> 15.809637 | AT22: =SUM(P22:S22) -> 11.032044 | AU22: =SUM(T22:W22) -> 12.121995 | AV22: =SUM(X22:AA22) -> 13.431419 | AW22: =SUM(AB22:AE22) -> 8.447271 | AX22: =SUM(AF22:AI22) -> 12.440293 | AY22: =SUM(AJ22:AM22) -> 8.9509727 | AZ22: =SUM(AN22:AO22) -> 2.0357033
C23: Participação minoritária | D23: 0 | E23: 0 | F23: 0 | G23: 0 | H23: 0 | I23: 0 | J23: 0 | K23: 0 | L23: 0 | M23: 0 | N23: 0 | O23: 0 | P23: 0 | Q23: 0 | R23: 0 | S23: 0 | T23: 0 | U23: 0 | V23: 0 | W23: 0 | X23: 0 | Y23: 0 | Z23: 0.3046308 | AA23: 0.3103692 | AB23: 0.095 | AC23: 0.192 | AD23: 0.14 | AE23: -0.646 | AF23: 0.097 | AG23: 0.083 | AH23: -0.072 | AI23: -0.157 | AJ23: -0.126 | AK23: -0.11 | AL23: -0.151 | AM23: -0.261 | AN23: 0.132 | AO23: -0.106 | AQ23: =SUM(D23:G23) -> 0 | AR23: =SUM(H23:K23) -> 0 | AS23: =SUM(L23:O23) -> 0 | AT23: =SUM(P23:S23) -> 0 | AU23: =SUM(T23:W23) -> 0 | AV23: =SUM(X23:AA23) -> 0.615 | AW23: =SUM(AB23:AE23) -> -0.219 | AX23: =SUM(AF23:AI23) -> -0.049 | AY23: =SUM(AJ23:AM23) -> -0.648 | AZ23: =SUM(AN23:AO23) -> 0.026
C24: Lucro Líquido | D24: 6.953 | E24: 30.385 | F24: 31.253 | G24: 12.979 | H24: 1.59 | I24: 4.659 | J24: 15.302 | K24: 71.422 | L24: -37.081 | M24: -15.501 | N24: 39.288 | O24: 6.349 | P24: 9.204 | Q24: 9.144 | R24: 40.153 | S24: 37.532 | T24: 44.168 | U24: 69.356265 | V24: 29.878777 | W24: 21.054757 | X24: 23.435 | Y24: 53.554286 | Z24: 84.76 | AA24: 101.9151 | AB24: -62.842 | AC24: -37.103 | AD24: -23.659 | AE24: 126.12 | AF24: -36.876 | AG24: 32.614 | AH24: 40.898 | AI24: 66.463 | AJ24: 4.969 | AK24: 50.233 | AL24: 75.831 | AM24: 129.25 | AN24: 52.215 | AO24: =SUM(AO20:AO23) -> 71.11 | AQ24: =SUM(AQ20:AQ23) -> 81.57 | AR24: =SUM(AR20:AR23) -> 92.973 | AS24: =SUM(AS20:AS23) -> -6.945 | AT24: =SUM(AT20:AT23) -> 96.033 | AU24: =SUM(AU20:AU23) -> 164.4578 | AV24: =SUM(AV20:AV23) -> 263.66438 | AW24: =SUM(AW20:AW23) -> 2.516 | AX24: =SUM(AX20:AX23) -> 103.099 | AY24: =SUM(AY20:AY23) -> 260.283 | AZ24: =SUM(AN24:AO24) -> 123.325
C26: EBITDA (ex. IFRS 16) | D26: =D15-D12 -> 52.965 | E26: =E15-E12 -> 77.998 | F26: =F15-F12 -> 78.082 | G26: =G15-G12 -> 44.08 | H26: =H15-H12 -> 45.07 | I26: =I15-I12 -> 46.425 | J26: =J15-J12 -> 69.669 | K26: =K15-K12 -> 125.445 | ... AO26: =AO15-AO12 -> 280.64536 | AQ26: =AQ15-AQ12 -> 253.125 | AR26: =AR15-AR12 -> 286.609 | AS26: =AS15-AS12 -> 226.73988 | AT26: =AT15-AT12 -> 326.545 | AU26: =AU15-AU12 -> 382.23371 | AV26: =AV15-AV12 -> 664.29326 | AW26: =AW15-AW12 -> 437.96407 | AX26: =AX15-AX12 -> 613.97599 | ... AZ26: =AZ15-AZ12 -> 484.92892
C27: Margem EBITDA (ex. IFRS 16) | D27: =D26/D$6 -> 0.034257562 | E27: =E26/E$6 -> 0.049793924 | F27: =F26/F$6 -> 0.048543122 | G27: =G26/G$6 -> 0.02781894 | H27: =H26/H$6 -> 0.029119803 | I27: =I26/I$6 -> 0.028298764 | J27: =J26/J$6 -> 0.040318712 | K27: =K26/K$6 -> 0.07459385 | ... AO27: =AO26/AO$6 -> 0.064619135 | AQ27: =AQ26/AQ$6 -> 0.040143284 | AR27: =AR26/AR$6 -> 0.043439171 | AS27: =AS26/AS$6 -> 0.033382858 | AT27: =AT26/AT$6 -> 0.044680479 | AU27: =AU26/AU$6 -> 0.047406645 | AV27: =AV26/AV$6 -> 0.067615182 | AW27: =AW26/AW$6 -> 0.03661644 | AX27: =AX26/AX$6 -> 0.045241988 | ... AZ27: =AZ26/AZ$6 -> 0.057142953
C28: Lucro líquido (ex. IFRS 16) | D28: =D24-D22-D19-D17-D12 -> 6.953 | E28: =E24-E22-E19-E17-E12 -> 30.385 | F28: =F24-F22-F19-F17-F12 -> 31.253 | G28: =G24-G22-G19-G17-G12 -> 12.979 | H28: =H24-H22-H19-H17-H12 -> 1.59 | I28: =I24-I22-I19-I17-I12 -> 4.659 | J28: =J24-J22-J19-J17-J12 -> 15.302 | K28: =K24-K22-K19-K17-K12 -> 71.422 | ... AO28: =AO24-AO22-AO19-AO17-AO12 -> 72.905363 | AQ28: =AQ24-AQ22-AQ19-AQ17-AQ12 -> 81.57 | AR28: =AR24-AR22-AR19-AR17-AR12 -> 92.973 | AS28: =AS24-AS22-AS19-AS17-AS12 -> 23.623523 | AT28: =AT24-AT22-AT19-AT17-AT12 -> 117.44696 | AU28: =AU24-AU22-AU19-AU17-AU12 -> 187.98869 | AV28: =AV24-AV22-AV19-AV17-AV12 -> 290.41943 | AW28: =AW24-AW22-AW19-AW17-AW12 -> 18.913644 | AX28: =AX24-AX22-AX19-AX17-AX12 -> 126.79528 | AY28: =AY24-AY22-AY19-AY17-AY12 -> 279.92695 | AZ28: =SUM(AN28:AO28) -> 128.21859
C29: Margem líquida (ex. IFRS 16) | D29: =D28/D$6 -> 0.0044971741 | E29: =E28/E$6 -> 0.019397784 | F29: =F28/F$6 -> 0.019429807 | G29: =G28/G$6 -> 0.0081910621 | H29: =H28/H$6 -> 0.0010273017 | I29: =I28/I$6 -> 0.0028399341 | J29: =J28/J$6 -> 0.0088555444 | K29: =K28/K$6 -> 0.042469943 | ... AO29: =AO28/AO$6 -> 0.0167866 | AQ29: =AQ28/AQ$6 -> 0.012936247 | AR29: =AR28/AR$6 -> 0.014091218 | AS29: =AS28/AS$6 -> 0.0034780857 | AT29: =AT28/AT$6 -> 0.016070025 | AU29: =AU28/AU$6 -> 0.023315351 | AV29: =AV28/AV$6 -> 0.029560382 | AW29: =AW28/AW$6 -> 0.0015812948 | AX29: =AX28/AX$6 -> 0.0093431515 | ... AZ29: =AZ28/AZ$6 -> 0.015108995

Sheet DRE Gerencial | Consolidado
B1: #VALUE!
C4: Demonstração do Resultado do Exercício (em R$ milhões) | D4: 1T17 | E4: 2T17 | F4: 3T17 | G4: 4T17 | H4: 1T18 | I4: 2T18 | J4: 3T18 | K4: 4T18 | L4: 1T19 | M4: 2T19 | N4: 3T19 | O4: 4T19 | P4: 1T20 | Q4: 2T20 | R4: 3T20 | S4: 4T20 | T4: 1T21 | U4: 2T21 | V4: 3T21 | W4: 4T21 | X4: 1T22 | Y4: 2T22 | Z4: 3T22 | AA4: 4T22 | AB4: 1T23 | AC4: 2T23 | AD4: 3T23 | AE4: 4T23 | AF4: 1T24 | AG4: 2T24 | AH4: 3T24 | AI4: 4T24 | AJ4: 1T25 | AK4: 2T25 | AL4: 3T25 | AM4: 4T25 | AN4: 1T26 | AO4: 2T26 | AQ4: 2017 | AR4: 2018 | AS4: 2019 | AT4: 2020 | AU4: 2021 | AV4: 2022 | AW4: 2023 | AX4: 2024 | AY4: 2025 | AZ4: 2026
C6: Receita Bruta | D6: 1546.082 | E6: 1566.416 | F6: 1608.508 | G6: 1584.532 | H6: 1547.744 | I6: 1640.531 | J6: 1727.957 | K6: 1681.707 | L6: 1619.865 | M6: 1683.564 | N6: 1743.819 | O6: 1744.857 | P6: 1763.223 | Q6: 1688.308 | R6: 1901.637 | S6: 1955.281 | T6: 1910.213 | U6: 2035.761 | V6: 2042.121 | W6: 2074.777 | X6: 2111.533 | Y6: 2210.379 | Z6: 2653.3769 | AA6: 2843.4319 | AB6: 2813.2243 | AC6: 3003.629 | AD6: 3081.941 | AE6: 3062.065 | AF6: 3095.062 | AG6: 3369.021 | AH6: 3511.16 | AI6: 3595.69 | AJ6: 3623.219 | AK6: 3975.173 | AL6: 4144.562 | AM6: 4306.143 | AN6: 4143.173 | AO6: ='DRE Contabil | Consolidado'!AO6 -> 4343.069 | AQ6: =SUM(D6:G6) -> 6305.538 | AR6: =SUM(H6:K6) -> 6597.939 | AS6: =SUM(L6:O6) -> 6792.105 | AT6: =SUM(P6:S6) -> 7308.449 | AU6: =SUM(T6:W6) -> 8062.872 | AV6: =SUM(X6:AA6) -> 9818.7208 | AW6: =SUM(AB6:AE6) -> 11960.859 | AX6: =SUM(AF6:AI6) -> 13570.933 | AY6: =SUM(AJ6:AM6) -> 16049.097 | AZ6: =SUM(AN6:AO6) -> 8486.242
C7: Deduções | D7: -84.959 | E7: -84.788 | F7: -88.957 | G7: -84.03 | H7: -71.871 | I7: -89.716 | J7: -97.411 | K7: -93.891 | L7: -90.411 | M7: -90.184 | N7: -102.689 | O7: -86.573 | P7: -99.336 | Q7: -104.841 | R7: -119.872 | S7: -125.908 | T7: -133.893 | U7: -139.038 | V7: -130.083 | W7: -131.148 | X7: -138.654 | Y7: -140.033 | Z7: -168.98408 | AA7: -183.17133 | AB7: -177.17136 | AC7: -166.924 | AD7: -202.452 | AE7: -196.508 | AF7: -212.562 | AG7: -230.19 | AH7: -239.856 | AI7: -246.5 | AJ7: -252.513 | AK7: -281.802 | AL7: -291.34 | AM7: -317.013 | AN7: -335.228 | AO7: ='DRE Contabil | Consolidado'!AO7 -> -355.892 | AQ7: =SUM(D7:G7) -> -342.734 | AR7: =SUM(H7:K7) -> -352.889 | AS7: =SUM(L7:O7) -> -369.857 | AT7: =SUM(P7:S7) -> -449.957 | AU7: =SUM(T7:W7) -> -534.162 | AV7: =SUM(X7:AA7) -> -630.84241 | AW7: =SUM(AB7:AE7) -> -743.05536 | AX7: =SUM(AF7:AI7) -> -929.108 | AY7: =SUM(AJ7:AM7) -> -1142.668 | AZ7: =SUM(AN7:AO7) -> -691.12
C8: Receita Líquida | D8: 1461.123 | E8: 1481.628 | F8: 1519.551 | G8: 1500.502 | H8: 1475.873 | I8: 1550.815 | J8: 1630.546 | K8: 1587.816 | L8: 1529.454 | M8: 1593.38 | N8: 1641.13 | O8: 1658.284 | P8: 1663.887 | Q8: 1583.467 | R8: 1781.765 | S8: 1829.373 | T8: 1776.32 | U8: 1896.723 | V8: 1912.038 | W8: 1943.629 | X8: 1972.879 | Y8: 2070.346 | Z8: 2484.3928 | AA8: 2660.2606 | AB8: 2636.0529 | AC8: 2836.705 | AD8: 2879.489 | AE8: 2865.557 | AF8: 2882.5 | AG8: 3138.831 | AH8: 3271.304 | AI8: 3349.19 | AJ8: 3370.706 | AK8: 3693.371 | AL8: 3853.222 | AM8: 3989.13 | AN8: 3807.945 | AO8: =AO6+AO7 -> 3987.177 | AQ8: =AQ6+AQ7 -> 5962.804 | AR8: =AR6+AR7 -> 6245.05 | AS8: =AS6+AS7 -> 6422.248 | AT8: =AT6+AT7 -> 6858.492 | AU8: =AU6+AU7 -> 7528.71 | AV8: =AV6+AV7 -> 9187.8784 | AW8: =AW6+AW7 -> 11217.804 | AX8: =AX6+AX7 -> 12641.825 | AY8: =AY6+AY7 -> 14906.429 | AZ8: =SUM(AN8:AO8) -> 7795.122
C9: Custo das Mercadorias Vendidas | D9: -1009.911 | E9: -1001.142 | F9: -1031.204 | G9: -1048.307 | H9: -1010.34 | I9: -1051.251 | J9: -1102.286 | K9: -1066.047 | L9: -1053.355 | M9: -1071.188 | N9: -1135.248 | O9: -1108.133 | P9: -1156.401 | Q9: -1088.595 | R9: -1238.291 | S9: -1254.538 | T9: -1207.307 | U9: -1266.428 | V9: -1307.448 | W9: -1326.964 | X9: -1347.688 | Y9: -1374.026 | Z9: -1705.0489 | AA9: -1805.6409 | AB9: -1818.6019 | AC9: -1906.101 | AD9: -1975.683 | AE9: -1972.183 | AF9: -1978.947 | AG9: -2115.639 | AH9: -2239.106 | AI9: -2282.017 | AJ9: -2329.656 | AK9: -2473.802 | AL9: -2615.062 | AM9: -2724.811 | AN9: -2587.718 | AO9: ='DRE Contabil | Consolidado'!AO9 -> -2659.508 | AQ9: =SUM(D9:G9) -> -4090.564 | AR9: =SUM(H9:K9) -> -4229.924 | AS9: =SUM(L9:O9) -> -4367.924 | AT9: =SUM(P9:S9) -> -4737.825 | AU9: =SUM(T9:W9) -> -5108.147 | AV9: =SUM(X9:AA9) -> -6232.4038 | AW9: =SUM(AB9:AE9) -> -7672.5689 | AX9: =SUM(AF9:AI9) -> -8615.709 | AY9: =SUM(AJ9:AM9) -> -10143.331 | AZ9: =SUM(AN9:AO9) -> -5247.226
C10: Lucro Bruto | D10: 451.212 | E10: 480.486 | F10: 488.347 | G10: 452.195 | H10: 465.533 | I10: 499.564 | J10: 528.26 | K10: 521.769 | L10: 476.099 | M10: 522.192 | N10: 505.882 | O10: 550.151 | P10: 507.486 | Q10: 494.872 | R10: 543.474 | S10: 574.835 | T10: 569.013 | U10: 630.295 | V10: 604.59 | W10: 616.665 | X10: 625.191 | Y10: 696.32 | Z10: 779.34392 | AA10: 854.61967 | AB10: 817.451 | AC10: 930.604 | AD10: 903.806 | AE10: 893.374 | AF10: 903.553 | AG10: 1023.192 | AH10: 1032.198 | AI10: 1067.173 | AJ10: 1041.05 | AK10: 1219.569 | AL10: 1238.16 | AM10: 1264.319 | AN10: 1220.227 | AO10: =AO8+AO9 -> 1327.669 | AQ10: =AQ8+AQ9 -> 1872.24 | AR10: =AR8+AR9 -> 2015.126 | AS10: =AS8+AS9 -> 2054.324 | AT10: =AT8+AT9 -> 2120.667 | AU10: =AU8+AU9 -> 2420.563 | AV10: =AV8+AV9 -> 2955.4746 | AW10: =AW8+AW9 -> 3545.235 | AX10: =AX8+AX9 -> 4026.116 | ... AZ10: =AZ8+AZ9 -> 2547.896
C11: Despesas com Vendas | D11: -352.92 | E11: -355.721 | F11: -363.96 | G11: -332.651 | H11: -381.162 | I11: -416.744 | J11: -408.674 | K11: -383.277 | L11: -410.13366 | M11: -401.98521 | N11: -413.77417 | O11: -410.35608 | P11: -400.875 | Q11: -374.985 | R11: -401.375 | S11: -420.611 | T11: -420.24 | U11: -440.80451 | V11: -455.33083 | W11: -474.24272 | X11: -477.09738 | Y11: -493.93041 | Z11: -594.34491 | AA11: -639.64483 | AB11: -674.83805 | AC11: -696.16165 | AD11: -688.02979 | AE11: -691.64266 | AF11: -717.70147 | AG11: -755.75156 | AH11: -756.65442 | AI11: -794.45119 | AJ11: -798.57863 | AK11: -861.37488 | AL11: -871.84358 | AM11: -904.31755 | AN11: -905.85431 | AO11: ='DRE Contabil | Consolidado'!AO11+AO35+AO39 -> -924.24088 | AQ11: =SUM(D11:G11) -> -1405.252 | AR11: =SUM(H11:K11) -> -1589.857 | AS11: =SUM(L11:O11) -> -1636.2491 | AT11: =SUM(P11:S11) -> -1597.846 | AU11: =SUM(T11:W11) -> -1790.6181 | AV11: =SUM(X11:AA11) -> -2205.0175 | AW11: =SUM(AB11:AE11) -> -2750.6722 | AX11: =SUM(AF11:AI11) -> -3024.5586 | AY11: =SUM(AJ11:AM11) -> -3436.1146 | AZ11: =SUM(AN11:AO11) -> -1830.0952
C12: Pagamentos de Arrendamento (IFRS 16) | D12: 0 | E12: 0 | F12: 0 | G12: 0 | H12: 0 | I12: 0 | J12: 0 | K12: 0 | L12: 60.465659 | M12: 60.392213 | N12: 60.248173 | O12: 60.990077 | P12: 60.821 | Q12: 61.566 | R12: 62.756 | S12: 60.682 | T12: 60.256 | U12: 60.743374 | V12: 70.479261 | W12: 78.935446 | X12: 78.971708 | Y12: 78.482806 | Z12: 97.73947 | AA12: 104.67597 | AB12: 113.91884 | AC12: 118.52861 | AD12: 122.9354 | AE12: 117.0532 | AF12: 120.69133 | AG12: 119.51034 | AH12: 117.61305 | AI12: 120.60993 | AJ12: 121.2948 | AK12: 122.32225 | AL12: 123.43612 | AM12: 125.83661 | AN12: 127.251 | AO12: ='DRE Contabil | Consolidado'!AO12 -> 127.62504 | AQ12: =SUM(D12:G12) -> 0 | AR12: =SUM(H12:K12) -> 0 | AS12: =SUM(L12:O12) -> 242.09612 | AT12: =SUM(P12:S12) -> 245.825 | AU12: =SUM(T12:W12) -> 270.41408 | AV12: =SUM(X12:AA12) -> 359.86996 | AW12: =SUM(AB12:AE12) -> 472.43605 | AX12: =SUM(AF12:AI12) -> 478.42465 | AY12: =SUM(AJ12:AM12) -> 492.88978 | AZ12: =SUM(AN12:AO12) -> 254.87603
C13: Margem de Contribuição | D13: 98.292 | E13: 124.765 | F13: 124.387 | G13: 119.544 | H13: 84.371 | I13: 82.82 | J13: 119.586 | K13: 138.492 | L13: 126.431 | M13: 180.599 | N13: 152.356 | O13: 200.785 | P13: 167.432 | Q13: 181.453 | R13: 204.855 | S13: 214.906 | T13: 209.029 | U13: 250.23387 | V13: 219.73843 | W13: 221.35773 | X13: 227.06533 | Y13: 280.87239 | Z13: 282.73849 | AA13: 319.65081 | AB13: 256.53178 | AC13: 352.97096 | AD13: 338.71161 | AE13: 318.78454 | AF13: 306.54286 | AG13: 386.95078 | AH13: 393.15662 | AI13: 393.33174 | AJ13: 363.76617 | AK13: 480.51637 | AL13: 489.75254 | AM13: 485.83806 | AN13: 441.62369 | AO13: =SUM(AO10:AO12) -> 531.05316 | AQ13: =SUM(AQ10:AQ12) -> 466.988 | AR13: =SUM(AR10:AR12) -> 425.269 | AS13: =SUM(AS10:AS12) -> 660.171 | AT13: =SUM(AT10:AT12) -> 768.646 | AU13: =SUM(AU10:AU12) -> 900.35902 | AV13: =SUM(AV10:AV12) -> 1110.327 | AW13: =SUM(AW10:AW12) -> 1266.9989 | AX13: =SUM(AX10:AX12) -> 1479.982 | ... AZ13: =SUM(AZ10:AZ12) -> 972.67685
C14: Despesas Gerais e Administrativas | D14: -45.327 | E14: -46.767 | F14: -39.686 | G14: -56.22 | H14: -39.301 | I14: -36.395 | J14: -41.042 | K14: -66.906 | L14: -39.115 | M14: -43.183 | N14: -29.952 | O14: -46.76 | P14: -42.02 | Q14: -41.797 | R14: -55.397 | S14: -57.062 | T14: -49.686 | U14: -57.952764 | V14: -59.291513 | W14: -62.406078 | X14: -64.709737 | Y14: -70.329605 | Z14: -83.286239 | AA14: -87.204438 | AB14: -88.025748 | AC14: -81.504602 | AD14: -71.970692 | AE14: -77.105151 | AF14: -88.988722 | AG14: -90.524053 | AH14: -84.853279 | AI14: -108.71054 | AJ14: -92.135731 | AK14: -114.14155 | AL14: -106.2474 | AM14: -109.73677 | AN14: -109.70438 | AO14: ='DRE Contabil | Consolidado'!AO14+AO38 -> -121.70474 | AQ14: =SUM(D14:G14) -> -188 | AR14: =SUM(H14:K14) -> -183.644 | AS14: =SUM(L14:O14) -> -159.01 | AT14: =SUM(P14:S14) -> -196.276 | AU14: =SUM(T14:W14) -> -229.33635 | AV14: =SUM(X14:AA14) -> -305.53002 | AW14: =SUM(AB14:AE14) -> -318.60619 | AX14: =SUM(AF14:AI14) -> -373.0766 | AY14: =SUM(AJ14:AM14) -> -422.26145 | AZ14: =SUM(AN14:AO14) -> -231.40912
