Workbook

Sheet Menu
B9: Painel de Resultados Financeiros e Operacionais | Financial and Operational Results Dashboard*
C32: Escolha aqui o idioma das informações / Select the language for the information here: | K32: PT
B35: * As informações contidas nesta planilha têm caráter meramente informativo, com base em dados históricos e públicos disponíveis até a presente data.
B36: Este material não deve ser interpretado como indicativo de desempenho futuro, tampouco como projeção ou orientação por parte da Companhia.
B37: Resultados futuros podem divergir em função de diversos fatores de risco e incertezas inerentes ao ambiente de negócios.
B39: * The information contained in this spreadsheet is for informational purposes only, based on historical and publicly available data as of the current date.
B40: This material should not be interpreted as indicative of future performance, nor as a projection or guidance by the Company.
B41: Future results may differ due to various risk factors and uncertainties inherent to the business environment.

Sheet Indicadores Op. | Op. Indicator
B7: =IF(Menu!$K$32="EN",Data!A3,Data!B3) -> RESULTADOS OPERACIONAIS | C7: =IF(Menu!$K$32="EN",Data!AR3,Data!AR4) -> 1T20 | D7: =IF(Menu!$K$32="EN",Data!AQ3,Data!AQ4) -> 2T20 | E7: =IF(Menu!$K$32="EN",Data!AP3,Data!AP4) -> 3T20 | F7: =IF(Menu!$K$32="EN",Data!AO3,Data!AO4) -> 4T20 | G7: =IF(Menu!$K$32="EN",Data!AN3,Data!AN4) -> 2020 | H7: =IF(Menu!$K$32="EN",Data!AM3,Data!AM4) -> 1T21 | I7: =IF(Menu!$K$32="EN",Data!AL3,Data!AL4) -> 2T21 | J7: =IF(Menu!$K$32="EN",Data!AK3,Data!AK4) -> 3T21 | K7: =IF(Menu!$K$32="EN",Data!AJ3,Data!AJ4) -> 4T21 | L7: =IF(Menu!$K$32="EN",Data!AI3,Data!AI4) -> 2021 | M7: =IF(Menu!$K$32="EN",Data!AH3,Data!AH4) -> 1T22 | N7: =IF(Menu!$K$32="EN",Data!AG3,Data!AG4) -> 2T22 | O7: =IF(Menu!$K$32="EN",Data!AF3,Data!AF4) -> 3T22 | P7: =IF(Menu!$K$32="EN",Data!AE3,Data!AE4) -> 4T22 | Q7: =IF(Menu!$K$32="EN",Data!AD3,Data!AD4) -> 2022 | R7: =IF(Menu!$K$32="EN",Data!AC3,Data!AC4) -> 1T23 | S7: =IF(Menu!$K$32="EN",Data!AB3,Data!AB4) -> 2T23 | T7: =IF(Menu!$K$32="EN",Data!AA3,Data!AA4) -> 3T23 | U7: =IF(Menu!$K$32="EN",Data!Z3,Data!Z4) -> 4T23 | V7: =IF(Menu!$K$32="EN",Data!Y3,Data!Y4) -> 2023 | W7: =IF(Menu!$K$32="EN",Data!X3,Data!X4) -> 1T24 | X7: =IF(Menu!$K$32="EN",Data!W3,Data!W4) -> 2T24 | Y7: =IF(Menu!$K$32="EN",Data!V3,Data!V4) -> 3T24 | Z7: =IF(Menu!$K$32="EN",Data!U3,Data!U4) -> 4T24 | AA7: =IF(Menu!$K$32="EN",Data!T3,Data!T4) -> 2024 | AB7: =IF(Menu!$K$32="EN",Data!S3,Data!S4) -> 1T25 | AC7: =IF(Menu!$K$32="EN",Data!R3,Data!R4) -> 2T25 | AD7: =IF(Menu!$K$32="EN",Data!Q3,Data!Q4) -> 3T25 | AE7: 4T25 | AF7: 2025 | AG7: 1T26 | AH7: 2T26 | AI7: 3T26
B8: =IF(Menu!$K$32="EN",Data!A5,Data!B5) -> Vendas
B9: =IF(Menu!$K$32="EN",Data!A6,Data!B6) -> Vendas Contratadas Brutas (R$ mil) | C9: 228773.69 | D9: 179688.14 | E9: 251381.94 | F9: 301372.91 | G9: 961216.68 | H9: 359862.55 | I9: 401015.39 | J9: 360455.28 | K9: 336676.03 | L9: 1458009.3 | M9: 398225.56 | N9: 405450.74 | O9: 461420.48 | P9: 542108.21 | Q9: 1807205 | R9: 592292.52 | S9: 659270.73 | T9: 746322.61 | U9: 1366140.8 | V9: 3364026.7 | W9: 732233.74 | X9: 911645.16 | Y9: 1393617.6 | Z9: 833726.19 | AA9: 3871222.7 | AB9: 928969.44 | AC9: 998837.53 | AD9: =1111369058/1000 -> 1111369.1 | AE9: 1599284 | AF9: 4638460 | AG9: 941386 | AH9: 977147 | AI9: 1035620.8
B10: =IF(Menu!$K$32="EN",Data!A7,Data!B7) -> Vendas Contratadas Brutas (Unidades) | C10: 1316 | D10: 1030 | E10: 1388 | F10: 1667 | G10: 5401 | H10: 2057 | I10: 2223 | J10: 1936 | K10: 1803 | L10: 8019 | M10: 2087 | N10: 2089 | O10: 2324 | P10: 2700 | Q10: 9200 | R10: 2809 | S10: 3063 | T10: 3450 | U10: 6547 | V10: 15869 | W10: 3045 | X10: 3907 | Y10: 6295 | Z10: 3615 | AA10: 16862 | AB10: 3948 | AC10: 3570 | AD10: 4025 | AE10: 6240 | AF10: 17783 | AG10: 3536 | AH10: 3601 | AI10: 3799
B11: =IF(Menu!$K$32="EN",Data!A8,Data!B8) -> Distratos (R$ mil) | C11: 17673.861 | D11: 25291.224 | E11: 26746.189 | F11: 17054.649 | G11: 86765.924 | H11: 24680.14 | I11: 40103.775 | J11: 34004.707 | K11: 32147.003 | L11: 130935.62 | M11: 26683.294 | N11: 25932.501 | O11: 40949.11 | P11: 23572.201 | Q11: 117137.11 | R11: 45543.425 | S11: 80394.848 | T11: 108546.64 | U11: 58683.64 | V11: 293168.55 | W11: 138663.68 | X11: 114703.28 | Y11: 113835.96 | Z11: 126582.57 | AA11: 493785.49 | AB11: 73653.91 | AC11: 104553.09 | AD11: =91171705/1000 -> 91171.705 | AE11: 51766 | AF11: 321144.71 | AG11: 99544 | AH11: 60520.867 | AI11: 260352.6
B12: =IF(Menu!$K$32="EN",Data!A9,Data!B9) -> Distratos (Unidades) | C12: 104 | D12: 150 | E12: 156 | F12: 97 | G12: 507 | H12: 141 | I12: 236 | J12: 195 | K12: 185 | L12: 757 | M12: 147 | N12: 139 | O12: 211 | P12: 118 | Q12: 615 | R12: 226 | S12: 388 | T12: 518 | U12: 279 | V12: 1411 | W12: 640 | X12: 513 | Y12: 494 | Z12: 551 | AA12: 2198 | AB12: 321 | AC12: 465 | AD12: 384 | AE12: 216 | AF12: 1386 | AG12: 400 | AH12: 250 | AI12: 1012
B13: =IF(Menu!$K$32="EN",Data!A10,Data!B10) -> Vendas Líquidas 100% Plano&Plano (R$ mil) | C13: 211099.83 | D13: 154396.91 | E13: 224635.75 | F13: 284318.26 | G13: 874450.75 | H13: 335182.41 | I13: 360911.62 | J13: 326450.57 | K13: 304529.03 | L13: 1327073.6 | M13: 371542.27 | N13: 379518.24 | O13: 420471.37 | P13: 518536.01 | Q13: 1690067.9 | R13: 546749.1 | S13: 578875.88 | T13: 637775.97 | U13: 1307457.2 | V13: 3070858.1 | W13: 593570.06 | X13: 796941.89 | Y13: 1279781.7 | Z13: 707143.62 | AA13: 3377437.2 | AB13: 855315.53 | AC13: 894284.44 | AD13: =AD9-AD11 -> 1020197.4 | AE13: 1547518 | AF13: 4317315.3 | AG13: 841843 | AH13: 916626.13 | AI13: 775268.2
B14: =IF(Menu!$K$32="EN",Data!A11,Data!B11) -> Vendas Líquidas 100% Plano&Plano (Unid.) | C14: 1212 | D14: 880 | E14: 1232 | F14: 1570 | G14: 4894 | H14: 1916 | I14: 1987 | J14: 1741 | K14: 1618 | L14: 7262 | M14: 1940 | N14: 1950 | O14: 2113 | P14: 2582 | Q14: 8585 | R14: 2583 | S14: 2675 | T14: 2932 | U14: 6268 | V14: 14458 | W14: 2405 | X14: =X10-X12 -> 3394 | Y14: =Y10-Y12 -> 5801 | Z14: 3064 | AA14: 14664 | AB14: 3627 | AC14: 3105 | AD14: 3641 | AE14: 6024 | AF14: 16397 | AG14: 3136 | AH14: 3351 | AI14: 2787
B15: =IF(Menu!$K$32="EN",Data!A12,Data!B12) -> Vendas Líquidas % Plano&Plano (R$ mil) | C15: 206814.43 | D15: 150011.56 | E15: 217955.07 | F15: 278408.32 | G15: 853189.38 | H15: 328724.3 | I15: 357115.38 | J15: 322256.4 | K15: 299073.86 | L15: 1307170 | M15: 365118.88 | N15: 370389.62 | O15: 414683.37 | P15: 510234.92 | Q15: 1660426.8 | R15: 521338.18 | S15: 547306.1 | T15: 612337.93 | U15: 1144100.5 | V15: 2825082.7 | W15: 544278.63 | X15: 745987.45 | Y15: 1216240.8 | Z15: 653094.21 | AA15: 3159601.1 | AB15: 769448.8 | AC15: 773137.06 | AD15: =929469042/1000 -> 929469.04 | AE15: 1472235 | AF15: 3944289.9 | AG15: 795994 | AH15: 828308.34 | AI15: 722389.8
B16: =IF(Menu!$K$32="EN",Data!A13,Data!B13) -> Preço Venda Médio (R$ mil / unid.) | C16: 174.17478 | D16: 175.45104 | E16: 182.33421 | F16: 181.09443 | G16: 178.67813 | H16: 174.93863 | I16: 181.63645 | J16: 187.50751 | K16: 188.21325 | L16: 182.74217 | M16: 191.51663 | N16: 194.62474 | O16: 198.9926 | P16: 200.82727 | Q16: 196.86289 | R16: 211.67212 | S16: 216.4022 | T16: 217.5225 | U16: 208.5924 | V16: =V13/V14 -> 212.39854 | W16: 246.80668 | X16: 234.80904 | Y16: 220.61398 | Z16: 230.791 | AA16: 230.32169 | AB16: 235.81901 | AC16: 288.01431 | AD16: =AD13/AD14 -> 280.19702 | AE16: 256.8921 | AF16: 263.2991 | AG16: 268.4 | AH16: 273.53809 | AI16: 278.17302
B17: =IF(Menu!$K$32="EN",Data!A14,Data!B14) -> % Distratos (R$ mil) / Vendas Brutas (R$ mil) | C17: 0.077254779 | D17: 0.14075066 | E17: 0.10639662 | F17: 0.056589855 | G17: 0.09026677 | H17: 0.068582129 | I17: 0.10000557 | J17: 0.094338212 | K17: 0.095483491 | L17: 0.089804385 | M17: 0.067005477 | N17: 0.063959683 | O17: 0.088745758 | P17: 0.043482465 | Q17: 0.064816723 | R17: 0.076893466 | S17: 0.12194512 | T17: =T11/T9 -> 0.14544198 | U17: =U11/U9 -> 0.042955778 | V17: =V11/V9 -> 0.087148106 | W17: =W11/W9 -> 0.18937079 | X17: =X11/X9 -> 0.12582009 | Y17: =Y11/Y9 -> 0.081683781 | Z17: =Z11/Z9 -> 0.15182751 | AA17: =AA11/AA9 -> 0.12755285 | ... AD17: =AD11/AD9 -> 0.08203549 | AE17: 0.032368235 | AF17: 0.0692352 | AG17: 0.106 | AH17: 0.061936297 | AI17: 0.25139761
B20: =IF(Menu!$K$32="EN",Data!A17,Data!B17) -> Lançamentos (fases)
B21: =IF(Menu!$K$32="EN",Data!A18,Data!B18) -> Lançamentos (fases) | C21: 2 | D21: 3 | E21: 8 | F21: 7 | G21: 20 | H21: 2 | I21: 8 | J21: 8 | K21: 10 | L21: 28 | M21: 3 | N21: 5 | O21: 6 | P21: 8 | Q21: 22 | R21: 5 | S21: 6 | T21: 5 | U21: 12 | V21: 28 | W21: 4 | X21: 11 | Y21: 8 | Z21: 7 | AA21: 30 | AB21: 5 | AC21: 3 | AD21: 9 | AE21: 4 | AF21: 21 | AG21: 4 | AH21: 5 | AI21: 5
B22: =IF(Menu!$K$32="EN",Data!A19,Data!B19) -> VGV 100% Plano&Plano (R$ mil) | C22: 123375.07 | D22: 248775.11 | E22: 532589.78 | F22: 528373.91 | G22: 1433113.9 | H22: 102518.4 | I22: 353717.2 | J22: 440433.57 | K22: 565366.5 | L22: 1462035.7 | M22: 267610.95 | N22: 394135.66 | O22: 423809.68 | P22: 719724.08 | Q22: 1805280.4 | R22: 530100.45 | S22: 588860.88 | T22: 527706 | U22: 1697004.3 | V22: 3343671.7 | W22: 465429.05 | X22: 1063824.4 | Y22: 1076402 | Z22: 1261747.7 | AA22: 3867403.2 | AB22: 1178134 | AC22: 1400847.2 | AD22: =2141806478/1000 -> 2141806.5 | AE22: 616932 | AF22: 5337719.7 | AG22: 986094.43 | AH22: 826004.85 | AI22: 1069922.6
B23: =IF(Menu!$K$32="EN",Data!A20,Data!B20) -> Unidades | C23: 750 | D23: 1155 | E23: 2898 | F23: 2959 | G23: 7762 | H23: 573 | I23: 1873 | J23: 2032 | K23: 2707 | L23: 7185 | M23: 1388 | N23: 1962 | O23: 1920 | P23: 3458 | Q23: 8728 | R23: 2302 | S23: 2642 | T23: 1698 | U23: 6904 | V23: 13546 | W23: 1814 | X23: 4620 | Y23: 4196 | Z23: 5597 | AA23: 16227 | AB23: 4301 | AC23: 2749 | AD23: 8436 | AE23: 2315 | AF23: 17801 | AG23: 3663 | AH23: 3138 | AI23: 3819
B24: =IF(Menu!$K$32="EN",Data!A21,Data!B21) -> Preço Venda Médio (R$ mil / unid.) | C24: 164.5001 | D24: 215.38971 | E24: 183.77839 | F24: 178.56502 | G24: 184.63204 | H24: 178.91519 | I24: 188.85062 | J24: 216.7488 | K24: 208.85353 | L24: 203.48444 | M24: 192.80328 | N24: 200.88464 | O24: 220.73421 | P24: 208.13305 | Q24: 206.8378 | R24: 230.27821 | S24: 222.88451 | T24: 310.78092 | U24: 245.80017 | V24: 246.8383 | W24: 256.5761 | X24: 230.26503 | Y24: 256.5305 | Z24: 225.43286 | AA24: 238.33137 | AB24: 273.92095 | AC24: 509.58429 | AD24: =AD22/AD23 -> 253.88887 | AE24: 266.4933 | AF24: 299.85505 | AG24: 270.1 | AH24: 263.22653 | AI24: 280.15778
B25: =IF(Menu!$K$32="EN",Data!A22,Data!B22) -> Média de Unidades por Lanç. | C25: 375 | D25: 385 | E25: 362.25 | F25: 422.71429 | G25: 388.1 | H25: 286.5 | I25: 234.125 | J25: 254 | K25: 270.7 | L25: 256.60714 | M25: 462.66667 | N25: 392.4 | O25: 320 | P25: 432.25 | Q25: 396.72727 | R25: 451.2 | S25: 428 | T25: 305.8 | U25: 565.41667 | V25: 483.78571 | W25: 453.5 | X25: 420 | Y25: 524.5 | Z25: =Z23/Z21 -> 799.57143 | AA25: 540.9 | AB25: 860.2 | AC25: 916.33333 | AD25: =AD23/AD21 -> 937.33333 | AE25: 578.75 | AF25: 847.66667 | AG25: 916 | AH25: 627.6 | AI25: 763.8
B26: =IF(Menu!$K$32="EN",Data!A23,Data!B23) -> VGV % Plano&Plano (R$ mil) | C26: 123375.07 | D26: 248764.65 | E26: 532589.78 | F26: 506362.59 | G26: 1411092.1 | H26: 102518.4 | I26: 353717.2 | J26: 440433.57 | K26: 565366.5 | L26: 1462035.7 | M26: 267610.95 | N26: 357891.8 | O26: 423809.68 | P26: 658283.06 | Q26: 1707595.5 | R26: 440145.05 | S26: 588860.88 | T26: 485018.09 | U26: 1432295.1 | V26: 2946319.2 | W26: 418136.6 | X26: 1042789.8 | Y26: 956913.12 | Z26: 1286619.5 | AA26: 3704459 | AB26: 855857.74 | AC26: 1187966.7 | AD26: =AD22 -> 2141806.5 | AE26: 607207 | AF26: 4792838 | AG26: 833629 | AH26: 781430.05 | AI26: 1012616.6
B27: =IF(Menu!$K$32="EN",Data!A24,Data!B24) -> Participação % Plano&Plano | C27: 1 | D27: 0.99995794 | E27: 1 | F27: 0.9583414 | G27: 0.98463361 | H27: 1 | I27: 1 | J27: 1 | K27: 1 | L27: 1 | M27: 1 | N27: 0.90804217 | O27: 1 | P27: 0.91463254 | Q27: 0.94588936 | R27: 0.830305 | S27: 1 | T27: 0.91910664 | U27: 0.84401383 | V27: 0.88116282 | W27: 0.89838957 | X27: 0.98022731 | Y27: 0.88899234 | Z27: 1.0197122 | AA27: 0.95786729 | AB27: 0.72645195 | AC27: 0.84803448 | AD27: =AD26/AD22 -> 1 | AE27: 0.98423651 | AF27: 0.89791863 | AG27: 0.843 | AH27: 0.94603567 | AI27: 0.94643911
B30: =IF(Menu!$K$32="EN",Data!A27,Data!B27) -> Estoque*
B31: =IF(Menu!$K$32="EN",Data!A28,Data!B28) -> Estoque VGV 100% Plano&Plano (R$ mil) | C31: 1164295.4 | D31: 1283080 | E31: 1617813.6 | F31: 1924929.3 | G31: 1924929.3 | H31: 1700886.4 | I31: 1743993.4 | J31: 1845005.5 | K31: 2095455 | L31: 2095455 | M31: =1831788313/1000 -> 1831788.3 | N31: =1951382172/1000 -> 1951382.2 | O31: =2020216958/1000 -> 2020217 | P31: 2253040 | Q31: 2253040 | R31: 2238058.5 | S31: 2265840.5 | T31: =2086555795/1000 -> 2086555.8 | U31: =2478995431/1000 -> 2478995.4 | V31: =2478995431/1000 -> 2478995.4 | W31: 2335432.8 | X31: 2581312.5 | Y31: =2316136155.7099/1000 -> 2316136.2 | Z31: 2903944.4 | AA31: 2903944.4 | AB31: 3273508.6 | AC31: 3814681.2 | AD31: =4925363025/1000 -> 4925363 | AE31: 3895610.8 | AF31: 3895610.8 | AG31: 3896491 | AH31: =3828325409/1000 -> 3828325.4 | AI31: 4176027.3
B32: =IF(Menu!$K$32="EN",Data!A29,Data!B29) -> Estoque (Unidades) | C32: 6246 | D32: 6521 | E32: 8190 | F32: 9580 | G32: 9580 | H32: 8237 | I32: 8115 | J32: 8392 | K32: 9477 | L32: 9477 | M32: 8860 | N32: 8875 | O32: 8679 | P32: 9448 | Q32: 9448 | R32: 9122 | S32: 9089 | T32: 7756 | U32: 8273 | V32: 8273 | W32: 7611 | X32: 8827 | Y32: 7285 | Z32: 9812 | AA32: 9812 | AB32: 10524 | AC32: 10180 | AD32: 14947 | AE32: 11238 | AF32: 11238 | AG32: 11765 | AH32: 11490 | AI32: 12426
B33: =IF(Menu!$K$32="EN",Data!A30,Data!B30) -> % Em Construção (unidades) | C33: 0.99183477 | D33: 0.97623064 | E33: 0.97631258 | F33: 0.98162839 | G33: 0.98162839 | H33: 0.9929586 | I33: 0.99605669 | J33: 0.99392278 | K33: 0.98997573 | L33: 0.98997573 | M33: 0.97505643 | N33: 0.97892958 | O33: 0.97419057 | P33: 0.99068586 | Q33: 0.99068586 | R33: 0.94981 | S33: 0.98509534 | T33: 0.95731786 | U33: 0.958 | V33: 0.958 | W33: 0.973 | X33: 0.99433556 | Y33: 0.99673027 | Z33: 0.9978 | AA33: 0.9978 | AB33: 0.97843025 | AC33: 0.98693517 | AD33: 0.99230615 | AE33: 0.995 | AF33: 0.995 | AG33: 0.988 | AH33: 0.97711053 | AI33: 0.96603895
B34: =IF(Menu!$K$32="EN",Data!A31,Data!B31) -> % Pronto (unidades) | C34: 0.0081652257 | D34: 0.023769361 | E34: 0.023687424 | F34: 0.018371608 | G34: 0.018371608 | H34: 0.0070413986 | I34: 0.0039433148 | J34: 0.0060772164 | K34: 0.010024269 | L34: 0.010024269 | M34: 0.024943567 | N34: 0.021070423 | O34: 0.025809425 | P34: 0.0093141406 | Q34: 0.0093141406 | R34: 0.050190002 | S34: 0.014904659 | T34: 0.042682141 | U34: 0.042 | V34: 0.042 | W34: 0.027 | X34: 0.0056644387 | Y34: 0.003269733 | Z34: 0.0022 | AA34: 0.0022 | AB34: 0.021569745 | AC34: 0.013064833 | AD34: =100%-AD33 -> 0.0076938516 | AE34: 0.005 | AF34: 0.005 | AG34: 0.012 | AH34: 0.022889469 | AI34: 0.033961049
B37: =IF(Menu!$K$32="EN",Data!A34,Data!B34) -> VSO*
B38: =IF(Menu!$K$32="EN",Data!A35,Data!B35) -> VSO Líquido 100% - Últimos 12 meses | C38: 0.399 | D38: 0.392 | E38: 0.37 | F38: 0.327 | G38: 0.327 | H38: 0.38754626 | I38: 0.43052935 | J38: 0.43001667 | K38: 0.39235943 | L38: 0.39235943 | M38: 0.41165206 | N38: 0.40685156 | O38: 0.42382516 | P38: 0.43473746 | Q38: 0.43473746 | R38: 0.47957496 | S38: 0.49221304 | T38: 0.5285231 | U38: 0.55829653 | V38: 0.55829653 | W38: 0.57187053 | X38: 0.560379 | Y38: 0.6226736 | Z38: 0.53 | AA38: 0.53 | AB38: 0.526 | AC38: 0.497 | AD38: 0.4187 | AE38: 0.5233 | AF38: 0.5233 | AG38: 0.5112 | AH38: 0.518 | AI38: 0.4855
B39: =IF(Menu!$K$32="EN",Data!A36,Data!B36) -> VSO Líquido Mercado Privado - Últimos 12 meses | C39: 0.399 | D39: 0.392 | E39: 0.37 | F39: 0.327 | G39: 0.327 | H39: 0.38754626 | I39: 0.43052935 | J39: 0.43001667 | K39: 0.39235943 | L39: 0.39235943 | M39: 0.41165206 | N39: 0.40685156 | O39: 0.42382516 | P39: 0.43473746 | Q39: 0.43473746 | R39: 0.47957496 | S39: 0.49221304 | T39: 0.5285231 | U39: 0.49474929 | V39: 0.49474929 | W39: 0.50964616 | X39: 0.50256848 | Y39: 0.54712112 | Z39: 0.50179055 | AA39: 0.50179055 | AB39: 0.49868512 | AC39: 0.4701 | AD39: 0.4187 | AE39: 0.5201 | AF39: 0.5201 | AG39: 0.5079 | AH39: 0.5142 | AI39: 0.4821

Sheet Data
A2: OPERACIONAIS | B2: OPERACIONAIS | C2: DRE | D2: DRE | E2: BALANÇO | F2: BALANÇO | G2: DFC | H2: DFC
A3: OPERATIONAL RESULT | B3: RESULTADOS OPERACIONAIS | C3: INCOME STATEMENT - CONSOLIDATED | D3: DEMONSTRAÇÃO DE RESULTADO - CONSOLIDADO | E3: BALANCE SHEET - CONSOLIDATED | F3: BALANÇO PATRIMONIAL - CONSOLIDADO | G3: CASH FLOW - CONSOLIDATED | H3: FLUXO DE CAIXA - CONSOLIDADO | O3: 2025 | P3: 4Q25 | Q3: 3Q25 | R3: 2Q25 | S3: 1Q25 | T3: 2024 | U3: 4Q24 | V3: 3Q24 | W3: 2Q24 | X3: 1Q24 | Y3: 2023 | Z3: 4Q23 | AA3: 3Q23 | AB3: 2Q23 | AC3: 1Q23 | AD3: 2022 | AE3: 4Q22 | AF3: 3Q22 | AG3: 2Q22 | AH3: 1Q22 | AI3: 2021 | AJ3: 4Q21 | AK3: 3Q21 | AL3: 2Q21 | AM3: 1Q21 | AN3: 2020 | AO3: 4Q20 | AP3: 3Q20 | AQ3: 2Q20 | AR3: 1Q20 | AS3: 2019 | AT3: 4Q19 | AU3: 3Q19 | AV3: 2Q19 | AW3: 1Q19 | AX3: 2018 | AY3: 4Q18 | AZ3: 3Q18 | BA3: 2Q18 | BB3: 1Q18 | BC3: 2017 | BD3: 4Q17 | BE3: 3Q17 | BF3: 2Q17 | BG3: 1Q17
C4: (in BRL thousand, except %) | D4: (Valores em R$ mil) | O4: 2025 | P4: 4T25 | Q4: 3T25 | R4: 2T25 | S4: 1T25 | T4: 2024 | U4: 4T24 | V4: 3T24 | W4: 2T24 | X4: 1T24 | Y4: 2023 | Z4: 4T23 | AA4: 3T23 | AB4: 2T23 | AC4: 1T23 | AD4: 2022 | AE4: 4T22 | AF4: 3T22 | AG4: 2T22 | AH4: 1T22 | AI4: 2021 | AJ4: 4T21 | AK4: 3T21 | AL4: 2T21 | AM4: 1T21 | AN4: 2020 | AO4: 4T20 | AP4: 3T20 | AQ4: 2T20 | AR4: 1T20 | AS4: 2019 | AT4: 4T19 | AU4: 3T19 | AV4: 2T19 | AW4: 1T19 | AX4: 2018 | AY4: 4T18 | AZ4: 3T18 | BA4: 2T18 | BB4: 1T18 | BC4: 2017 | BD4: 4T17 | BE4: 3T17 | BF4: 2T17 | BG4: 1T17
A5: Sales | B5: Vendas | C5: Net Revenue | D5: Receita líquida | G5: Cash Flow from Operating Activities | H5: Fluxo de caixa das atividades operacionais
A6: Gross Contracted Sales (BRL thousand) | B6: Vendas Contratadas Brutas (R$ mil) | C6: COSTS OF PROPERTIES SOLD AND SERVICES RENDERED | D6: Custos dos imóveis vendidos e dos serviços prestados | E6: ASSET (in BRL thousand, except %) | F6: ATIVO
A7: Gross Contracted Sales (Units) | B7: Vendas Contratadas Brutas (Unidades) | C7: GROSS PROFIT | D7: Lucro bruto | E7: CURRENT ASSESTS | F7: Ativo circulante | G7: Earning before income tax and social contribution | H7: Resultado antes da contribuição social e imposto de renda | R7: PT | S7: 3Q24 | T7: 2Q24 | U7: 1Q24 | V7: 4Q23 | W7: 3Q23 | X7: 2Q23 | Y7: 1Q23 | Z7: 4Q22 | AA7: 3Q22 | AB7: 2Q22 | AC7: 1Q22 | AD7: 4Q21 | AE7: 3Q21 | AF7: 2Q21 | AG7: 1Q21 | AH7: 4Q20 | AI7: 3Q20 | AJ7: 2Q20 | AK7: 1Q20 | AL7: 4Q19 | AM7: 4Q18 | AN7: 4Q17
A8: Cancellations (BRL thousands) | B8: Distratos (R$ mil) | C8: Gross Margin | D8: Margem bruta | E8: Cash and ash equivalents | F8: Caixa e equivalentes de caixa | R8: EN | S8: 3T24 | T8: 2T24 | U8: 1T24 | V8: 4T23 | W8: 3T23 | X8: 2T23 | Y8: 1T23 | Z8: 4T22 | AA8: 3T22 | AB8: 2T22 | AC8: 1T22 | AD8: 4T21 | AE8: 3T21 | AF8: 2T21 | AG8: 1T21 | AH8: 4T20 | AI8: 3T20 | AJ8: 2T20 | AK8: 1T20 | AL8: 4T19 | AM8: 4T18 | AN8: 4T17
A9: Cancellations (Units) | B9: Distratos (Unidades) | E9: Restricted financial investments | F9: Aplicações financeiras com restrições | G9: Adjustments to reconcile exercise results with resources from operational activities: | H9: Ajustes para reconciliar o resultado do exercício com recursos provenientes de atividades operacionais:
A10: Net Sales 100% Plano&Plano (BRL thousand) | B10: Vendas Líquidas 100% Plano&Plano (R$ mil) | C10: Commercial expenses | D10: Despesas comerciais | E10: Accounts receivable | F10: Contas a receber | G10: Deferred taxes on revenues | H10: Tributos diferidos sobre as receitas
A11: Net Sales 100% Plano&Plano (Units) | B11: Vendas Líquidas 100% Plano&Plano (Unid.) | C11: Administrative expenses | D11: Despesas gerais e administrativas | E11: Properties to be commercialized | F11: Imóveis a comercializar | G11: Depreciation and amortization | H11: Depreciação e amortização
A12: Net Sales % Plano&Plano (BRL thousand) | B12: Vendas Líquidas % Plano&Plano (R$ mil) | C12: Equity Income Result | D12: Resultado da equivalência patrimonial | E12: Recoverable taxes | F12: Tributos a recuperar | G12: Amortização de stand de vendas | H12: Depreciação de estandes de vendas | R12: Resultados Operacionais
A13: Average Ticket (BRL thousand / Units) | B13: Preço Venda Médio (R$ mil / unid.) | C13: Other net operational revenues (expenses) | D13: Outras receitas (despesas) operacionais líquidas | E13: Other receivables | F13: Outros créditos | G13: Amortization right-of-use assets | H13: Depreciação de direito e uso | R13: Operating Results
A14: Cancellations / Gross Sales (%) | B14: % Distratos (R$ mil) / Vendas Brutas (R$ mil) | C14: OPERATIONAL EXPENSES | D14: Despesas (receitas) operacionais | E14: NON-CURRENT ASSETS | F14: Ativo não circulante | G14: Amortization rents | H14: Amortização de arrendamentos
E15: Financial Investments | F15: Aplicações financeiras | G15: Equity Income Result | H15: Resultado de equivalência patrimonial
C16: EBIT | D16: Resultado antes das receitas (despesas) financeiras e impostos | E16: Accounts receivable | F16: Contas a receber | G16: Other results from investments | H16: Outros resultados em investimentos
A17: Launches | B17: Lançamentos (fases) | E17: Properties to be commercialized | F17: Imóveis a comercializar | G17: Financial charges on loans and financing | H17: Encargos financeiros sobre empréstimos e financiamentos
A18: Launchs (phases) | B18: Lançamentos (fases) | C18: Financial revenues | D18: Receitas financeiras | E18: Recoverable taxes | F18: Tributos a recuperar | G18: Financial charges (CRI) | H18: Encargos financeiros sobre CRI
A19: PSV 100% Plano&Plano (BRL thousand) | B19: VGV 100% Plano&Plano (R$ mil) | C19: Financial expenses | D19: Despesas financeiras | E19: Related Parties | F19: Partes relacionadas | G19: Financial charges on leases | H19: Encargos financeiros sobre arrendamentos
A20: Units | B20: Unidades | C20: FINANCIAL REVENUE (EXPENSES) | D20: Receitas (despesas) financeiras | E20: Investments | F20: Investimentos | G20: Recognition of stock option plan | H20: Reconhecimento de plano de ações
A21: Average Ticket (BRL thousand / Units) | B21: Preço Venda Médio (R$ mil / unid.) | E21: Right-of-use assets | F21: Ativos de direito de uso | G21: Reversal (Provision) for cancellation | H21: Reversão (Provisão) para distrato
A22: Average Units by Launch | B22: Média de Unidades por Lanç. | C22: EBITDA | D22: Resultado antes da contribuição social e imposto de renda | E22: Fixed assets | F22: Imobilizado | G22: Compensation revenue for cancellation | H22: Receita de indenização por distrato
A23: PSV % Plano&Plano (BRL thousand) | B23: VGV % Plano&Plano (R$ mil) | E23: Intangible | F23: Intangível | G23: Provision for cancellation in costs | H23: Provisão para distratos em custos
A24: Share % Plano&Plano | B24: Participação % Plano&Plano | C24: Income tax and social contributions - current | D24: Imposto de renda e contribuição social - corrente | E24: TOTAL ASSETS | F24: Total do ativo | G24: Provision for expected loss on credit risk | H24: Provisão para perda esperada para risco de crédito
C25: Income tax and social contributions - deferred | D25: Imposto de renda e contribuição social - diferido | E25: LIABILITIES (in BRL thousand, except %) | F25: PASSIVO | G25: Present value adjustment on accounts receivable | H25: Ajuste a valor presente em clientes
E26: CURRENT LIABILITIES | F26: Passivo circulante | G26: Provision for warranty | H26: Provisões diversas
A27: Inventory* | B27: Estoque* | C27: Net Income 100% | D27: Lucro líquido 100% | E27: Loans and financing | F27: Empréstimos e financiamentos | G27: Provision for bonuses and gratuities | H27: Provisão para prêmios e gratificações
A28: Inventory PSV 100% Plano&Plano (BRL million) | B28: Estoque VGV 100% Plano&Plano (R$ mil) | E28: Assignment of rights over receivables | F28: Cessão de recebíveis | G28: Real Estate Receivables Certificate (CRI) | H28: Certificado de Recebíveis Imobiliários - CRI | I28: Provision for Real Estate Transfer Tax (ITBI) | J28: Provisão de ITBI
A29: Inventory (Units) | B29: Estoque (Unidades) | C29: Net Margin 100% | D29: Margem Líquida 100% | E29: Derivative Financial Instruments | F29: Instrumetos financeiros derivativos | G29: Provision for contingencies | H29: Provisão para contingências
A30: Units Under Construction / Total Units Avaiable (%) | B30: % Em Construção (unidades) | E30: Suppliers | F30: Fornecedores | G30: Premium/Discount on Land Acquisition | H30: Ágio/deságio na compra de terrenos
A31: Delivered Units / Total Units Avaiable (%) | B31: % Pronto (unidades) | C31: Attributed to: | D31: Atribuível a: | E31: Real Estate acquisition payable | F31: Credores a pagar por aquisição de imóveis | G31: MTM Swap (Marked-to-Market Swap) | H31: MTM Swap (Marked-to-Market Swap)
E32: Employment and Social Security Liabilities | F32: Obrigações trabalhistas e sociais | G32: Fair value adjustment for swap transactions | H32: Ajuste ao valor justo operações de swap
C33: Net income %P&P | D33: Acionistas controladores %P&P | E33: Tax obligations | F33: Obrigações tributárias
A34: SOS* | B34: VSO* | C34: Net income non-controlling partners | D34: Acionistas não controladores | E34: Advance from customers | F34: Adiantamentos de clientes | G34: Decrease (increase) in assets: | H34: Redução (aumento) nos ativos:
A35: SOS 100% - Last 12 Months | B35: VSO Líquido 100% - Últimos 12 meses | C35: Net Margin %P&P | D35: Margem Líquida %P&P | E35: Deferred taxes and contributions | F35: Impostos e contribuições diferidos | G35: Account receivable | H35: Contas a receber
A36: SOS Private Market - Last 12 Months | B36: VSO Líquido Mercado Privado - Últimos 12 meses | C36: Result to be appropriated | D36: Resultado a apropriar (REF) | E36: Related Parties | F36: Partes relacionadas | G36: Properties to be commercialized | H36: Imóveis a comercializar
C37: Revenues to be appropriated | D37: Receitas de vendas a apropriar | E37: Warranty provision | F37: Provisões diversas | G37: Recoverable taxes | H37: Tributos a recuperar
A38: * Some historical information is unavailable | B38: * Alguma informações do histórico da Companhia não estão disponíveis | C38: (-) Projected cost of pre-sold units | D38: (-) Custo orçados de unidades vendidas | E38: Provision for cancellations | F38: Provisão para distratos | G38: Other receivables | H38: Outros créditos
C39: (=) result from pre-sales of real estate units to be appropriated | D39: (=) Resultado de vendas de imóveis a apropriar | E39: Provision for ITBI | F39: Dividendos a pagar
C40: Gross Margin of the Result to be Appropriated | D40: Margem Bruta REF | E40: Dividends payable | F40: Arrendamentos a pagar | G40: Increase (decrease) in liabilities | H40: Aumento (redução) nos passivos:
E41: Rents payable | F41: Outras contas a pagar | G41: Suppliers | H41: Fornecedores
...

Sheet DRE | IS
B7: =IF(Menu!$K$32="PT",Data!D3,Data!C3) -> DEMONSTRAÇÃO DE RESULTADO - CONSOLIDADO | C7: ='Indicadores Op. | Op. Indicator'!C7 -> 1T20 | D7: ='Indicadores Op. | Op. Indicator'!D7 -> 2T20 | E7: ='Indicadores Op. | Op. Indicator'!E7 -> 3T20 | F7: ='Indicadores Op. | Op. Indicator'!F7 -> 4T20 | G7: ='Indicadores Op. | Op. Indicator'!G7 -> 2020 | H7: ='Indicadores Op. | Op. Indicator'!H7 -> 1T21 | I7: ='Indicadores Op. | Op. Indicator'!I7 -> 2T21 | J7: ='Indicadores Op. | Op. Indicator'!J7 -> 3T21 | ... AD7: ='Indicadores Op. | Op. Indicator'!AD7 -> 3T25 | AE7: 4T25 | AF7: 2025 | AG7: 1T26 | AH7: 2T26
B8: =IF(Menu!$K$32="PT",Data!D4,Data!C4) -> (Valores em R$ mil)
B9: =IF(Menu!$K$32="PT",Data!D5,Data!C5) -> Receita líquida | C9: 197491 | D9: 198046 | E9: 230326 | F9: 275089 | G9: 900952 | H9: 312261 | I9: 332832 | J9: 327959 | K9: 298208 | L9: 1271260 | M9: 316067 | N9: 339382 | O9: 400412 | P9: 436344 | Q9: 1492205 | R9: 390173.15 | S9: 485500 | T9: 556729 | U9: 639621 | V9: 2072023.1 | W9: 500528 | X9: 697552 | Y9: 718894 | Z9: 672423 | AA9: 2589397 | AB9: 608288 | AC9: 783815 | AD9: 814415 | AE9: 1075189 | AF9: 3281707 | AG9: 738328 | AH9: 914786
B10: =IF(Menu!$K$32="PT",Data!D6,Data!C6) -> Custos dos imóveis vendidos e dos serviços prestados | C10: -122473 | D10: -125973 | E10: -146698 | F10: -174192 | G10: -569336 | H10: -206561 | I10: -232386 | J10: -224821 | K10: -210723 | L10: -874491 | M10: -228463 | N10: -250861 | O10: -283421 | P10: -299539 | Q10: -1062284 | R10: -249484 | S10: -311376 | T10: -378304 | U10: -429543 | V10: -1368707 | W10: -334060 | X10: -467931 | Y10: -480867 | Z10: -450160 | AA10: -1733018 | AB10: -408600 | AC10: -520759 | AD10: -566289 | AE10: -765932 | AF10: -2261580 | AG10: -536991 | AH10: -661686
B11: =IF(Menu!$K$32="PT",Data!D7,Data!C7) -> Lucro bruto | C11: 75018 | D11: 72073 | E11: 83628 | F11: 100897 | G11: 331616 | H11: 105700 | I11: 100446 | J11: 103138 | K11: 87485 | L11: 396769 | M11: 87604 | N11: 88521 | O11: 116991 | P11: 136805 | Q11: 429921 | R11: 140689 | S11: 174124 | T11: 178425 | U11: 210078 | V11: 703316 | W11: 166468 | X11: 229621 | Y11: 238027 | Z11: 222263 | AA11: 856379 | AB11: 199688 | AC11: 263056 | AD11: 248126 | AE11: 309257 | AF11: 1020127 | AG11: 201337 | AH11: =SUM(AH9:AH10) -> 253100
B12: =IF(Menu!$K$32="PT",Data!D8,Data!C8) -> Margem bruta | C12: 0.37985528 | D12: 0.3639205 | E12: 0.36308537 | F12: 0.36677948 | G12: 0.36807288 | H12: 0.33849888 | I12: 0.3017919 | J12: 0.31448443 | K12: 0.29336906 | L12: 0.31210689 | M12: 0.27716908 | N12: 0.26082998 | O12: 0.29217656 | P12: 0.31352557 | Q12: 0.28811122 | R12: 0.36058094 | S12: 0.35864882 | T12: 0.32048807 | U12: 0.32844137 | V12: 0.33943443 | W12: 0.33258479 | X12: 0.32918119 | Y12: 0.33110166 | Z12: 0.33054045 | AA12: 0.33072526 | AB12: 0.32827871 | AC12: 0.33560981 | AD12: 0.305 | AE12: =AE11/AE9 -> 0.28763036 | AF12: =AF11/AF9 -> 0.31085255 | AG12: =AG11/AG9 -> 0.27269317 | AH12: =AH11/AH9 -> 0.27667673
B14: =IF(Menu!$K$32="PT",Data!D10,Data!C10) -> Despesas comerciais | C14: -32217 | D14: -22147 | E14: -30478 | F14: -34003 | G14: -118845 | H14: -33032 | I14: -46459 | J14: -38015 | K14: -32372 | L14: -149878 | M14: -33478 | N14: -39921 | O14: -44862 | P14: -39899 | Q14: -158160 | R14: -49374 | S14: -58465 | T14: -58586 | U14: -68751 | V14: -235176 | W14: -54754 | X14: -60801 | Y14: -71827 | Z14: -57722 | AA14: -245104 | AB14: -53820 | AC14: -68807 | AD14: -84504 | AE14: -80855 | AF14: -287986 | AG14: -73473 | AH14: -98037
B15: =IF(Menu!$K$32="PT",Data!D11,Data!C11) -> Despesas gerais e administrativas | C15: -16249 | D15: -12506 | E15: -10089 | F15: -20372 | G15: -59216 | H15: -15721 | I15: -25743 | J15: -16393 | K15: -21743 | L15: -79600 | M15: -21150 | N15: -21101 | O15: -24761 | P15: -22110 | Q15: -89122 | R15: -27591 | S15: -28144 | T15: -29208 | U15: -33177 | V15: -118120 | W15: -36114 | X15: -38345 | Y15: -38180 | Z15: -41320 | AA15: -153959 | AB15: -41835 | AC15: -50640 | AD15: -45233 | AE15: -47021 | AF15: -184729 | AG15: -46069 | AH15: -50614
B16: =IF(Menu!$K$32="PT",Data!D12,Data!C12) -> Resultado da equivalência patrimonial | C16: 0 | D16: 0 | E16: -1316 | F16: 0 | G16: 0 | H16: 0 | I16: 1 | J16: 0 | K16: -3 | L16: -2 | M16: -3 | N16: 1 | O16: -3 | P16: -459 | Q16: -464 | R16: 0 | S16: -195 | T16: -146 | U16: -132 | V16: -473 | W16: 0 | X16: -248 | Y16: 0 | Z16: -1872 | AA16: -2120 | AB16: -94 | AC16: -755 | AD16: -234 | AE16: 0 | AF16: -1083 | AG16: 0 | AH16: -151
B17: =IF(Menu!$K$32="PT",Data!D13,Data!C13) -> Outras receitas (despesas) operacionais líquidas | C17: -1760 | D17: -281 | E17: -1519 | F17: 1830 | G17: -3046 | H17: -1506 | I17: -346 | J17: -533 | K17: -1144 | L17: -3529 | M17: -4139 | N17: -2694 | O17: -4196 | P17: -9273 | Q17: -20302 | R17: -15059 | S17: -4964 | T17: -806 | U17: -8185 | V17: -29014 | W17: -18373 | X17: -11463 | Y17: 26666.939 | Z17: -4296 | AA17: -7465.0612 | AB17: -7946 | AC17: -12350 | AD17: 163 | AE17: -11167 | AF17: -31300 | AG17: -12065 | AH17: -1635
B18: =IF(Menu!$K$32="PT",Data!D14,Data!C14) -> Despesas (receitas) operacionais | C18: -50226 | D18: -34934 | E18: -43402 | F18: -52545 | G18: -181107 | H18: -50259 | I18: -72547 | J18: -54941 | K18: -55262 | L18: -233009 | M18: -58770 | N18: -63715 | O18: -73822 | P18: -71741 | Q18: -268048 | R18: -92024 | S18: -91768 | T18: -88746 | U18: -110245 | V18: -382783 | W18: -109241 | X18: -110857 | Y18: -83340.061 | Z18: -105210 | AA18: -408648.06 | AB18: -103695 | AC18: -132552 | AD18: -129808 | AE18: -139043 | AF18: -505098 | AG18: -131607 | AH18: =SUM(AH14:AH17) -> -150437
B20: =IF(Menu!$K$32="PT",Data!D16,Data!C16) -> Resultado antes das receitas (despesas) financeiras e impostos | C20: 24792 | D20: 37139 | E20: 40226 | F20: 48352 | G20: 150509 | H20: 55441 | I20: 27899 | J20: 48197 | K20: 32223 | L20: 163760 | M20: 28834 | N20: 24806 | O20: 43169 | P20: 65064 | Q20: 161873 | R20: 48665 | S20: 82356 | T20: 89679 | U20: 99833 | V20: 320533 | W20: 57227 | X20: 118764 | Y20: 154686.94 | Z20: 117053 | AA20: 447730.94 | AB20: 95993 | AC20: 130504 | AD20: 118318 | AE20: 170214 | AF20: 515029 | AG20: 69730 | AH20: =SUM(AH18,AH11) -> 102663
B22: =IF(Menu!$K$32="PT",Data!D18,Data!C18) -> Receitas financeiras | C22: 4887 | D22: 2663 | E22: 1041 | F22: 13637 | G22: 6376 | H22: 1324 | I22: 1128 | J22: 1559 | K22: 3402 | L22: 7413 | M22: 5494 | N22: 7485 | O22: 8658 | P22: 7175 | Q22: 28812 | R22: 11630 | S22: 6219 | T22: 10350 | U22: 8690 | V22: 36889 | W22: 10577 | X22: 7077 | Y22: 13260 | Z22: 46059 | AA22: 76973 | AB22: 22403 | AC22: 21632 | AD22: 26395 | AE22: 33608 | AF22: 104038 | AG22: 31890 | AH22: 31557
B23: =IF(Menu!$K$32="PT",Data!D19,Data!C19) -> Despesas financeiras | C23: -4303 | D23: -7692 | E23: -3010 | F23: -5545 | G23: -4698 | H23: -727 | I23: -4107 | J23: -2950 | K23: -1492 | L23: -9276 | M23: -4375 | N23: -6040 | O23: -7414 | P23: -6535 | Q23: -24364 | R23: -6749 | S23: -7530 | T23: -9626 | U23: -8979 | V23: -32884 | W23: -6754 | X23: -7542 | Y23: -19764 | Z23: -44297 | AA23: -78357 | AB23: -20718 | AC23: -27634 | AD23: -26854 | AE23: -34899 | AF23: -110105 | AG23: -36551 | AH23: -39823
B24: =IF(Menu!$K$32="PT",Data!D20,Data!C20) -> Receitas (despesas) financeiras | C24: 584 | D24: -5029 | E24: -1969 | F24: 8092 | G24: 1678 | H24: 597 | I24: -2979 | J24: -1391 | K24: 1910 | L24: -1863 | M24: 1119 | N24: 1445 | O24: 1244 | P24: 640 | Q24: 4448 | R24: 4881 | S24: -1311 | T24: 724 | U24: -289 | V24: 4005 | W24: 3823 | X24: -465 | Y24: -6504 | Z24: 1762 | AA24: -1384 | AB24: 1685 | AC24: -6002 | AD24: -459 | AE24: -1291 | AF24: -6067 | AG24: -4661 | AH24: =SUM(AH22:AH23) -> -8266
B26: =IF(Menu!$K$32="PT",Data!D22,Data!C22) -> Resultado antes da contribuição social e imposto de renda | C26: 25376 | D26: 32110 | E26: 38257 | F26: 56444 | G26: 152187 | H26: 56038 | I26: 24920 | J26: 46806 | K26: 34133 | L26: 161897 | M26: 29953 | N26: 26251 | O26: 44413 | P26: 65704 | Q26: 166321 | R26: 53546 | S26: 81045 | T26: 90403 | U26: 99544 | V26: 324538 | W26: 61050 | X26: 118299 | Y26: 148182.94 | Z26: 118815 | AA26: 446346.94 | AB26: 97678 | AC26: 124502 | AD26: 117859 | AE26: 168923 | AF26: 508962 | AG26: 65069 | AH26: =SUM(AH24,AH20) -> 94397
B28: =IF(Menu!$K$32="PT",Data!D24,Data!C24) -> Imposto de renda e contribuição social - corrente | C28: -4167 | D28: -3453 | E28: -5254 | F28: -5993 | G28: -18867 | H28: -4224 | I28: -7893 | J28: -6526 | K28: -7230 | L28: -25873 | M28: -6717 | N28: -7070 | O28: -8538 | P28: -7660 | Q28: -29985 | R28: -7802 | S28: -9341 | T28: -11966 | U28: -12888 | V28: -41997 | W28: -10669 | X28: -13393 | Y28: -12995 | Z28: -14895 | AA28: -51952 | AB28: -14747 | AC28: -19784 | AD28: -22055 | AE28: -20361 | AF28: -76947 | AG28: -18859 | AH28: -25549
B29: =IF(Menu!$K$32="PT",Data!D25,Data!C25) -> Imposto de renda e contribuição social - diferido | C29: -811 | D29: 290 | E29: 397 | F29: -992 | G29: -1116 | H29: -1808 | I29: 569 | J29: -217 | K29: 516 | L29: -940 | M29: -1211 | N29: 153 | O29: -1341 | P29: -1371 | Q29: -3770 | R29: -2489 | S29: -1457 | T29: -739 | U29: -941 | V29: -5626 | W29: -702 | X29: -1002 | Y29: -1699 | Z29: -427 | AA29: -3830 | AB29: -2103 | AC29: -1901 | AD29: -586 | AE29: -4725 | AF29: -9315 | AG29: -2084 | AH29: -1522
B31: =IF(Menu!$K$32="PT",Data!D27,Data!C27) -> Lucro líquido 100% | C31: 20398 | D31: 28947 | E31: 33400 | F31: 49459 | G31: 132204 | H31: 50006 | I31: 17596 | J31: 40063 | K31: 27419 | L31: 135084 | M31: 22025 | N31: 19334 | O31: 34534 | P31: 56673 | Q31: 132566 | R31: 43255 | S31: 70247 | T31: 77698 | U31: 85715 | V31: 276915 | W31: 49679 | X31: 103904 | Y31: 133488.94 | Z31: 103493 | AA31: 390564.94 | AB31: 80828 | AC31: 102817 | AD31: 95218 | AE31: 143837 | AF31: 422700 | AG31: 44126 | AH31: =SUM(AH26:AH29) -> 67326
B33: =IF(Menu!$K$32="PT",Data!D29,Data!C29) -> Margem Líquida 100% | C33: 0.10328572 | D33: 0.14616301 | E33: 0.14501185 | F33: 0.17979272 | G33: 0.14673812 | H33: 0.16014168 | I33: 0.052867513 | J33: 0.12215856 | K33: 0.09194589 | L33: 0.10625993 | M33: 0.069684592 | N33: 0.056968254 | O33: 0.086246166 | P33: 0.12988147 | Q33: 0.088839 | R33: 0.11086104 | S33: 0.14469001 | T33: 0.13956162 | U33: 0.13400905 | V33: 0.13364474 | W33: 0.099253189 | X33: 0.1489552 | Y33: 0.18568654 | Z33: 0.15391056 | AA33: 0.15083239 | AB33: 0.13287785 | AC33: 0.13117509 | AD33: =AD31/AD9 -> 0.11691582 | AE33: =AE31/AE9 -> 0.13377834 | AF33: =AF31/AF9 -> 0.12880492 | AG33: =AG31/AG9 -> 0.059764766 | AH33: =AH31/AH9 -> 0.073597541
B34: =IF(Menu!$K$32="PT",Data!D31,Data!C31) -> Atribuível a:
B35: =IF(Menu!$K$32="PT",Data!D33,Data!C33) -> Acionistas controladores %P&P | C35: 20395 | D35: 28950 | E35: 33399 | F35: 49460 | G35: 132204 | H35: 50006 | I35: 17596 | J35: 40062 | K35: 27422 | L35: 135086 | M35: 22026 | N35: 19334 | O35: 34534 | P35: 57785 | Q35: 133679 | R35: 40766 | S35: 68974 | T35: 75732 | U35: 83082 | V35: 268554 | W35: 41496.771 | X35: 95293 | Y35: 119419.94 | Z35: 87614 | AA35: 343823.71 | AB35: 66937.02 | AC35: 83539.45 | AD35: 78146 | AE35: 133387 | AF35: 362009.47 | AG35: 40804 | AH35: 52972
B36: =IF(Menu!$K$32="PT",Data!D34,Data!C34) -> Acionistas não controladores | C36: -3 | D36: 3 | E36: -1 | F36: 1 | G36: 0 | H36: 0 | I36: 0 | J36: -1 | K36: 3 | L36: 2 | M36: 1 | N36: 0 | O36: 0 | P36: 1112 | Q36: 1113 | R36: -2489 | S36: -1273 | T36: -1966 | U36: -2633 | V36: -8361 | W36: -8182.2287 | X36: -8611 | Y36: -14069 | Z36: -15879 | AA36: -46741.229 | AB36: -13890.98 | AC36: -19277.55 | AD36: -17072 | AE36: -10450 | AF36: -60690.53 | AG36: -3322 | AH36: -14354
B37: =IF(Menu!$K$32="PT",Data!D35,Data!C35) -> Margem Líquida %P&P | C37: 0.10327053 | D37: 0.14617816 | E37: 0.14500751 | F37: 0.17979636 | G37: 0.14673812 | H37: 0.16014168 | I37: 0.052867513 | J37: 0.12215551 | K37: 0.09195595 | L37: 0.1062615 | M37: 0.069687756 | N37: 0.056968254 | O37: 0.086246166 | P37: 0.13242992 | Q37: 0.089584876 | R37: 0.10448182 | S37: 0.14206797 | T37: 0.13603028 | U37: 0.12989255 | V37: 0.12960956 | W37: 0.082905994 | X37: 0.1366106 | Y37: 0.1661162 | Z37: 0.13029596 | AA37: 0.13278138 | AB37: 0.11004166 | AC37: 0.10658057 | AD37: 0.096 | AE37: 0.124 | AF37: =AF31/AF9 -> 0.12880492 | AG37: 0.055 | AH37: =AH35/AH9 -> 0.057906439
B39: =IF(Menu!$K$32="PT",Data!D36,Data!C36) -> Resultado a apropriar (REF)
B40: =IF(Menu!$K$32="PT",Data!D37,Data!C37) -> Receitas de vendas a apropriar | C40: 221304 | D40: 233151 | E40: 202794 | F40: 231276 | G40: 231276 | H40: 261019 | I40: 313248 | J40: 297261 | K40: 295929 | L40: 295929 | M40: 357850 | N40: 391244 | O40: 381629 | P40: 503847 | Q40: 503847 | R40: 676782 | S40: 764156 | T40: 871182 | U40: 1449824 | V40: 1449824 | W40: 1595302 | X40: 1710743 | Y40: =2282043868.76225/1000 -> 2282043.9 | Z40: 2254028 | AA40: 2254028 | AB40: 2529310 | AC40: 2681127 | AD40: 2849113 | AE40: 3374501 | AF40: 11434051 | AG40: 3438426 | AH40: 3443085.5
B41: =IF(Menu!$K$32="PT",Data!D38,Data!C38) -> (-) Custo orçados de unidades vendidas | C41: -113502 | D41: -135287 | E41: -140436 | F41: -128927 | G41: -128927 | H41: -150629 | I41: -193949 | J41: -192841 | K41: -195534 | L41: -195534 | M41: -243207 | N41: -261884 | O41: -248848 | P41: -320953 | Q41: -320953 | R41: -417342 | S41: -456169 | T41: -518600 | U41: -924254 | V41: -924254 | W41: -1021407 | X41: -1090209 | Y41: =-1470964751.32842/1000 -> -1470964.8 | Z41: -1445278 | AA41: -1445278 | AB41: -1608185 | AC41: -1669115 | AD41: -1766622 | AE41: -2086770 | AF41: -7130692 | AG41: -2124286 | AH41: -2160178.4
B42: =IF(Menu!$K$32="PT",Data!D39,Data!C39) -> (=) Resultado de vendas de imóveis a apropriar | C42: 107802 | D42: 97864 | E42: 62358 | F42: 102349 | G42: 102349 | H42: 110390 | I42: 119299 | J42: 104420 | K42: 100395 | L42: 100395 | M42: 114643 | N42: 129360 | O42: 132781 | P42: 182894 | Q42: 182894 | R42: 259440 | S42: 307987 | T42: 352582 | U42: 525570 | V42: 525570 | W42: 573895 | X42: 620534 | Y42: =SUM(Y40:Y41) -> 811079.12 | Z42: 808750 | AA42: =SUM(AA40:AA41) -> 808750 | AB42: =SUM(AB40:AB41) -> 921125 | AC42: 1012012 | AD42: =SUM(AD40:AD41) -> 1082491 | AE42: 1287731 | AF42: 4303359 | AG42: 1314140 | AH42: 1282907.1
B43: =IF(Menu!$K$32="PT",Data!D40,Data!C40) -> Margem Bruta REF | C43: 0.48712179 | D43: 0.41974514 | E43: 0.3074943 | F43: 0.44254051 | G43: 0.44254051 | H43: 0.4229194 | I43: 0.38084521 | J43: 0.3512738 | K43: 0.33925367 | L43: 0.33925367 | M43: 0.32036608 | N43: 0.33063766 | O43: 0.34793215 | P43: 0.36299512 | Q43: 0.36299512 | R43: 0.38334353 | S43: 0.40304205 | T43: 0.40471681 | U43: 0.36250607 | V43: 0.36250607 | W43: 0.35974066 | X43: 0.36272777 | Y43: 0.35541785 | Z43: 0.35880211 | AA43: =AA42/AA40 -> 0.35880211 | AB43: =AB42/AB40 -> 0.36418035 | AC43: 0.37745769 | AD43: =AD42/AD40 -> 0.37993965 | AE43: 0.38160635 | AF43: 0.37636346 | AG43: 0.38219232 | AH43: 0.37260391

Sheet BP | BS
B7: =IF(Menu!$K$32="PT",Data!F3,Data!E3) -> BALANÇO PATRIMONIAL - CONSOLIDADO | C7: ='Indicadores Op. | Op. Indicator'!C7 -> 1T20 | D7: ='Indicadores Op. | Op. Indicator'!D7 -> 2T20 | E7: ='Indicadores Op. | Op. Indicator'!E7 -> 3T20 | F7: ='Indicadores Op. | Op. Indicator'!F7 -> 4T20 | G7: ='Indicadores Op. | Op. Indicator'!H7 -> 1T21 | H7: ='Indicadores Op. | Op. Indicator'!I7 -> 2T21 | I7: ='Indicadores Op. | Op. Indicator'!J7 -> 3T21 | J7: ='Indicadores Op. | Op. Indicator'!K7 -> 4T21 | K7: ='Indicadores Op. | Op. Indicator'!M7 -> 1T22 | L7: ='Indicadores Op. | Op. Indicator'!N7 -> 2T22 | M7: ='Indicadores Op. | Op. Indicator'!O7 -> 3T22 | N7: ='Indicadores Op. | Op. Indicator'!P7 -> 4T22 | O7: ='Indicadores Op. | Op. Indicator'!R7 -> 1T23 | P7: ='Indicadores Op. | Op. Indicator'!S7 -> 2T23 | Q7: ='Indicadores Op. | Op. Indicator'!T7 -> 3T23 | R7: ='Indicadores Op. | Op. Indicator'!U7 -> 4T23 | S7: ='Indicadores Op. | Op. Indicator'!W7 -> 1T24 | T7: ='Indicadores Op. | Op. Indicator'!X7 -> 2T24 | U7: ='Indicadores Op. | Op. Indicator'!Y7 -> 3T24 | V7: ='Indicadores Op. | Op. Indicator'!Z7 -> 4T24 | W7: ='Indicadores Op. | Op. Indicator'!AB7 -> 1T25 | X7: ='Indicadores Op. | Op. Indicator'!AD7 -> 3T25 | Y7: ='Indicadores Op. | Op. Indicator'!AC7 -> 2T25 | Z7: 4T25 | AA7: 1T26 | AB7: 2T26
B8: =IF(Menu!$K$32="PT",Data!F6,Data!E6) -> ATIVO
B9: =IF(Menu!$K$32="PT",Data!F7,Data!E7) -> Ativo circulante | C9: 720751 | D9: 870662 | E9: 921669 | F9: 905420 | G9: 1136424 | H9: 1086739 | I9: 1086859 | J9: 1144108 | K9: 1226996 | L9: 1244855 | M9: 1288662 | N9: 1455442 | O9: 1508669 | P9: 1629932 | Q9: 1699007 | R9: 1731714 | S9: 1769205 | T9: 1736721 | U9: =SUM(U10:U15) -> 2140985 | V9: 2194860 | W9: 2122051 | X9: 3308194 | Y9: 2561497 | Z9: 3698954 | AA9: =SUM(AA10:AA15) -> 3977663 | AB9: =SUM(AB10:AB15) -> 3761849
B10: =IF(Menu!$K$32="PT",Data!F8,Data!E8) -> Caixa e equivalentes de caixa | C10: 174183 | D10: 238204 | E10: 297988 | F10: 204223 | G10: 280042 | H10: 246178 | I10: 223953 | J10: 200338 | K10: 201499 | L10: 214438.46 | M10: 191167 | N10: 254237 | O10: 191666 | P10: 161171 | Q10: 201091 | R10: 312182 | S10: 213588 | T10: 231115 | U10: 609537 | V10: 733767 | W10: 415939 | X10: 945049 | Y10: 498299 | Z10: 1093455 | AA10: 1035758 | AB10: 876613
B11: =IF(Menu!$K$32="PT",Data!F9,Data!E9) -> Aplicações financeiras com restrições | C11: 0 | D11: 0 | E11: 0 | F11: 0 | G11: 0 | H11: 0 | I11: 0 | J11: 91033 | K11: 75369 | L11: 79320.545 | M11: 94300 | N11: 85794 | O11: 72109 | P11: 163786 | Q11: 145072 | R11: 113228 | S11: 69206 | T11: 146954 | U11: 80695 | V11: 67704 | W11: 48855 | X11: 30727 | Y11: 55467 | Z11: 19508 | AA11: 11442 | AB11: 7727
B12: =IF(Menu!$K$32="PT",Data!F10,Data!E10) -> Contas a receber | C12: 136832 | D12: 141244 | E12: 104232 | F12: 151693 | G12: 241948 | H12: 192930 | I12: 183360 | J12: 154009 | K12: 185085 | L12: 175087 | M12: 196391 | N12: 274341 | O12: 375625 | P12: 422847 | Q12: 407503 | R12: 418485 | S12: 519543 | T12: 526096 | U12: 615667 | V12: 565970 | W12: 626344 | X12: 849344 | Y12: 696025 | Z12: 1186169 | AA12: 1320928 | AB12: 1247563
B13: =IF(Menu!$K$32="PT",Data!F11,Data!E11) -> Imóveis a comercializar | C13: 398049 | D13: 478701 | E13: 494211 | F13: 523351 | G13: 589093 | H13: 617032 | I13: 644731 | J13: 666014 | K13: 731810 | L13: 732933 | M13: 757017 | N13: 805027 | O13: 827718 | P13: 841208 | Q13: 898150 | R13: 844451 | S13: 906716 | T13: 774179 | U13: 764659 | V13: 760261 | W13: 936800 | X13: 1350997 | Y13: 1208119 | Z13: 1240575 | AA13: 1422519 | AB13: 1436294
B14: =IF(Menu!$K$32="PT",Data!F12,Data!E12) -> Tributos a recuperar | C14: 5109 | D14: 4581 | E14: 4609 | F14: 4088 | G14: 5343 | H14: 5136 | I14: 4898 | J14: 4993 | K14: 5169 | L14: 8303 | M14: 8943 | N14: 8571 | O14: 8328 | P14: 9322 | Q14: 9888 | R14: 10377 | S14: 10986 | T14: 11637 | U14: 13758 | V14: 3399 | W14: 4659 | X14: 5776 | Y14: 5280 | Z14: 9690 | AA14: 9690 | AB14: 17874
B15: =IF(Menu!$K$32="PT",Data!F13,Data!E13) -> Outros créditos | C15: 6578 | D15: 7932 | E15: 20629 | F15: 22065 | G15: 19998 | H15: 25463 | I15: 29917 | J15: 27721 | K15: 28064 | L15: 34773 | M15: 40844 | N15: 27472 | O15: 33223 | P15: 31598 | Q15: 37303 | R15: 32991 | S15: 49166 | T15: 46740 | U15: 56669 | V15: 63759 | W15: 89454 | X15: 126301 | Y15: 98307 | Z15: 149557 | AA15: 177326 | AB15: 175778
B16: =IF(Menu!$K$32="PT",Data!F14,Data!E14) -> Ativo não circulante | C16: 33936 | D16: 25336 | E16: 37246 | F16: 55925 | G16: 33865 | H16: 57195 | I16: 93105 | J16: 124409 | K16: 150379 | L16: 150071 | M16: 179090 | N16: 166192 | O16: 172117 | P16: 261702 | Q16: 284024 | R16: 307305 | S16: 260312 | T16: 327329 | U16: =SUM(U17:U25) -> 328600 | V16: 386319.79 | W16: 379611 | X16: 519640 | Y16: 488304 | Z16: 538906 | AA16: =SUM(AA17:AA25) -> 431573 | AB16: =SUM(AB17:AB25) -> 558574
B17: =IF(Menu!$K$32="PT",Data!F15,Data!E15) -> Aplicações financeiras | C17: 0 | D17: 0 | E17: 0 | F17: 0 | G17: 0 | H17: 35319 | I17: 0 | J17: 0 | K17: 0 | L17: 0 | M17: 0 | N17: 552 | O17: 552 | P17: 552 | Q17: 552 | R17: 626 | S17: 626 | T17: 644 | U17: 644 | V17: 644.20929 | W17: 644 | X17: 0 | Y17: 0 | Z17: 0 | AA17: 0 | AB17: 0
B18: =IF(Menu!$K$32="PT",Data!F16,Data!E16) -> Contas a receber | C18: 18505 | D18: 14200 | E18: 20605 | F18: 15859 | G18: 16946 | H18: 10370 | I18: 47142 | J18: 64188 | K18: 83003 | L18: 87422 | M18: 121870 | N18: 114318 | O18: 106237 | P18: 127064 | Q18: 150657 | R18: 151891 | S18: 158567 | T18: 218601 | U18: 235357 | V18: 261201.03 | W18: 278645 | X18: 303783 | Y18: 375205 | Z18: 250378 | AA18: 249720 | AB18: 358992
B19: =IF(Menu!$K$32="PT",Data!F17,Data!E17) -> Imóveis a comercializar | C19: 8259 | D19: 2469 | E19: 9489 | F19: 32474 | G19: 8268 | H19: 0 | I19: 29912 | J19: 44236 | K19: 47465 | L19: 41310 | M19: 35644 | N19: 27570 | O19: 42572 | P19: 98658 | Q19: 92957 | R19: 106951 | S19: 47269 | T19: 47269 | U19: 30250 | V19: 51865 | W19: 25988 | X19: 134199 | Y19: 37596 | Z19: 175742 | AA19: 61041 | AB19: 89562
B20: =IF(Menu!$K$32="PT",Data!F18,Data!E18) -> Tributos a recuperar | C20: 0 | D20: 0 | E20: 0 | F20: 0 | G20: 0 | H20: 0 | I20: 0 | J20: 0 | K20: 0 | L20: 0 | M20: 0 | N20: 0 | O20: 0 | P20: 0 | Q20: 0 | R20: 0 | S20: 0 | T20: 0 | U20: 0 | V20: 6604 | W20: 7768 | X20: 10104 | Y20: 7080 | Z20: 10926 | AA20: 16981 | AB20: 10816
B21: =IF(Menu!$K$32="PT",Data!F19,Data!E19) -> Partes relacionadas | C21: 0 | D21: 0 | E21: 0 | F21: 0 | G21: 0 | H21: 2001 | I21: 0 | J21: 0 | K21: 0 | L21: 0 | M21: 0 | N21: 0 | O21: 0 | P21: 0 | Q21: 13500 | R21: 0 | S21: 0 | T21: 0 | U21: 0 | V21: 1354 | W21: 1748 | X21: 0 | Y21: 0 | Z21: 33374 | AA21: 38249 | AB21: 37073
B22: =IF(Menu!$K$32="PT",Data!F20,Data!E20) -> Investimentos | C22: 0 | D22: 0 | E22: 0 | F22: 0 | G22: 0 | H22: 1417 | I22: 2001 | J22: 1998 | K22: 1995 | L22: 1996 | M22: 1993 | N22: 1534 | O22: 1534 | P22: 13277 | Q22: 1193 | R22: 1061 | S22: 1061 | T22: 813 | U22: 813 | V22: 1756 | W22: 1662 | X22: 900 | Y22: 1134 | Z22: 900 | AA22: 900 | AB22: 900
B23: =IF(Menu!$K$32="PT",Data!F21,Data!E21) -> Ativos de direito de uso | C23: 0 | D23: 2698 | E23: 2376 | F23: 2054 | G23: 1739 | H23: 7074 | I23: 2714 | J23: 2912 | K23: 5955 | L23: 5323 | M23: 4733 | N23: 4005 | O23: 5198 | P23: 4536 | Q23: 5470 | R23: 23962 | S23: 22800 | T23: 20812 | U23: 21365 | V23: 20260.553 | W23: 19212 | X23: 18527 | Y23: 18455 | Z23: 17538 | AA23: 16721 | AB23: 15871
B24: =IF(Menu!$K$32="PT",Data!F22,Data!E22) -> Imobilizado | C24: 7172 | D24: 5969 | E24: 4776 | F24: 5538 | G24: 6912 | H24: 1014 | I24: 10375 | J24: 10072 | K24: 9859 | L24: 11242 | M24: 11729 | N24: 14233 | O24: 11333 | P24: 11805 | Q24: 12310 | R24: 13399 | S24: 19002 | T24: 26254 | U24: 25153 | V24: 26284 | W24: 27884 | X24: 30772 | Y24: 32158 | Z24: 26975 | AA24: 24279 | AB24: 21859
B25: =IF(Menu!$K$32="PT",Data!F23,Data!E23) -> Intangível | C25: 0 | D25: 0 | E25: 0 | F25: 0 | G25: 0 | H25: 0 | I25: 961 | J25: 1003 | K25: 2102 | L25: 2778 | M25: 3121 | N25: 3980 | O25: 4691 | P25: 5810 | Q25: 7385 | R25: 9415 | S25: 10987 | T25: 12936 | U25: 15018 | V25: 16351 | W25: 16060 | X25: 21355 | Y25: 16676 | Z25: 23073 | AA25: 23682 | AB25: 23501
B26: =IF(Menu!$K$32="PT",Data!F24,Data!E24) -> Total do ativo | C26: 754687 | D26: 895998 | E26: 958915 | F26: 961345 | G26: 1170289 | H26: 1143934 | I26: 1179964 | J26: 1268517 | K26: 1377375 | L26: 1394926 | M26: 1467752 | N26: 1621634 | O26: 1680786 | P26: 1891634 | Q26: 1983031 | R26: 2039019 | S26: 2029517 | T26: 2064050 | U26: =U9+U16 -> 2469585 | V26: 2581179.8 | W26: 2501662 | X26: 3827834 | Y26: 3049801 | Z26: 4237860 | AA26: =AA16+AA9 -> 4409236 | AB26: =AB16+AB9 -> 4320423
B28: =IF(Menu!$K$32="PT",Data!F25,Data!E25) -> PASSIVO
B29: =IF(Menu!$K$32="PT",Data!F26,Data!E26) -> Passivo circulante | C29: 149097 | D29: 153165 | E29: 147295 | F29: 153063 | G29: 200128 | H29: 156433 | I29: 169779 | J29: 239360 | K29: 250171 | L29: 268232 | M29: 285905 | N29: 423466 | O29: 493483 | P29: 499049 | Q29: 571032 | R29: 657486 | S29: 622918 | T29: 551192 | U29: =SUM(U30:U46) -> 484435 | V29: 593420.27 | W29: 680215 | X29: 893730 | Y29: 684815 | Z29: 1552845 | AA29: =SUM(AA30:AA46) -> 1387619 | AB29: =SUM(AB30:AB46) -> 1251798
B30: =IF(Menu!$K$32="PT",Data!F27,Data!E27) -> Empréstimos e financiamentos | C30: 30376 | D30: 30035 | E30: 30200 | F30: 119 | G30: 0 | H30: 1369 | I30: 5133 | J30: 35260 | K30: 15070 | L30: 57792 | M30: 56744 | N30: 82140 | O30: 85196 | P30: 88905 | Q30: 148865 | R30: 134708 | S30: 125444 | T30: 103365 | U30: 0 | V30: 0 | W30: 0 | X30: 102987 | Y30: 102692 | Z30: 102866 | AA30: 103220 | AB30: 10586
B31: =IF(Menu!$K$32="PT",Data!F28,Data!E28) -> Cessão de recebíveis | X31: 78784 | Z31: 168217 | AA31: 210904 | AB31: 238675
B32: =IF(Menu!$K$32="PT",Data!H28,Data!G28) -> Certificado de Recebíveis Imobiliários - CRI | C32: 0 | D32: 0 | E32: 0 | F32: 0 | G32: 143 | H32: 228 | I32: 12288 | J32: 24533 | K32: 36522 | L32: 48910 | M32: 48854 | N32: 36336 | O32: 24244 | P32: 24244 | Q32: 0 | R32: 0 | S32: 0 | T32: 0 | U32: 1442 | V32: 30189 | W32: 31492 | X32: 78940 | Y32: 32345 | Z32: 79137 | AA32: 79848 | AB32: 79232
B33: =IF(Menu!$K$32="PT",Data!F29,Data!E29) -> Instrumetos financeiros derivativos | C33: 0 | D33: 0 | E33: 0 | F33: 0 | G33: 0 | H33: 0 | I33: 0 | J33: 0 | K33: 0 | L33: 0 | M33: 0 | N33: 0 | O33: 0 | P33: 0 | Q33: 0 | R33: 0 | S33: 0 | T33: 0 | U33: 0 | V33: 2401 | W33: 2067 | X33: 1427 | Y33: 1412 | Z33: 1023 | AA33: 1197 | AB33: 2174
B34: =IF(Menu!$K$32="PT",Data!F30,Data!E30) -> Fornecedores | C34: 25425 | D34: 27803 | E34: 24770 | F34: 22416 | G34: 26761 | H34: 35633 | I34: 43843 | J34: 37743 | K34: 45676 | L34: 49493 | M34: 45778 | N34: 45261 | O34: 47811 | P34: 57481 | Q34: 44658 | R34: 43447 | S34: 63616 | T34: 57365 | U34: 67524 | V34: 69370 | W34: 75892 | X34: 79567 | Y34: 76896 | Z34: 92370 | AA34: 113743 | AB34: 165231
B35: =IF(Menu!$K$32="PT",Data!F31,Data!E31) -> Credores a pagar por aquisição de imóveis | C35: 25371 | D35: 21100 | E35: 20637 | F35: 28920 | G35: 52822 | H35: 33738 | I35: 24691 | J35: 33243 | K35: 32163 | L35: 34510 | M35: 51638 | N35: 145004 | O35: 163274 | P35: 176792 | Q35: 195544 | R35: 203266 | S35: 185918 | T35: 150898 | U35: 167715 | V35: 163215 | W35: 365378 | X35: 266259 | Y35: 252369 | Z35: 682356 | AA35: 414069 | AB35: 369527
B36: =IF(Menu!$K$32="PT",Data!F32,Data!E32) -> Obrigações trabalhistas e sociais | C36: 7996 | D36: 9726 | E36: 11144 | F36: 15541 | G36: 12816 | H36: 17989 | I36: 21777 | J36: 19151 | K36: 20546 | L36: 20124 | M36: 23889 | N36: 25029 | O36: 23059 | P36: 23375 | Q36: 28415 | R36: 29071 | S36: 31469 | T36: 31495 | U36: 40626 | V36: 44359.76 | W36: 47151 | X36: 56665 | Y36: 44771 | Z36: 65235 | AA36: 66230 | AB36: 68335
B37: =IF(Menu!$K$32="PT",Data!F33,Data!E33) -> Obrigações tributárias | C37: 7896 | D37: 5673 | E37: 5625 | F37: 5772 | G37: 5306 | H37: 7854 | I37: 7436 | J37: 8998 | K37: 7302 | L37: 7558 | M37: 10459 | N37: 9194 | O37: 7349 | P37: 9238 | Q37: 13295 | R37: 15331 | S37: 10129 | T37: 12923 | U37: 12999 | V37: 17406.026 | W37: 16983 | X37: 26084 | Y37: 17698 | Z37: 24894 | AA37: 29528 | AB37: 28920
B38: =IF(Menu!$K$32="PT",Data!F34,Data!E34) -> Adiantamentos de clientes | C38: 32813 | D38: 32262 | E38: 27021 | F38: 20473 | G38: 25824 | H38: 28791 | I38: 25405 | J38: 19956 | K38: 29040 | L38: 31279 | M38: 29079 | N38: 20511 | O38: 67028 | P38: 67690 | Q38: 87174 | R38: 104832 | S38: 141998 | T38: 130060 | U38: 123957 | V38: 97319 | W38: 61034 | X38: 126962 | Y38: 87295 | Z38: 129056 | AA38: 143251 | AB38: 110675
B39: =IF(Menu!$K$32="PT",Data!F35,Data!E35) -> Impostos e contribuições diferidos | C39: 5042 | D39: 5351 | E39: 4168 | F39: 6443 | G39: 10091 | H39: 8232 | I39: 8049 | J39: 6303 | K39: 9037 | L39: 7316 | M39: 8370 | N39: 11714 | O39: 17168 | P39: 19199 | Q39: 19244 | R39: 20871 | S39: 14069 | T39: 16115 | U39: 20441 | V39: 24359.486 | W39: 28548 | X39: 28645 | Y39: 28487 | Z39: 42414 | AA39: 45987 | AB39: 49161
B40: =IF(Menu!$K$32="PT",Data!F36,Data!E36) -> Partes relacionadas | C40: 10075 | D40: 15585 | E40: 17775 | F40: 15239 | G40: 26832 | H40: 13108 | I40: 13346 | J40: 13600 | K40: 13867 | L40: 2517 | M40: 2517 | N40: 6272 | O40: 5742 | P40: 5742 | Q40: 5939 | R40: 8250 | S40: 8217 | T40: 8217 | U40: 8241 | V40: 16954 | W40: 8233 | X40: 5126 | Y40: 5126 | Z40: 9229 | AA40: 9229 | AB40: 11658
B41: =IF(Menu!$K$32="PT",Data!F37,Data!E37) -> Provisões diversas | C41: 3038 | D41: 3145 | E41: 3365 | F41: 3937 | G41: 5723 | H41: 7660 | I41: 4879 | J41: 5225 | K41: 5983 | L41: 6692 | M41: 6596 | N41: 8489 | O41: 10839 | P41: 13166 | Q41: 12562 | R41: 31966 | S41: 39386 | T41: 39466 | U41: 38354 | V41: 40363 | W41: 40527 | X41: 39289 | Y41: 32755 | Z41: 53064 | AA41: 67406 | AB41: 14882
B42: =IF(Menu!$K$32="PT",Data!F38,Data!E38) -> Provisão para distratos | C42: 1065 | D42: 1384 | E42: 1592 | F42: 1513 | G42: 1403 | H42: 1721 | I42: 1889 | J42: 1820 | K42: 618 | L42: 590 | M42: 678 | N42: 575 | O42: 883 | P42: 1396 | Q42: 2360 | R42: 0 | S42: 0 | T42: 0 | U42: 0 | V42: 0 | W42: 0 | X42: 0 | Y42: 0 | Z42: 0 | AA42: 0 | AB42: 0
B43: =IF(Menu!$K$32="PT",Data!F39,Data!E39) -> Dividendos a pagar | C43: 0 | D43: 0 | E43: 0 | F43: 0 | G43: 0 | H43: 0 | I43: 0 | J43: 0 | K43: 0 | L43: 0 | M43: 0 | N43: 0 | O43: 7761 | P43: 10739 | Q43: 0 | R43: 63782 | S43: 0 | T43: 0 | U43: 0 | V43: 83911 | W43: 0 | X43: 0 | Y43: 0 | Z43: 100000 | AA43: 100000 | AB43: 100000
B44: =IF(Menu!$K$32="PT",Data!F40,Data!E40) -> Arrendamentos a pagar | C44: 0 | D44: 0 | E44: 0 | F44: 31399 | G44: 31399 | H44: 0 | I44: 0 | J44: 32083 | K44: 32083 | L44: 0 | M44: 0 | N44: 31749 | O44: 31749 | P44: 0 | Q44: 1460 | R44: 1962 | S44: 2672 | T44: 1288 | U44: 3136 | V44: 3573 | W44: 2910 | X44: 2995 | Y44: 2969 | Z44: 2984 | AA44: 2737 | AB44: 2463
... B46: =IF(Menu!$K$32="PT",Data!F42,Data!E42) -> Provisão de ITBI | C46: 0 | D46: 0 | E46: 0 | F46: 0 | G46: 0 | H46: 0 | I46: 0 | J46: 0 | K46: 64 | L46: 0 | M46: 0 | N46: 3 | O46: 0 | P46: 0 | Q46: 11516 | R46: 0 | S46: 0 | T46: 0 | U46: 0 | V46: 0 | W46: 0 | X46: 0 | Y46: 0 | Z46: 0 | AA46: 0 | AB46: 0
B47: =IF(Menu!$K$32="PT",Data!F43,Data!E43) -> Passivo não circulante | C47: 489268 | D47: 597591 | E47: 597214 | F47: 578138 | G47: 690024 | H47: 698370 | I47: 682160 | J47: 711934 | K47: 795127 | L47: 778081 | M47: 798179 | N47: 789186 | O47: 734505 | P47: 867452 | Q47: 773031 | R47: 735419 | S47: 753780 | T47: 757297 | U47: =SUM(U48:U61) -> 1075599 | V47: 1072114 | W47: 956334 | X47: 1851909 | Y47: 1376603 | Z47: 1542470 | AA47: =SUM(AA48:AA61) -> 1853721 | AB47: =SUM(AB48:AB61) -> 1850332
B48: =IF(Menu!$K$32="PT",Data!F44,Data!E44) -> Empréstimos e financiamentos | C48: 251554 | D48: 322397 | E48: 344357 | F48: 290570 | G48: 312568 | H48: 283106 | I48: 257681 | J48: 310177 | K48: 336962 | L48: 345004 | M48: 359638 | N48: 414330 | O48: 382024 | P48: 437321 | Q48: 316175 | R48: 252827 | S48: 244401 | T48: 274282 | U48: 221003 | V48: 229397 | W48: 238862 | X48: 227007 | Y48: 256475 | Z48: 245193 | AA48: 284027 | AB48: 287180
...

Sheet DFC | CFS
B7: =IF(Menu!$K$32="PT",Data!H3,Data!G3) -> FLUXO DE CAIXA - CONSOLIDADO | C7: ='Indicadores Op. | Op. Indicator'!C7 -> 1T20 | D7: ='Indicadores Op. | Op. Indicator'!D7 -> 2T20 | E7: ='Indicadores Op. | Op. Indicator'!E7 -> 3T20 | F7: ='Indicadores Op. | Op. Indicator'!F7 -> 4T20 | G7: ='Indicadores Op. | Op. Indicator'!H7 -> 1T21 | H7: ='Indicadores Op. | Op. Indicator'!I7 -> 2T21 | I7: ='Indicadores Op. | Op. Indicator'!J7 -> 3T21 | J7: ='Indicadores Op. | Op. Indicator'!K7 -> 4T21 | K7: ='Indicadores Op. | Op. Indicator'!M7 -> 1T22 | L7: ='Indicadores Op. | Op. Indicator'!N7 -> 2T22 | M7: ='Indicadores Op. | Op. Indicator'!O7 -> 3T22 | N7: ='Indicadores Op. | Op. Indicator'!P7 -> 4T22 | O7: ='Indicadores Op. | Op. Indicator'!R7 -> 1T23 | P7: ='Indicadores Op. | Op. Indicator'!S7 -> 2T23 | Q7: ='Indicadores Op. | Op. Indicator'!T7 -> 3T23 | R7: ='Indicadores Op. | Op. Indicator'!U7 -> 4T23 | S7: ='Indicadores Op. | Op. Indicator'!W7 -> 1T24 | T7: ='Indicadores Op. | Op. Indicator'!X7 -> 2T24 | U7: ='Indicadores Op. | Op. Indicator'!Y7 -> 3T24 | V7: ='Indicadores Op. | Op. Indicator'!Z7 -> 4T24 | W7: ='Indicadores Op. | Op. Indicator'!AB7 -> 1T25 | X7: ='Indicadores Op. | Op. Indicator'!AC7 -> 2T25 | Y7: ='Indicadores Op. | Op. Indicator'!AD7 -> 3T25 | Z7: 4T25 | AA7: 2T26 | AB7: 1T26
B8: =IF(Menu!$K$32="PT",Data!H5,Data!G5) -> Fluxo de caixa das atividades operacionais
B9: =IF(Menu!$K$32="PT",Data!H7,Data!G7) -> Resultado antes da contribuição social e imposto de renda | C9: 25376 | D9: 57486 | E9: 95743 | F9: 152187 | G9: 56038 | H9: 80958 | I9: 127764 | J9: 161897 | K9: 29953 | L9: 56204 | M9: 100617 | N9: 166321 | O9: 53546 | P9: 81045 | Q9: 224994 | R9: 324538 | S9: 61050 | T9: 179349 | U9: 327532 | V9: 446347 | W9: 97678 | X9: 222180 | Y9: 340039 | Z9: 508962 | AA9: 159466 | AB9: 65069
B10: =IF(Menu!$K$32="PT",Data!H9,Data!G9) -> Ajustes para reconciliar o resultado do exercício com recursos provenientes de atividades operacionais: | P10: 0
