Workbook

Sheet Menu
Q1: Português/Portuguese
Q2: Inglês/English
E4: =IF(D7=Q1,Q4,Q5) -> Informações Financeiras e Operacionais | Q4: Informações Financeiras e Operacionais
Q5: Financial and Operational Information
C7: Lingua/Language | D7: Português/Portuguese

Sheet Destaques | Highlights
E2: 1T21 | F2: 2T21 | G2: 3T21 | H2: 4T21 | I2: 2021 | K2: 1T22 | L2: 2T22 | M2: 3T22 | N2: 4T22 | O2: 2022 | Q2: 1T23 | R2: 2T23 | S2: 3T23 | T2: 4T23 | U2: 2023 | W2: 1T24 | X2: 2T24 | Y2: 3T24 | Z2: 4T24 | AA2: 2024 | AC2: 1T25 | AD2: 2T25 | AE2: 3T25 | AF2: 4T25 | AG2: 2025 | AI2: 1T26 | AJ2: 2T26 | AK2: 3T26 | AL2: 4T26 | AM2: 2026
E3: 1Q21 | F3: 2Q21 | G3: 3Q21 | H3: 4Q21 | I3: 2021 | K3: 1Q22 | L3: 2Q22 | M3: 3Q22 | N3: 4Q22 | O3: 2022 | Q3: 1Q23 | R3: 2Q23 | S3: 3Q23 | T3: 4Q23 | U3: 2023 | W3: 1Q24 | X3: 2Q24 | Y3: 3Q24 | Z3: 4Q24 | AA3: 2024 | AC3: 1Q25 | AD3: 2Q25 | AE3: 3Q25 | AF3: 4Q25 | AG3: 2025 | AI3: 1Q26 | AJ3: 2Q26 | AK3: 3Q26 | AL3: 4Q26 | AM3: 2026
A4: =IF(Menu!$D$7="Português/Portuguese",B4,C4) -> Destaque (Valores em mil toneladas) | B4: Destaque (Valores em mil toneladas) | C4: Highlights (Values in thousand tons) | E4: =IF(Menu!$D$7="Português/Portuguese",E2,E3) -> 1T21 | F4: =IF(Menu!$D$7="Português/Portuguese",F2,F3) -> 2T21 | G4: =IF(Menu!$D$7="Português/Portuguese",G2,G3) -> 3T21 | H4: =IF(Menu!$D$7="Português/Portuguese",H2,H3) -> 4T21 | I4: =IF(Menu!$D$7="Português/Portuguese",I2,I3) -> 2021 | J4: =IF([1]Menu!$D$7="Português/Portuguese",'Destaques | Highlights'!J2,'Destaques | Highlights'!J3) -> 0 | K4: =IF(Menu!$D$7="Português/Portuguese",K2,K3) -> 1T22 | L4: =IF(Menu!$D$7="Português/Portuguese",L2,L3) -> 2T22 | M4: =IF(Menu!$D$7="Português/Portuguese",M2,M3) -> 3T22 | N4: =IF(Menu!$D$7="Português/Portuguese",N2,N3) -> 4T22 | O4: =IF(Menu!$D$7="Português/Portuguese",O2,O3) -> 2022 | P4: =IF([1]Menu!$D$7="Português/Portuguese",'Destaques | Highlights'!P2,'Destaques | Highlights'!P3) -> 0 | Q4: =IF(Menu!$D$7="Português/Portuguese",Q2,Q3) -> 1T23 | R4: =IF(Menu!$D$7="Português/Portuguese",R2,R3) -> 2T23 | S4: =IF(Menu!$D$7="Português/Portuguese",S2,S3) -> 3T23 | T4: =IF(Menu!$D$7="Português/Portuguese",T2,T3) -> 4T23 | U4: =IF(Menu!$D$7="Português/Portuguese",U2,U3) -> 2023 | V4: =IF([1]Menu!$D$7="Português/Portuguese",'Destaques | Highlights'!V2,'Destaques | Highlights'!V3) -> 0 | W4: =IF(Menu!$D$7="Português/Portuguese",W2,W3) -> 1T24 | X4: =IF(Menu!$D$7="Português/Portuguese",X2,X3) -> 2T24 | Y4: =IF(Menu!$D$7="Português/Portuguese",Y2,Y3) -> 3T24 | Z4: =IF(Menu!$D$7="Português/Portuguese",Z2,Z3) -> 4T24 | AA4: =IF(Menu!$D$7="Português/Portuguese",AA2,AA3) -> 2024 | AB4: =IF([1]Menu!$D$7="Português/Portuguese",'Destaques | Highlights'!AB2,'Destaques | Highlights'!AB3) -> 0 | AC4: =IF(Menu!$D$7="Português/Portuguese",AC2,AC3) -> 1T25 | AD4: =IF(Menu!$D$7="Português/Portuguese",AD2,AD3) -> 2T25 | AE4: =IF(Menu!$D$7="Português/Portuguese",AE2,AE3) -> 3T25 | AF4: =IF(Menu!$D$7="Português/Portuguese",AF2,AF3) -> 4T25 | AG4: =IF(Menu!$D$7="Português/Portuguese",AG2,AG3) -> 2025 | AI4: =IF(Menu!$D$7="Português/Portuguese",AI2,AI3) -> 1T26 | AJ4: =IF(Menu!$D$7="Português/Portuguese",AJ2,AJ3) -> 2T26 | AK4: =IF(Menu!$D$7="Português/Portuguese",AK2,AK3) -> 3T26 | AL4: =IF(Menu!$D$7="Português/Portuguese",AL2,AL3) -> 4T26 | AM4: =IF(Menu!$D$7="Português/Portuguese",AM2,AM3) -> 2026
A5: Iron Ore Sales (thousand tons) | B5: Venda de Minério de Ferro | C5: Iron Ore Sales (thousand tons) | E5: 8225.0247 | F5: 9109.9824 | G5: 8183.3867 | H5: 7718.6341 | I5: 33237.028 | K5: 7639.392 | L5: 6687.4723 | M5: =SUM(M6:M7) -> 9094.8013 | N5: =SUM(N6:N7) -> 9728.7817 | O5: 33325 | Q5: 8617.715 | R5: 11258.012 | S5: 11641.416 | T5: 11144.006 | U5: 42661.149 | W5: 9145.3085 | X5: 10792.23 | Y5: 11883.984 | Z5: 10730.833 | AA5: 42552.356 | AC5: 9639.767 | AD5: 11832.536 | AE5: 12395.555 | AF5: 11981.286 | AG5: 45849.143 | AI5: 9636 | AJ5: 11848.706
A6: Domestic Market | B6: Mercado Interno | C6: Domestic Market | E6: 1286.0247 | F6: 1174.3584 | G6: 1269.4237 | H6: 1189.9311 | I6: 4919.7379 | K6: 1110.689 | L6: 866.77327 | M6: 1121.8012 | N6: 1037.7817 | O6: 4133 | Q6: 665.90597 | R6: 1003.1655 | S6: 1765.4379 | T6: 1558.1192 | U6: 4992.6286 | W6: 1021.8335 | X6: 859.04771 | Y6: 1105.7402 | Z6: 1053.6084 | AA6: 4040.2298 | AC6: 1039.835 | AD6: 1067.366 | AE6: 976.8578 | AF6: 944.96661 | AG6: 3084.0588 | AI6: 737 | AJ6: 1346.0076
A7: Foreign Market | B7: Mercado Externo | C7: Foreign Market | E7: 6939 | F7: 7935.624 | G7: 6913.963 | H7: 6528.703 | I7: 28317.29 | K7: 6528.703 | L7: 5820.699 | M7: 7973 | N7: 8691 | O7: 29192 | Q7: 7951.809 | R7: 10254.846 | S7: 9875.978 | T7: 9585.887 | U7: 37668.52 | W7: 8123.475 | X7: 9933.182 | Y7: 10778.244 | Z7: 9677.225 | AA7: 38512.126 | AC7: 8599.932 | AD7: 10765.17 | AE7: 11418.697 | AF7: 11036.319 | AG7: 41820.118 | AI7: 8899 | AJ7: 10502.698
A8: =IF(Menu!$D$7="Português/Portuguese",B8,C8) -> Resultados Consolidados IFRS (R$ milhões) | B8: Resultados Consolidados IFRS (R$ milhões) | C8: IFRS Consolidated Results (R$ million) | E8: =E4 -> 1T21 | F8: =F4 -> 2T21 | G8: =G4 -> 3T21 | H8: =H4 -> 4T21 | I8: =I4 -> 2021 | J8: =J4 -> 0 | K8: =K4 -> 1T22 | L8: =L4 -> 2T22 | ... AG8: =AG4 -> 2025 | AI8: =AI4 -> 1T26 | AJ8: =AJ4 -> 2T26 | AK8: =AK4 -> 3T26 | AL8: =AL4 -> 4T26 | AM8: =AM4 -> 2026
A9: =IF(Menu!$D$7="Português/Portuguese",B9,C9) -> Receita Líquida¹ | B9: Receita Líquida¹ | C9: Net Revenue | E9: 5474 | F9: 7345 | G9: 2783 | H9: 2381 | I9: =SUM(E9:H9)-1 -> 17982 | K9: 3838.3259 | L9: 2586.7472 | M9: 2508.5523 | N9: 3512.386 | O9: 12446.011 | Q9: 4114.7309 | R9: 3610.921 | S9: 4309.6246 | T9: 5018.4139 | U9: 17053.69 | W9: 2804.808 | X9: 3323.6398 | Y9: 2973.2331 | Z9: 3907 | AA9: 13008.681 | AC9: 3412.1672 | AD9: 3406.2099 | AE9: 4405.0751 | AF9: 4109.3522 | AG9: 15332.804 | AI9: 3165.4444 | AJ9: 2867.4676
A10: =IF(Menu!$D$7="Português/Portuguese",B10,C10) -> Custo de Produto Vendido (CPV) | B10: Custo de Produto Vendido (CPV) | C10: Cost of Goods Sold (COGS) | E10: -2237.7006 | F10: -2377.8757 | G10: -2645.4833 | H10: -2589.5176 | I10: -9850.5772 | K10: -1603.7268 | L10: -1835.2351 | M10: -1777.6703 | N10: -1866.6353 | O10: -7083.2674 | Q10: -2227.4641 | R10: -2622.5098 | S10: -2523.5351 | T10: -2465.5482 | U10: -9839.0572 | W10: -1889.9313 | X10: -1946.2818 | Y10: -2063.3503 | Z10: -2125 | AA10: -8024.5635 | AC10: -2237.7006 | AD10: -2377.8757 | AE10: -2645.4833 | AF10: -2589.5176 | AG10: -9850.5772 | AI10: -2034.8836 | AJ10: -2106
A11: =IF(Menu!$D$7="Português/Portuguese",B11,C11) -> Lucro Bruto | B11: Lucro Bruto | C11: Gross Profit | E11: 3566 | F11: 4917 | G11: 784 | H11: 706 | I11: =SUM(E11:H11)+1 -> 9974 | K11: 2234.5992 | L11: 751.51212 | M11: 730.88198 | N11: 1645.7507 | O11: 5362.744 | Q11: 1887.2668 | R11: 988.41118 | S11: 1786.0895 | T11: 2552.8656 | U11: 7214.6331 | W11: 914.87668 | X11: 1377.358 | Y11: 909.88277 | Z11: 1782 | AA11: 4984.1174 | AC11: 1174.4811 | AD11: 1028.3343 | AE11: 1759.5917 | AF11: 1519.8346 | AG11: 5482.2273 | AI11: 1130.5608 | AJ11: 761.46764
A12: =IF(Menu!$D$7="Português/Portuguese",B12,C12) -> Margem Bruta % | B12: Margem Bruta % | C12: Gross Margin (%) | E12: 0.34419962 | F12: 0.30189985 | G12: 0.39944648 | H12: 0.36984774 | I12: 0.35754983 | K12: 0.58218067 | L12: 0.29052399 | M12: 0.29135609 | N12: 0.46855633 | O12: 0.43088053 | Q12: 0.45866106 | R12: 0.27372827 | S12: 0.41444201 | T12: 0.5086997 | U12: 0.42305407 | W12: 0.32618157 | X12: 0.41441253 | Y12: 0.3060247 | Z12: 0.45610443 | AA12: 0.3831378 | AC12: 0.34419962 | AD12: 0.30189985 | AE12: 0.39944648 | AF12: =AF11/AF9 -> 0.36984774 | AG12: 0.35754889 | AI12: =AI11/AI9 -> 0.35715705 | AJ12: =AJ11/AJ9 -> 0.26555405
A13: =IF(Menu!$D$7="Português/Portuguese",B13,C13) -> Despesas com vendas e administrativas | B13: Despesas com vendas e administrativas | C13: Sales and administrative expenses | E13: -57.556343 | F13: -76.31532 | G13: -86.621046 | H13: -83.476002 | I13: -303.96871 | K13: -56.255296 | L13: -81.026432 | M13: -51.733488 | N13: -130.7203 | O13: -319.73551 | Q13: -119.07855 | R13: -137.79415 | S13: -60.884892 | T13: -66.967243 | U13: -384.72483 | W13: -72.997653 | X13: -51.988386 | Y13: -58.259664 | Z13: -49 | AA13: -232.2457 | AC13: -57.556343 | AD13: -76.31532 | AE13: -86.621046 | AF13: -83.476002 | AG13: -303.96871 | AI13: =-67417/1000 -> -67.417 | AJ13: -102.58263
A14: =IF(Menu!$D$7="Português/Portuguese",B14,C14) -> Resultado de Participações | B14: Resultado de Participações | C14: Result from equity investments | E14: 37.041876 | F14: 73.730403 | G14: 60.401338 | H14: 54.928382 | I14: 226.102 | K14: 11.041614 | L14: 26.596179 | M14: 46.68306 | N14: 32.24078 | O14: 116.56163 | Q14: 14.220919 | R14: 46.017074 | S14: 54.529236 | T14: 37.42666 | U14: 152.19389 | W14: 39.900877 | X14: 46.180308 | Y14: 50.288694 | Z14: 45 | AA14: 181.36988 | AC14: 37.041876 | AD14: 73.730403 | AE14: 60.401338 | AF14: 54.928382 | AG14: 226.102 | AI14: -2.9755652 | AJ14: 82.975565
A15: =IF(Menu!$D$7="Português/Portuguese",B15,C15) -> EBITDA Ajustado | B15: EBITDA Ajustado | C15: Adjusted EBITDA | E15: 3665 | F15: 4956 | G15: 911 | H15: 850 | I15: =SUM(E15:H15) -> 10382 | K15: 2414.6578 | L15: 907.44157 | M15: 926.02764 | N15: 1784.7507 | O15: 6032.8777 | Q15: 2018.3988 | R15: 1098.1117 | S15: 1987.7233 | T15: 2758.8901 | U15: 7863.1239 | W15: 1123.3498 | X15: 1618.4499 | Y15: 1138.814 | Z15: 2015 | AA15: 5895.6138 | AC15: 1427.4044 | AD15: 1268.3086 | AE15: 1991.4337 | AF15: 1761.2649 | AG15: 6448.4116 | AI15: 1419.8748 | AJ15: 1018.1252
A16: =IF(Menu!$D$7="Português/Portuguese",B16,C16) -> Margem EBITDA % | B16: Margem EBITDA % | C16: EBiTDA Margin (%) | E16: 0.6695 | F16: 0.6747 | G16: 0.3273 | H16: 0.3571 | I16: 0.42056309 | K16: 0.62909138 | L16: 0.35080412 | M16: 0.36914824 | N16: 0.50813057 | O16: 0.48472378 | Q16: 0.49052998 | R16: 0.30410848 | S16: 0.46122888 | T16: 0.5497534 | U16: 0.46108049 | W16: 0.40050863 | X16: 0.48695106 | Y16: 0.38302212 | Z16: 0.51574098 | AA16: 0.45320612 | AC16: 0.41832779 | AD16: 0.37235186 | AE16: 0.45207713 | AF16: =AF15/AF9 -> 0.42859916 | AG16: 0.42056309 | AI16: =AI15/AI9 -> 0.44855467 | AJ16: =AJ15/AJ9 -> 0.35506073

Sheet Operacional | Operational
E2: 1T21 | F2: 2T21 | G2: 3T21 | H2: 4T21 | I2: 2021 | K2: 1T22 | L2: 2T22 | M2: 3T22 | N2: 4T22 | O2: 2022 | Q2: 1T23 | R2: 2T23 | S2: 3T23 | T2: 4T23 | U2: 2023 | W2: 1T24 | X2: 2T24 | Y2: 3T24 | Z2: 4T24 | AA2: 2024 | AC2: 1T25 | AD2: 2T25 | AE2: 3T25 | AF2: 4T25 | AG2: 2025 | AI2: 1T26 | AJ2: 2T26 | AK2: 3T26 | AL2: 4T26 | AM2: 2026
E3: 1Q21 | F3: 2Q21 | G3: 3Q21 | H3: 4Q21 | I3: 2021 | K3: 1Q22 | L3: 2Q22 | M3: 3Q22 | N3: 4Q22 | O3: 2022 | Q3: 1Q23 | R3: 2Q23 | S3: 3Q23 | T3: 4Q23 | U3: 2023 | W3: 1Q24 | X3: 2Q24 | Y3: 3Q24 | Z3: 4Q24 | AA3: 2024 | AC3: 1Q25 | AD3: 2Q25 | AE3: 3Q25 | AF3: 4Q25 | AG3: 2025 | AI3: 1Q26 | AJ3: 2Q26 | AK3: 3Q26 | AL3: 4Q26 | AM3: 2026
E4: =IF(Menu!$D$7="Português/Portuguese",E2,E3) -> 1T21 | F4: =IF(Menu!$D$7="Português/Portuguese",F2,F3) -> 2T21 | G4: =IF(Menu!$D$7="Português/Portuguese",G2,G3) -> 3T21 | H4: =IF(Menu!$D$7="Português/Portuguese",H2,H3) -> 4T21 | I4: =IF(Menu!$D$7="Português/Portuguese",I2,I3) -> 2021 | K4: =IF(Menu!$D$7="Português/Portuguese",K2,K3) -> 1T22 | L4: =IF(Menu!$D$7="Português/Portuguese",L2,L3) -> 2T22 | M4: =IF(Menu!$D$7="Português/Portuguese",M2,M3) -> 3T22 | N4: =IF(Menu!$D$7="Português/Portuguese",N2,N3) -> 4T22 | O4: =IF(Menu!$D$7="Português/Portuguese",O2,O3) -> 2022 | Q4: =IF(Menu!$D$7="Português/Portuguese",Q2,Q3) -> 1T23 | R4: =IF(Menu!$D$7="Português/Portuguese",R2,R3) -> 2T23 | S4: =IF(Menu!$D$7="Português/Portuguese",S2,S3) -> 3T23 | T4: =IF(Menu!$D$7="Português/Portuguese",T2,T3) -> 4T23 | U4: =IF(Menu!$D$7="Português/Portuguese",U2,U3) -> 2023 | W4: =IF(Menu!$D$7="Português/Portuguese",W2,W3) -> 1T24 | X4: =IF(Menu!$D$7="Português/Portuguese",X2,X3) -> 2T24 | Y4: =IF(Menu!$D$7="Português/Portuguese",Y2,Y3) -> 3T24 | Z4: =IF(Menu!$D$7="Português/Portuguese",Z2,Z3) -> 4T24 | AA4: =IF(Menu!$D$7="Português/Portuguese",AA2,AA3) -> 2024 | AC4: =IF(Menu!$D$7="Português/Portuguese",AC2,AC3) -> 1T25 | AD4: =IF(Menu!$D$7="Português/Portuguese",AD2,AD3) -> 2T25 | AE4: =IF(Menu!$D$7="Português/Portuguese",AE2,AE3) -> 3T25 | AF4: =IF(Menu!$D$7="Português/Portuguese",AF2,AF3) -> 4T25 | AG4: =IF(Menu!$D$7="Português/Portuguese",AG2,AG3) -> 2025 | AI4: =IF(Menu!$D$7="Português/Portuguese",AI2,AI3) -> 1T26 | AJ4: =IF(Menu!$D$7="Português/Portuguese",AJ2,AJ3) -> 2T26 | AK4: =IF(Menu!$D$7="Português/Portuguese",AK2,AK3) -> 3T26 | AL4: =IF(Menu!$D$7="Português/Portuguese",AL2,AL3) -> 4T26 | AM4: =IF(Menu!$D$7="Português/Portuguese",AM2,AM3) -> 2026
A6: =IF(Menu!$D$7="Português/Portuguese",B6,C6) -> Volume de Produção + Compras (mil toneladas) | B6: Volume de Produção + Compras (mil toneladas) | C6: Iron Ore Production + Purchases (Thousand tons)
A7: =IF(Menu!$D$7="Português/Portuguese",B7,C7) -> Volume de Produção + Compras (mil toneladas) | B7: Volume de Produção + Compras (mil toneladas) | C7: Iron Ore Production + Purchases (Thousand tons) | E7: 8276.0191 | F7: 10571.322 | G7: 10308.736 | H7: 6919.1262 | I7: =SUM(E7:H7) -> 36075.203 | K7: 6468.2912 | L7: 8299.0816 | M7: 9611.3118 | N7: 9341.9544 | O7: =SUM(K7:N7) -> 33720.639 | Q7: 8941.2103 | R7: 11145.121 | S7: 11576.756 | T7: 10919.51 | U7: =SUM(Q7:T7) -> 42582.597 | W7: 9150.0805 | X7: 10412.882 | Y7: 11436.554 | Z7: 11010.081 | AA7: =SUM(W7:Z7) -> 42009.597 | AC7: 10206.341 | AD7: 11590.654 | AE7: 11910.791 | AF7: 11813.296 | AG7: =SUM(AC7:AF7) -> 45521.082 | AI7: 10058 | AJ7: 10880 | AM7: =SUM(AI7:AL7) -> 20938
A8: =IF(Menu!$D$7="Português/Portuguese",B8,C8) -> Volume de Vendas de Minério (mil toneladas) | B8: Volume de Vendas de Minério (mil toneladas) | C8: Iron Ore Sales Volume (Thousand tons)
A9: =IF(Menu!$D$7="Português/Portuguese",B9,C9) -> Mercado Interno | B9: Mercado Interno | C9: Domestic Market | E9: 1286.0247 | F9: 1174.3584 | G9: 1269.4237 | H9: 1189.9311 | I9: 4919.7379 | K9: 1110.689 | L9: 866.77327 | M9: 1121.8012 | N9: 1037.7817 | O9: =SUM(K9:N9) -> 4137.0452 | Q9: 665.90597 | R9: 1003.1655 | S9: 1765.4379 | T9: 1558.1192 | U9: 4992.6286 | W9: 1021.8335 | X9: 859.04771 | Y9: 1105.7402 | Z9: 1053.6084 | AA9: =SUM(W9:Z9) -> 4040.2298 | AC9: 1039.835 | AD9: 1067.366 | AE9: 976.8578 | AF9: 944.96661 | AG9: =SUM(AC9:AF9) -> 4029.0254 | AI9: 737 | AJ9: 1346 | AM9: =SUM(AI9:AL9) -> 2083
A10: =IF(Menu!$D$7="Português/Portuguese",B10,C10) -> Mercado Externo | B10: Mercado Externo | C10: Foreign Market | E10: 6939 | F10: 7935.624 | G10: 6913.963 | H10: 6528.703 | I10: 28317.29 | K10: 5820.699 | L10: 6707.123 | M10: 7973.05 | N10: 8691.17 | O10: =SUM(K10:N10) -> 29192.042 | Q10: 7951.809 | R10: 10254.846 | S10: 9875.978 | T10: 9585.887 | U10: 37668.52 | W10: 8123.475 | X10: 9933.182 | Y10: 10778.244 | Z10: 9677.225 | AA10: =SUM(W10:Z10) -> 38512.126 | AC10: 8599.932 | AD10: 10765.17 | AE10: 11418.697 | AF10: 11036.319 | AG10: =SUM(AC10:AF10) -> 41820.118 | AI10: 8899 | AJ10: 10503
A11: =IF(Menu!$D$7="Português/Portuguese",B11,C11) -> Total de Vendas | B11: Total de Vendas | C11: Total Sales | E11: 8225.0247 | F11: 9109.9824 | G11: 8183.3867 | H11: 7718.6341 | I11: 33237.028 | K11: 6931.388 | L11: 7573.8963 | M11: 9094.8512 | N11: 9728.9517 | O11: =SUM(K11:N11) -> 33329.087 | Q11: 8617.715 | R11: 11258.012 | S11: 11641.416 | T11: 11144.006 | U11: 42661.149 | W11: 9145.3085 | X11: 10792.23 | Y11: 11883.984 | Z11: 10730.833 | AA11: =SUM(W11:Z11) -> 42552.356 | AC11: 9639.767 | AD11: 11832.536 | AE11: 12395.555 | AF11: 11981.286 | AG11: =SUM(AC11:AF11) -> 45849.143 | AI11: 9636 | AJ11: =SUM(AJ9:AJ10) -> 11849 | AM11: =SUM(AI11:AL11) -> 21485
A12: =IF(Menu!$D$7="Português/Portuguese",B12,C12) -> Platts (US$) | B12: Platts (US$) | C12: Platts (US$)
A13: =IF(Menu!$D$7="Português/Portuguese",B13,C13) -> Platts (IODEX, Fe62%, Norte da China) (US$) | B13: Platts (IODEX, Fe62%, Norte da China) (US$) | C13: Platts (IODEX, Fe62%, North China)(US$) | E13: 166.9 | F13: 200.01 | G13: 162.94 | H13: 109.61 | K13: 141.6 | L13: 137.9 | M13: 103.31 | N13: 98.99 | Q13: 125.51 | R13: 110.9 | S13: 114 | T13: 128.3 | W13: 123.56 | X13: 111.8 | Y13: 99.7 | Z13: 103.4 | AA13: 108.8 | AC13: 103.6 | AD13: 97.8 | AE13: 102.3 | AF13: 106 | AG13: 102.3 | AI13: 104 | AJ13: 105.29
A14: =IF(Menu!$D$7="Português/Portuguese",B14,C14) -> Custo C1 (US$) | B14: Custo C1 (US$) | C14: C1 Cost
A15: =IF(Menu!$D$7="Português/Portuguese",B15,C15) -> Custo C1 (US$) | B15: Custo C1 (US$) | C15: C1 Cost (US$) | E15: 18.2 | F15: 19.9 | G15: 18.8 | H15: 21.6 | K15: 22.9 | L15: 24.3 | M15: 19.4 | N15: 21.273701 | Q15: 22.9 | R15: 21.772324 | S15: 21.34 | T15: 22.5 | W15: 23.5 | X15: 21.2 | Y15: 19.2 | Z15: 20.4 | AA15: 21 | AC15: 21 | AD15: 20.8 | AE15: 21.1 | AF15: 23.4 | AG15: 21.5 | AI15: 23.1 | AJ15: 24
A16: =IF(Menu!$D$7="Português/Portuguese",B16,C16) -> Receita Líquida Unitária (US$/wmt) | B16: Receita Líquida Unitária (US$/wmt) | C16: Unit Net Revenue (US$/t)
A17: =IF(Menu!$D$7="Português/Portuguese",B17,C17) -> Receita Líquida Unitária (US$/wmt) | B17: Receita Líquida Unitária (US$/wmt) | C17: Unit Net Revenue (US$/t) | E17: 121.67 | F17: 153.1045 | G17: 65.03 | H17: 55.38 | I17: 100.83 | K17: 106.97 | L17: 71.18 | M17: 52.780668 | N17: 68.811001 | O17: 72.92 | Q17: 91.786879 | R17: 65.648176 | S17: 75.230286 | T17: 91.423856 | U17: 80.3 | W17: 61.954498 | X17: 58.636042 | Y17: 45.897758 | Z17: 61.709861 | AA17: 56.5 | AC17: 61.960014 | AD17: 51.904556 | AE17: 65.674379 | AF17: 63.283276 | AG17: 59.4 | AI17: 62.6 | AJ17: 49.09

Sheet Projeções | Guidance
E2: 2026E | F2: 2027E | G2: 2028E | H2: 2029E | I2: 2030E | J2: 2023-2027E | K2: 2023-2028E | L2: 2024-2027E | M2: 2025 -2030E | N2: Longo Prazo
E3: 2026E | F3: 2027E | G3: 2028E | H3: 2029E | I3: 2030E | J3: 2023-2027E | K3: 2023-2028E | L3: 2024-2027E | M3: 2025 -2030E | N3: Long Term
A5: =IF(Menu!$D$7="Português/Portuguese",B5,C5) -> Projeções | B5: Projeções | C5: Guidances | E5: =IF(Menu!$D$7="Português/Portuguese",E2,E3) -> 2026E | F5: =IF(Menu!$D$7="Português/Portuguese",F2,F3) -> 2027E | G5: =IF(Menu!$D$7="Português/Portuguese",G2,G3) -> 2028E | H5: =IF(Menu!$D$7="Português/Portuguese",H2,H3) -> 2029E | I5: =IF(Menu!$D$7="Português/Portuguese",I2,I3) -> 2030E | J5: =IF(Menu!$D$7="Português/Portuguese",J2,J3) -> 2023-2027E | K5: =IF(Menu!$D$7="Português/Portuguese",K2,K3) -> 2023-2028E | L5: =IF(Menu!$D$7="Português/Portuguese",L2,L3) -> 2024-2027E | ... N5: =IF(Menu!$D$7="Português/Portuguese",N2,N3) -> Longo Prazo
A6: =IF(Menu!$D$7="Português/Portuguese",B6,C6) -> EBITDA Ajustado (R$ Milhões) | B6: EBITDA Ajustado (R$ Milhões) | C6: Adjusted EBITDA (R$ Million)
A7: =IF(Menu!$D$7="Português/Portuguese",B7,C7) -> Estimada | B7: Estimada | C7: Estimated | E7: n.a. | F7: n.a. | G7: n.a. | H7: n.a. | I7: n.a. | J7: n.a. | K7: n.a. | L7: n.a. | M7: n.a. | N7: n.a.
A8: =IF(Menu!$D$7="Português/Portuguese",B8,C8) -> Atingida | B8: Atingida | C8: Achieved | E8: n.a. | F8: n.a. | G8: n.a. | H8: n.a. | I8: n.a. | J8: n.a. | K8: n.a. | L8: n.a. | M8: n.a. | N8: n.a.
A9: =IF(Menu!$D$7="Português/Portuguese",B9,C9) -> Cash Cost (C1 US/ton) | B9: Cash Cost (C1 US/ton) | C9: Cash Cost (C1 US/ton)
A10: =IF(Menu!$D$7="Português/Portuguese",B10,C10) -> Estimada | B10: Estimada | C10: Estimated | E10: $25 - 26,0 | F10: n.a. | G10: n.a. | H10: n.a. | I10: n.a. | J10: n.a. | K10: n.a. | L10: n.a. | M10: n.a. | N10: n.a.
A11: =IF(Menu!$D$7="Português/Portuguese",B11,C11) -> Atingida | B11: Atingida | C11: Achieved | E11: n.a. | F11: n.a. | G11: n.a. | H11: n.a. | I11: n.a. | J11: n.a. | K11: n.a. | L11: n.a. | M11: n.a. | N11: n.a.
A12: =IF(Menu!$D$7="Português/Portuguese",B12,C12) -> Capex (R$ Milhões) | B12: Capex (R$ Milhões) | C12: Capex (R$ Million)
A13: =IF(Menu!$D$7="Português/Portuguese",B13,C13) -> Estimada | B13: Estimada | C13: Estimated | E13: n.a. | F13: n.a. | G13: n.a. | H13: n.a. | I13: n.a. | J13: n.a. | K13: n.a. | L13: n.a. | M13: n.a. | N13: n.a.
A14: =IF(Menu!$D$7="Português/Portuguese",B14,C14) -> Atingida | B14: Atingida | C14: Achieved | E14: n.a. | F14: n.a. | G14: n.a. | H14: n.a. | I14: n.a. | J14: n.a. | K14: n.a. | L14: n.a. | M14: n.a. | N14: n.a.
A15: =IF(Menu!$D$7="Português/Portuguese",B15,C15) -> Volume de Produção de Minério de Ferro (Compras+Produção em mil ton) | B15: Volume de Produção de Minério de Ferro (Compras+Produção em mil ton) | C15: Iron Ore Production Volume (Production + Purchases in thousand tons)
A16: =IF(Menu!$D$7="Português/Portuguese",B16,C16) -> Estimada | B16: Estimada | C16: Estimated | E16: 39,0 - 41,0 | F16: 43,5 - 47,5 | G16: 50 - 55 | H16: 55 - 60 | I16: 60 - 65 | J16: n.a. | K16: n.a. | L16: n.a. | M16: n.a. | N16: n.a.
A17: =IF(Menu!$D$7="Português/Portuguese",B17,C17) -> Atingida | B17: Atingida | C17: Achieved | E17: n.a. | F17: n.a. | G17: n.a. | H17: n.a. | I17: n.a. | J17: n.a. | K17: n.a. | L17: n.a. | M17: n.a. | N17: n.a.
A18: =IF(Menu!$D$7="Português/Portuguese",B18,C18) -> Potencial de Geração de EBITDA incremental com P15 (R$ milhões) | B18: Potencial de Geração de EBITDA incremental com P15 (R$ milhões) | C18: Potential Incremental EBITDA Generation from P15
A19: =IF(Menu!$D$7="Português/Portuguese",B19,C19) -> Estimada | B19: Estimada | C19: Estimated | E19: n.a. | F19: n.a. | G19: n.a. | H19: n.a. | I19: n.a. | J19: n.a. | K19: n.a. | L19: 4000 | M19: n.a. | N19: n.a.
A20: =IF(Menu!$D$7="Português/Portuguese",B20,C20) -> Atingida | B20: Atingida | C20: Achieved | E20: n.a. | F20: n.a. | G20: n.a. | H20: n.a. | I20: n.a. | J20: n.a. | K20: n.a. | L20: n.a. | M20: n.a. | N20: n.a.

Sheet Bal Patrimonial | Balance Sheet
E2: 44286 | F2: 44377 | G2: 44469 | H2: 44561 | J2: 44651 | K2: 44742 | L2: 44834 | M2: 44926 | O2: 45016 | P2: 45107 | Q2: 45199 | R2: 45291 | T2: 45382 | U2: 45473 | V2: 45565 | W2: 45657 | Y2: 45747 | Z2: 45838 | AA2: 45930 | AB2: 46022 | AD2: 46112 | AE2: 46203 | AF2: 46295 | AG2: 46387
E3: 03/31/2021 | F3: 06/30/2021 | G3: 09/30/2021 | H3: 12/31/2021 | J3: 03/31/2022 | K3: 06/30/2022 | L3: 09/30/2022 | M3: 12/31/2022 | O3: 03/31/2023 | P3: 06/30/2023 | Q3: 09/30/2023 | R3: 12/31/2023 | T3: 03/31/2024 | U3: 06/30/2024 | V3: 09/30/2024 | W3: 12/31/2024 | Y3: 03/31/2025 | Z3: 06/30/2025 | AA3: 09/30/2025 | AB3: 12/31/2025 | AD3: 03/31/2026 | AE3: 06/30/2026 | AF3: 09/30/2026 | AG3: 12/31/2026
A4: =IF(Menu!$D$7="Português/Portuguese",B4,C4) -> Valores em R$ (´000) | B4: Valores em R$ (´000) | C4: Values in R$ ('000) | E4: =IF(Menu!$D$7="Português/Portuguese",E2,E3) -> 44286 | F4: =IF(Menu!$D$7="Português/Portuguese",F2,F3) -> 44377 | G4: =IF(Menu!$D$7="Português/Portuguese",G2,G3) -> 44469 | H4: =IF(Menu!$D$7="Português/Portuguese",H2,H3) -> 44561 | J4: =IF(Menu!$D$7="Português/Portuguese",J2,J3) -> 44651 | K4: =IF(Menu!$D$7="Português/Portuguese",K2,K3) -> 44742 | L4: =IF(Menu!$D$7="Português/Portuguese",L2,L3) -> 44834 | M4: =IF(Menu!$D$7="Português/Portuguese",M2,M3) -> 44926 | O4: =IF(Menu!$D$7="Português/Portuguese",O2,O3) -> 45016 | P4: =IF(Menu!$D$7="Português/Portuguese",P2,P3) -> 45107 | Q4: =IF(Menu!$D$7="Português/Portuguese",Q2,Q3) -> 45199 | R4: =IF(Menu!$D$7="Português/Portuguese",R2,R3) -> 45291 | T4: =IF(Menu!$D$7="Português/Portuguese",T2,T3) -> 45382 | U4: =IF(Menu!$D$7="Português/Portuguese",U2,U3) -> 45473 | V4: =IF(Menu!$D$7="Português/Portuguese",V2,V3) -> 45565 | W4: =IF(Menu!$D$7="Português/Portuguese",W2,W3) -> 45657 | Y4: =IF(Menu!$D$7="Português/Portuguese",Y2,Y3) -> 45747 | Z4: =IF(Menu!$D$7="Português/Portuguese",Z2,Z3) -> 45838 | AA4: =IF(Menu!$D$7="Português/Portuguese",AA2,AA3) -> 45930 | AB4: =IF(Menu!$D$7="Português/Portuguese",AB2,AB3) -> 46022 | AD4: =IF(Menu!$D$7="Português/Portuguese",AD2,AD3) -> 46112 | AE4: 46203 | AF4: =IF(Menu!$D$7="Português/Portuguese",AF2,AF3) -> 46295 | AG4: =IF(Menu!$D$7="Português/Portuguese",AG2,AG3) -> 46387
A5: =IF(Menu!$D$7="Português/Portuguese",B5,C5) -> Ativo | B5: Ativo | C5: Assets
A6: =IF(Menu!$D$7="Português/Portuguese",B6,C6) -> Ativo Circulante | B6: Ativo Circulante | C6: Current Assets | E6: =SUM(E7:E12) -> 8714352 | F6: =SUM(F7:F12) -> 13838984 | G6: =SUM(G7:G12) -> 14545213 | H6: =SUM(H7:H12) -> 12797847 | J6: =SUM(J7:J12) -> 9740577 | K6: =SUM(K7:K12) -> 9528471 | L6: =SUM(L7:L12) -> 11651602 | M6: =SUM(M7:M12) -> 9617117 | O6: =SUM(O7:O12) -> 12541976 | P6: =SUM(P7:P12) -> 10482450 | Q6: =SUM(Q7:Q12) -> 13472894 | R6: =SUM(R7:R12) -> 12987583 | T6: =SUM(T7:T12) -> 12983945 | U6: =SUM(U7:U12) -> 13779473 | V6: =SUM(V7:V12) -> 16603526 | W6: =SUM(W7:W12) -> 17832106 | Y6: =SUM(Y7:Y12)-1 -> 16680740 | Z6: =SUM(Z7:Z12) -> 16982284 | AA6: =SUM(AA7:AA12) -> 16750738 | AB6: =SUM(AB7:AB12)-1 -> 12084606 | AD6: =SUM(AD7:AD12) -> 12686700 | AE6: =SUM(AE7:AE12) -> 11437315
A7: =IF(Menu!$D$7="Português/Portuguese",B7,C7) -> Caixa e Equivalentes de Caixa | B7: Caixa e Equivalentes de Caixa | C7: Cash and Cash Equivalents | E7: 5116457 | F7: 9065450 | G7: 11830791 | H7: 10716802 | J7: 6352605 | K7: 7369032 | L7: 9583962 | M7: 6489572 | O7: 9013831 | P7: 7848198 | Q7: 10622092 | R7: 9795878 | T7: 10409096 | U7: 11773696 | V7: 14479020 | W7: 15185928 | Y7: 14281539 | Z7: 14354813 | AA7: 13584743 | AB7: 8871892 | AD7: 8842373 | AE7: 7920160
A8: =IF(Menu!$D$7="Português/Portuguese",B8,C8) -> Aplicações Financeiras | B8: Aplicações Financeiras | C8: Financial Applications | E8: 1431 | F8: 1886 | G8: 212739 | H8: 217023 | J8: 222685 | K8: 226229 | L8: 136927 | M8: 247326 | O8: 237186 | P8: 11248 | Q8: 12084 | R8: 12452 | T8: 12836 | U8: 13164 | V8: 13530 | W8: 13891 | Y8: 14320 | Z8: 14799 | AA8: 17444 | AB8: 18074 | AD8: 18700 | AE8: 19242
A9: =IF(Menu!$D$7="Português/Portuguese",B9,C9) -> Contas a Receber | B9: Contas a Receber | C9: Accounts Receivable | E9: 2693170 | F9: 3629355 | G9: 895340 | H9: 749766 | J9: 2068539 | K9: 790965 | L9: 657217 | M9: 1545463 | O9: 1657386 | P9: 857774 | Q9: 1397789 | R9: 1712870 | T9: 432504 | U9: 901031 | V9: 688910 | W9: 1506580 | Y9: 973080 | Z9: 892974 | AA9: 1543609 | AB9: 1914795 | AD9: 2257136 | AE9: 1895014
A10: =IF(Menu!$D$7="Português/Portuguese",B10,C10) -> Estoques | B10: Estoques | C10: Inventory | E10: 608621 | F10: 949040 | G10: 1253443 | H10: 855205 | J10: 821117 | K10: 865463 | L10: 818002 | M10: 923849 | O10: 1140770 | P10: 1083020 | Q10: 916364 | R10: 935979 | T10: 755748 | U10: 700595 | V10: 729454 | W10: 777848 | Y10: 847936 | Z10: 869275 | AA10: 818767 | AB10: 825422 | AD10: 833780 | AE10: 764202
A11: =IF(Menu!$D$7="Português/Portuguese",B11,C11) -> Impostos a recuperar | B11: Impostos a recuperar | C11: Taxes to be recovered | E11: 29622 | F11: 41010 | G11: 52205 | H11: 105989 | J11: 115047 | K11: 116571 | L11: 135972 | M11: 177737 | O11: 213897 | P11: 281680 | Q11: 298308 | R11: 227624 | T11: 147203 | U11: 196603 | V11: 437521 | W11: 70613 | Y11: 171092 | Z11: 438965 | AA11: 279211 | AB11: 104913 | AD11: 265245 | AE11: 190393
A12: =IF(Menu!$D$7="Português/Portuguese",B12,C12) -> Outros Ativos Circulantes | B12: Outros Ativos Circulantes | C12: Other Current Assets | E12: 265051 | F12: 152243 | G12: 300695 | H12: 153062 | J12: 160584 | K12: 160211 | L12: 319522 | M12: 233170 | O12: 278906 | P12: 400530 | Q12: 226257 | R12: 302780 | T12: 1226558 | U12: 194384 | V12: 255091 | W12: 277246 | Y12: 392774 | Z12: 411458 | AA12: 506964 | AB12: 349511 | AD12: 469466 | AE12: 648304
A13: =IF(Menu!$D$7="Português/Portuguese",B13,C13) -> Adiantamentos a fornecedores | B13: Adiantamentos a fornecedores | C13: Prepaid Expenses | E13: 92543 | F13: 91779 | G13: 89175 | H13: 90952 | J13: 91358 | K13: 96082 | L13: 98102 | M13: 100696 | O13: 95784 | P13: 91448 | Q13: 48805 | R13: 10230 | T13: 44277 | U13: 97134 | V13: 162011 | W13: 142611 | Y13: 145949 | Z13: 160493 | AA13: 159008 | AB13: 146440 | AD13: 254638.8 | AE13: 246372
A14: =IF(Menu!$D$7="Português/Portuguese",B14,C14) -> Instrumentos financeiros derivativos | B14: Instrumentos financeiros derivativos | C14: Derivative financial instruments | E14: 0 | F14: 0 | G14: 0 | H14: 0 | J14: 0 | K14: 0 | L14: 0 | M14: 0 | O14: 0 | P14: 0 | Q14: 0 | R14: 0 | T14: 966907 | U14: 0 | V14: 0 | W14: 0 | Y14: 0 | Z14: 0 | AA14: 0 | AB14: 0 | AD14: 4080.2661 | AE14: 0
A15: =IF(Menu!$D$7="Português/Portuguese",B15,C15) -> Outros | B15: Outros | C15: Other | E15: 172508 | F15: 60464 | G15: 211520 | H15: 62110 | J15: 69226 | K15: 64129 | L15: 221420 | M15: 132474 | O15: 183122 | P15: 309082 | Q15: 177452 | R15: 292550 | T15: 215374 | U15: 97250 | V15: 98508 | W15: 134635 | Y15: 246825 | Z15: 250965 | AA15: 347956 | AB15: 203071 | AD15: 210746.94 | AE15: 401932
A16: =IF(Menu!$D$7="Português/Portuguese",B16,C16) -> Ativo Não Circulante | B16: Ativo Não Circulante | C16: Non current Assets | E16: =SUM(E17:E20,E23:E24,E28) -> 13090264 | F16: =SUM(F17:F20,F23:F24,F28) -> 13486985 | G16: =SUM(G17:G20,G23:G24,G28) -> 13815368 | H16: =SUM(H17:H20,H23:H24,H28) -> 14193287 | J16: =SUM(J17:J20,J23:J24,J28) -> 14307501 | K16: =SUM(K17:K20,K23:K24,K28) -> 14612140 | L16: =SUM(L17:L20,L23:L24,L28) -> 14856353 | M16: =SUM(M17:M20,M23:M24,M28) -> 15436479 | O16: =SUM(O17:O20,O23:O24,O28) -> 15557816 | P16: =SUM(P17:P20,P23:P24,P28) -> 15826804 | Q16: =SUM(Q17:Q20,Q23:Q24,Q28) -> 16152220 | R16: =SUM(R17:R20,R23:R24,R28) -> 16703022 | T16: =SUM(T17:T20,T23:T24,T28) -> 16742020 | U16: =SUM(U17:U20,U23:U24,U28) -> 17076033 | V16: =SUM(V17:V20,V23:V24,V28) -> 17856523 | W16: =SUM(W17:W20,W23:W24,W28) -> 18558813 | Y16: =SUM(Y17:Y20,Y23:Y24,Y28)-1 -> 18640278 | Z16: =SUM(Z17:Z20,Z23:Z24,Z28) -> 19008828 | AA16: =SUM(AA17:AA20,AA23:AA24,AA28) -> 19562373 | AB16: =SUM(AB17:AB20,AB23:AB24,AB28) -> 21468968 | AD16: =SUM(AD17:AD20,AD23:AD24,AD28) -> 21501780 | AE16: =SUM(AE17:AE20,AE23:AE24,AE28) -> 22410123
A17: =IF(Menu!$D$7="Português/Portuguese",B17,C17) -> Tributos Diferidos | B17: Tributos Diferidos | C17: Deferred Taxes | E17: 0 | F17: 0 | G17: 0 | H17: 0 | J17: 0 | K17: 0 | L17: 0 | M17: 0 | O17: 0 | P17: 0 | Q17: 0 | R17: 0 | T17: 0 | U17: 0 | V17: 0 | W17: 143709 | Y17: 0 | Z17: 0 | AA17: 2972 | AB17: 5598 | AD17: 4230 | AE17: 3278
A18: =IF(Menu!$D$7="Português/Portuguese",B18,C18) -> Impostos a recuperar | B18: Impostos a recuperar | C18: Recoverable Taxes | E18: 77746 | F18: 94358 | G18: 114504 | H18: 117230 | J18: 117670 | K18: 116279 | L18: 113965 | M18: 114336 | O18: 115347 | P18: 118990 | Q18: 117581 | R18: 291251 | T18: 196649 | U18: 193218 | V18: 162785 | W18: 281507 | Y18: 264780 | Z18: 285555 | AA18: 366590 | AB18: 551143 | AD18: 445310 | AE18: 718146
A19: =IF(Menu!$D$7="Português/Portuguese",B19,C19) -> Estoques LP | B19: Estoques LP | C19: Long-term Inventories | E19: 381175 | F19: 428434 | G19: 491159 | H19: 656193 | J19: 703008 | K19: 798765 | L19: 942552 | M19: 1039983 | O19: 1134889 | P19: 1225678 | Q19: 1311820 | R19: 1412103 | T19: 1501929 | U19: 1592389 | V19: 1694983 | W19: 1761172 | Y19: 1859807 | Z19: 1954823 | AA19: 2030856 | AB19: 2073526 | AD19: 2136768 | AE19: 2251878
A20: =IF(Menu!$D$7="Português/Portuguese",B20,C20) -> Outros Ativos Não Circulantes | B20: Outros Ativos Não Circulantes | C20: Other Non-current Assets | E20: 264527 | F20: 243125 | G20: 218278 | H20: 193420 | J20: 174364 | K20: 152313 | L20: 131693 | M20: 113131 | O20: 91437 | P20: 85080 | Q20: 89512 | R20: 110926 | T20: 113216 | U20: 138591 | V20: 571961 | W20: 536687 | Y20: 520576 | Z20: 479813 | AA20: 472262 | AB20: 452021 | AD20: 428151 | AE20: 411781
A21: =IF(Menu!$D$7="Português/Portuguese",B21,C21) -> Adiantamentos a fornecedores | B21: Adiantamentos a fornecedores | C21: Advances to Suppliers | E21: 200511 | F21: 175910 | G21: 148625 | H21: 128849 | J21: 109960 | K21: 88075 | L21: 65402 | M21: 41694 | O21: 16141 | P21: 239 | Q21: 2803 | R21: 4177 | T21: 4341 | U21: 4341 | V21: 426087 | W21: 402406 | Y21: 380330 | Z21: 353912 | AA21: 336925 | AB21: 314569 | AD21: 288816.72 | AE21: 246372
A22: =IF(Menu!$D$7="Português/Portuguese",B22,C22) -> Outros ativos | B22: Outros ativos | C22: Other Assets | E22: 64016 | F22: 67215 | G22: 69653 | H22: 64571 | J22: 64404 | K22: 64238 | L22: 66291 | M22: 71437 | O22: 75296 | P22: 84841 | Q22: 86709 | R22: 106749 | T22: 108875 | U22: 134250 | V22: 145874 | W22: 134281 | Y22: 140246 | Z22: 125901 | AA22: 135337 | AB22: 137453 | AD22: 139333.28 | AE22: 145267.88
A23: =IF(Menu!$D$7="Português/Portuguese",B23,C23) -> Investimentos | B23: Investimentos | C23: Investments | E23: 1236512 | F23: 1271294 | G23: 1334601 | H23: 1313186 | J23: 1329013 | K23: 1364642 | L23: 1421294 | M23: 1425588 | O23: 1449833 | P23: 1509379 | Q23: 1577420 | R23: 1577155 | T23: 1639647 | U23: 1703187 | V23: 1768310 | W23: 1774066 | Y23: 1824114 | Z23: 1911552 | AA23: 1994950 | AB23: 3061007 | AD23: 2971247 | AE23: 3095981
A24: =IF(Menu!$D$7="Português/Portuguese",B24,C24) -> Imobilizado | B24: Imobilizado | C24: Property, Plant and Equipment (PP&E) | E24: 6894524 | F24: 7221814 | G24: 7433888 | H24: 7692003 | J24: 7765025 | K24: 7967143 | L24: 8037440 | M24: 8356288 | O24: 8385565 | P24: 8516627 | Q24: 8694229 | R24: 8958768 | T24: 8945519 | U24: 9110866 | V24: 9326308 | W24: 9704951 | Y24: 9820926 | Z24: 10030770 | AA24: 10356293 | AB24: 10994169 | AD24: 11190051 | AE24: 11608118
A25: =IF(Menu!$D$7="Português/Portuguese",B25,C25) -> Imobilizado em Operação | B25: Imobilizado em Operação | C25: Property, Plant and Equipment in Operation | E25: 4921380 | F25: 5042709 | G25: 5364258 | H25: 5697599 | J25: 5792135 | K25: 5877936 | L25: 6129805 | M25: 6767821 | O25: 6674423 | P25: 6663321 | Q25: 6605488 | R25: 6934291 | T25: 7020411 | U25: 7070493 | V25: 7065480 | W25: 7106751 | Y25: 7011639 | Z25: 6938283 | AA25: 6915762 | AB25: 6898524 | AD25: 6802122 | AE25: 6863383
A26: =IF(Menu!$D$7="Português/Portuguese",B26,C26) -> Direito de Uso em Arrendamento | B26: Direito de Uso em Arrendamento | C26: Right-of-Use Assets (Leases) | E26: 87419 | F26: 86304 | G26: 112895 | H26: 125672 | J26: 123070 | K26: 136211 | L26: 132840 | M26: 129091 | O26: 125522 | P26: 122312 | Q26: 117576 | R26: 116085 | T26: 114593 | U26: 177471 | V26: 113056 | W26: 110239 | Y26: 115601 | Z26: 110680 | AA26: 106868 | AB26: 119109 | AD26: 142777 | AE26: 135883
A27: =IF(Menu!$D$7="Português/Portuguese",B27,C27) -> Imobilizado em Andamento | B27: Imobilizado em Andamento | C27: Assets Under Construction | E27: 1885725 | F27: 2092801 | G27: 1956735 | H27: 1868732 | J27: 1849820 | K27: 1952996 | L27: 1774795 | M27: 1459376 | O27: 1585620 | P27: 1730994 | Q27: 1971165 | R27: 1908392 | T27: 1810515 | U27: 1922902 | V27: 2147772 | W27: 2487961 | Y27: 2693686 | Z27: 2981807 | AA27: 3333663 | AB27: 3976536 | AD27: 4245152 | AE27: 4608852
A28: =IF(Menu!$D$7="Português/Portuguese",B28,C28) -> Intangível | B28: Intangível | C28: Intangible Assets | E28: 4235780 | F28: 4227960 | G28: 4222938 | H28: 4221255 | J28: 4218421 | K28: 4212998 | L28: 4209409 | M28: 4387153 | O28: 4380745 | P28: 4371050 | Q28: 4361658 | R28: 4352819 | T28: 4345060 | U28: 4337782 | V28: 4332176 | W28: 4356721 | Y28: 4350076 | Z28: 4346315 | AA28: 4338450 | AB28: 4331504 | AD28: 4326023 | AE28: 4320941
A29: =IF(Menu!$D$7="Português/Portuguese",B29,C29) -> Total do Ativo | B29: Total do Ativo | C29: Total Assets | E29: =SUM(E16,E6) -> 21804616 | F29: =SUM(F16,F6) -> 27325969 | G29: =SUM(G16,G6) -> 28360581 | H29: =SUM(H16,H6) -> 26991134 | J29: =SUM(J16,J6) -> 24048078 | K29: =SUM(K16,K6) -> 24140611 | L29: =SUM(L16,L6) -> 26507955 | M29: =SUM(M16,M6) -> 25053596 | O29: =SUM(O16,O6) -> 28099792 | P29: =SUM(P16,P6) -> 26309254 | Q29: =SUM(Q16,Q6) -> 29625114 | R29: =SUM(R16,R6) -> 29690605 | T29: =SUM(T16,T6) -> 29725965 | U29: =SUM(U16,U6) -> 30855506 | V29: =SUM(V16,V6) -> 34460049 | W29: =SUM(W16,W6) -> 36390919 | Y29: =SUM(Y16,Y6) -> 35321018 | Z29: =SUM(Z16,Z6) -> 35991112 | AA29: =SUM(AA16,AA6) -> 36313111 | AB29: =SUM(AB16,AB6) -> 33553574 | AD29: =SUM(AD16,AD6) -> 34188480 | AE29: =SUM(AE16,AE6) -> 33847438
A30: =IF(Menu!$D$7="Português/Portuguese",B30,C30) -> 0
A31: =IF(Menu!$D$7="Português/Portuguese",B31,C31) -> Passivo e Patrimônio Líquido | B31: Passivo e Patrimônio Líquido | C31: Liabilities and Equity
A32: =IF(Menu!$D$7="Português/Portuguese",B32,C32) -> Passivo e Patrimônio Líquido | B32: Passivo e Patrimônio Líquido | C32: Current Liabilities | E32: =SUM(E33:E40,E44) -> 4400123 | F32: =SUM(F33:F40,F44) -> 6372933 | G32: =SUM(G33:G40,G44) -> 7369763 | H32: =SUM(H33:H40,H44) -> 6532583 | J32: =SUM(J33:J40,J44) -> 3570380 | K32: =SUM(K33:K40,K44) -> 3806027 | L32: =SUM(L33:L40,L44) -> 4204096 | M32: =SUM(M33:M40,M44) -> 4642824 | O32: =SUM(O33:O40,O44) -> 4256069 | P32: =SUM(P33:P40,P44) -> 3833023 | Q32: =SUM(Q33:Q40,Q44) -> 4551259 | R32: =SUM(R33:R40,R44) -> 6069785 | T32: =SUM(T33:T40,T44) -> 4659971 | U32: =SUM(U33:U40,U44) -> 5165901 | V32: =SUM(V33:V40,V44) -> 9323970 | W32: =SUM(W33:W40,W44) -> 7545988 | Y32: =SUM(Y33:Y40,Y44)-1 -> 7442910 | Z32: =SUM(Z33:Z40,Z44)+1 -> 9523221 | AA32: =SUM(AA33:AA40,AA44) -> 8283088 | AB32: =SUM(AB33:AB40,AB44) -> 10039250 | AD32: =SUM(AD33:AD40,AD44) -> 9233494 | AE32: =SUM(AE33:AE40,AE44) -> 9750279
A33: =IF(Menu!$D$7="Português/Portuguese",B33,C33) -> Obrigações Sociais e Trabalhistas | B33: Obrigações Sociais e Trabalhistas | C33: Payroll and Social Obligations | E33: 69211 | F33: 84912 | G33: 98304 | H33: 75320 | J33: 79117 | K33: 95616 | L33: 103167 | M33: 82196 | O33: 83200 | P33: 100981 | Q33: 114704 | R33: 92972 | T33: 95141 | U33: 117327 | V33: 130435 | W33: 102121 | Y33: 107646 | Z33: 129502 | AA33: 135688 | AB33: 107051 | AD33: 110604 | AE33: 130642
A34: =IF(Menu!$D$7="Português/Portuguese",B34,C34) -> Fornecedores | B34: Fornecedores | C34: Suppliers | E34: 1619709 | F34: 1958788 | G34: 1497437 | H34: 1150427 | J34: 1111644 | K34: 1134960 | L34: 1107268 | M34: 1384390 | O34: 1485456 | P34: 1555921 | Q34: 1618377 | R34: 1843187 | T34: 1290963 | U34: 1786792 | V34: 1991804 | W34: 2067209 | Y34: 1791588 | Z34: 1983236 | AA34: 2179892 | AB34: 2171640 | AD34: 1674759 | AE34: 2135631
A35: =IF(Menu!$D$7="Português/Portuguese",B35,C35) -> Fornecedores Risco Sacado | B35: Fornecedores Risco Sacado | C35: Supplier Financing | E35: 0 | F35: 0 | G35: 0 | H35: 0 | J35: 0 | K35: 0 | L35: 0 | M35: 0 | O35: 0 | P35: 0 | Q35: 0 | R35: 0 | T35: 0 | U35: 104617 | V35: 123718 | W35: 187773 | Y35: 189448 | Z35: 204275 | AA35: 349397 | AB35: 537233 | AD35: 359710 | AE35: 172719
A36: =IF(Menu!$D$7="Português/Portuguese",B36,C36) -> Obrigações Fiscais | B36: Obrigações Fiscais | C36: Tax Liabilities | E36: 1521982 | F36: 2605027 | G36: 2585823 | H36: 2270111 | J36: 495417 | K36: 612368 | L36: 583998 | M36: 432216 | O36: 460477 | P36: 345696 | Q36: 609227 | R36: 538795 | T36: 228066 | U36: 460868 | V36: 198704 | W36: 219552 | Y36: 225895 | Z36: 359876 | AA36: 281264 | AB36: 346416 | AD36: 234686 | AE36: 156278
A37: =IF(Menu!$D$7="Português/Portuguese",B37,C37) -> Empréstimos e Financiamentos | B37: Empréstimos e Financiamentos | C37: Loans and Financing | E37: 58858 | F37: 255410 | G37: 320726 | H37: 478410 | J37: 780219 | K37: 841869 | L37: 879978 | M37: 1045990 | O37: 630502 | P37: 368348 | Q37: 421551 | R37: 445182 | T37: 522273 | U37: 679504 | V37: 1203168 | W37: 1340018 | Y37: 1090110 | Z37: 1581100 | AA37: 1562918 | AB37: 1650923 | AD37: 1524135 | AE37: 1592962
A38: =IF(Menu!$D$7="Português/Portuguese",B38,C38) -> Adiantamento de clientes | B38: Adiantamento de clientes | C38: Advances from Customers | E38: 958304 | F38: 967924 | G38: 2685694 | H38: 1974014 | J38: 892690 | K38: 868612 | L38: 1367430 | M38: 945808 | O38: 916083 | P38: 1314644 | Q38: 1538878 | R38: 1710383 | T38: 1600723 | U38: 1843340 | V38: 2445383 | W38: 3193893 | Y38: 3585816 | Z38: 3470209 | AA38: 3594890 | AB38: 3782726 | AD38: 3888257 | AE38: 3786270
A39: =IF(Menu!$D$7="Português/Portuguese",B39,C39) -> Dividendos e JCP a pagar | B39: Dividendos e JCP a pagar | C39: Dividends and Interest on Equity Payable | E39: 0 | F39: 288405 | G39: 0 | H39: 402456 | J39: -914 | K39: -913 | L39: 0 | M39: 74566 | O39: 74569 | P39: 0 | Q39: 0 | R39: 369960 | T39: 369960 | U39: 0 | V39: 2930251 | W39: 179868 | Y39: 178426 | Z39: 1448069 | AA39: 0 | AB39: 1163385 | AD39: 1163385 | AE39: 1163385
A40: =IF(Menu!$D$7="Português/Portuguese",B40,C40) -> Outras Obrigações | B40: Outras Obrigações | C40: Other Liabilities | E40: 165016 | F40: 206193 | G40: 174220 | H40: 175948 | J40: 206565 | K40: 248053 | L40: 159564 | M40: 674542 | O40: 602984 | P40: 143691 | Q40: 244999 | R40: 1065250 | T40: 548146 | U40: 167422 | V40: 290203 | W40: 244602 | Y40: 262475 | Z40: 336843 | AA40: 172854 | AB40: 274160 | AD40: =230789+42516 -> 273305 | AE40: 606144
A41: =IF(Menu!$D$7="Português/Portuguese",B41,C41) -> Passivos de arredamentos | B41: Passivos de arredamentos | C41: Lease Liabilities | E41: 7881 | F41: 7592 | G41: 10099 | H41: 19624 | J41: 20302 | K41: 21651 | L41: 20921 | M41: 17533 | O41: 15377 | P41: 13204 | Q41: 11998 | R41: 11412 | T41: 11139 | U41: 17617 | V41: 14392 | W41: 12257 | Y41: 18357 | Z41: 14795 | AA41: 12187 | AB41: 16846 | AD41: 42516 | AE41: 37285
...

Sheet DRE | Income Statement
E2: 1T20 | F2: 2T20 | G2: 3T20 | H2: 4T20 | I2: 2020 | K2: 1T21 | L2: 2T21 | M2: 3T21 | N2: 4T21 | O2: 2021 | Q2: 1T22 | R2: 2T22 | S2: 3T22 | T2: 4T22 | U2: 2022 | W2: 1T23 | X2: 2T23 | Y2: 3T23 | Z2: 4T23 | AA2: 2023 | AC2: 1T24 | AD2: 2T24 | AE2: 3T24 | AF2: 4T24 | AG2: 2024 | AI2: 1T25 | AJ2: 2T25 | AK2: 3T25 | AL2: 4T25 | AM2: 2025 | AO2: 1T26 | AP2: 2T26 | AQ2: 3T26 | AR2: 4T26 | AS2: 2026
E3: 1Q20 | F3: 2Q20 | G3: 3Q20 | H3: 4Q20 | I3: 2020 | K3: 1Q21 | L3: 2Q21 | M3: 3Q21 | N3: 4Q21 | O3: 2021 | Q3: 1Q22 | R3: 2Q22 | S3: 3Q22 | T3: 4Q22 | U3: 2022 | W3: 1Q23 | X3: 2Q23 | Y3: 3Q23 | Z3: 4Q23 | AA3: 2023 | AC3: 1Q24 | AD3: 2Q24 | AE3: 3Q24 | AF3: 4Q24 | AG3: 2024 | AI3: 1Q25 | AJ3: 2Q25 | AK3: 3Q25 | AL3: 3Q26 | AM3: 2025 | AO3: 1Q26 | AP3: 2Q26 | AQ3: 3Q26 | AR3: 4Q26 | AS3: 2026
A4: =IF(Menu!$D$7="Português/Portuguese",B4,C4) -> DEMONSTRAÇÃO DE RESULTADO CONSOLIDADO | B4: DEMONSTRAÇÃO DE RESULTADO CONSOLIDADO | C4: INCOME STATEMENT CONSOLIDATED
A5: =IF(Menu!$D$7="Português/Portuguese",B5,C5) -> Valores em R$ ('000) | B5: Valores em R$ ('000) | C5: Values in R$ ('000) | E5: =IF(Menu!$D$7="Português/Portuguese",E2,E3) -> 1T20 | F5: =IF(Menu!$D$7="Português/Portuguese",F2,F3) -> 2T20 | G5: =IF(Menu!$D$7="Português/Portuguese",G2,G3) -> 3T20 | H5: =IF(Menu!$D$7="Português/Portuguese",H2,H3) -> 4T20 | I5: =IF(Menu!$D$7="Português/Portuguese",I2,I3) -> 2020 | K5: =IF(Menu!$D$7="Português/Portuguese",K2,K3) -> 1T21 | L5: =IF(Menu!$D$7="Português/Portuguese",L2,L3) -> 2T21 | M5: =IF(Menu!$D$7="Português/Portuguese",M2,M3) -> 3T21 | N5: =IF(Menu!$D$7="Português/Portuguese",N2,N3) -> 4T21 | O5: =IF(Menu!$D$7="Português/Portuguese",O2,O3) -> 2021 | Q5: =IF(Menu!$D$7="Português/Portuguese",Q2,Q3) -> 1T22 | R5: =IF(Menu!$D$7="Português/Portuguese",R2,R3) -> 2T22 | S5: =IF(Menu!$D$7="Português/Portuguese",S2,S3) -> 3T22 | T5: =IF(Menu!$D$7="Português/Portuguese",T2,T3) -> 4T22 | U5: =IF(Menu!$D$7="Português/Portuguese",U2,U3) -> 2022 | W5: =IF(Menu!$D$7="Português/Portuguese",W2,W3) -> 1T23 | X5: =IF(Menu!$D$7="Português/Portuguese",X2,X3) -> 2T23 | Y5: =IF(Menu!$D$7="Português/Portuguese",Y2,Y3) -> 3T23 | Z5: =IF(Menu!$D$7="Português/Portuguese",Z2,Z3) -> 4T23 | AA5: =IF(Menu!$D$7="Português/Portuguese",AA2,AA3) -> 2023 | AC5: =IF(Menu!$D$7="Português/Portuguese",AC2,AC3) -> 1T24 | AD5: =IF(Menu!$D$7="Português/Portuguese",AD2,AD3) -> 2T24 | AE5: =IF(Menu!$D$7="Português/Portuguese",AE2,AE3) -> 3T24 | AF5: =IF(Menu!$D$7="Português/Portuguese",AF2,AF3) -> 4T24 | AG5: =IF(Menu!$D$7="Português/Portuguese",AG2,AG3) -> 2024 | AI5: =IF(Menu!$D$7="Português/Portuguese",AI2,AI3) -> 1T25 | AJ5: =IF(Menu!$D$7="Português/Portuguese",AJ2,AJ3) -> 2T25 | AK5: =IF(Menu!$D$7="Português/Portuguese",AK2,AK3) -> 3T25 | AL5: =IF(Menu!$D$7="Português/Portuguese",AL2,AL3) -> 4T25 | AM5: =IF(Menu!$D$7="Português/Portuguese",AM2,AM3) -> 2025 | AO5: =IF(Menu!$D$7="Português/Portuguese",AO2,AO3) -> 1T26 | AP5: 2T26 | AQ5: =IF(Menu!$D$7="Português/Portuguese",AQ2,AQ3) -> 3T26 | AR5: =IF(Menu!$D$7="Português/Portuguese",AR2,AR3) -> 4T26 | AS5: =IF(Menu!$D$7="Português/Portuguese",AS2,AS3) -> 2026
A6: =IF(Menu!$D$7="Português/Portuguese",B6,C6) -> Receita Líquida de Vendas | B6: Receita Líquida de Vendas | C6: Net Revenue | E6: 1821464 | F6: 2877230 | G6: 4238829 | H6: 4852008 | I6: 13789531 | K6: 5638570 | L6: 7693326 | M6: 3057587 | N6: 2650386 | O6: 19039869 | Q6: 3891712 | R6: 2679299 | S6: 2723538 | T6: 3978016 | U6: 13272565 | W6: 4514331 | X6: 4014012 | Y6: 4839552 | Z6: 5512531 | AA6: 18880426 | AC6: 3510759 | AD6: 4189057 | AE6: 3966836 | AF6: 4829665 | AG6: =SUM(AC6:AF6) -> 16496317 | AI6: 3911382 | AJ6: 4038202 | AK6: 5146073 | AL6: 4929465 | AM6: 18025121 | AO6: 3704133 | AP6: 3613204 | AS6: =SUM(AO6:AR6) -> 7317337
A7: =IF(Menu!$D$7="Português/Portuguese",B7,C7) -> Mercado Interno | B7: Mercado Interno | C7: Domestic Market | E7: 255516 | F7: 332903 | G7: 420543 | H7: 487638 | I7: 1496600 | K7: 784301 | L7: 891296 | M7: 949735 | N7: 427461 | O7: 3052793 | Q7: 492387 | R7: 390254 | S7: 419084 | T7: 319206 | U7: 1620931 | W7: 260136 | X7: 351358 | Y7: 541405 | Z7: 573822 | AA7: 1726721 | AC7: 409308 | AD7: 290506 | AE7: 391312 | AF7: 335313 | AG7: =SUM(AC7:AF7) -> 1426439 | AI7: 412414 | AJ7: 401745 | AK7: 364749 | AL7: 375238 | AM7: 1554145 | AO7: 296610 | AP7: 354336 | AS7: =SUM(AO7:AR7) -> 650946
A8: =IF(Menu!$D$7="Português/Portuguese",B8,C8) -> Mercado Externo | B8: Mercado Externo | C8: Foreign Market | E8: 1565948 | F8: 2544327 | G8: 3818286 | H8: 4364370 | I8: 12292931 | K8: 4854269 | L8: 6802030 | M8: 2107852 | N8: 2222925 | O8: 15987076 | Q8: 3399325 | R8: 2289045 | S8: 2304454 | T8: 3658810 | U8: 11651634 | W8: 4254195 | X8: 3662654 | Y8: 4298147 | Z8: 4938709 | AA8: 17153705 | AC8: 3101451 | AD8: 3898551 | AE8: 3575524 | AF8: 4494352 | AG8: =SUM(AC8:AF8) -> 15069878 | AI8: 3498968 | AJ8: 3636457 | AK8: 4781324 | AL8: 4554227 | AM8: 16470976 | AO8: 3407523 | AP8: 3258868 | AS8: =SUM(AO8:AR8) -> 6666391
A9: =IF(Menu!$D$7="Português/Portuguese",B9,C9) -> Custo dos Produtos Vendidos | B9: Custo dos Produtos Vendidos | C9: Cost of Goods Sold (COGS) | E9: -807177 | F9: -1350311 | G9: -1304771 | H9: -2018349 | I9: -5480608 | K9: -1907069 | L9: -2427624 | M9: -1998327 | N9: -1675245 | O9: -8008265 | Q9: -1603727 | R9: -1835234 | S9: -1777669 | T9: -1866636 | U9: -7083266 | W9: -2227464 | X9: -2622510 | Y9: -2523535 | Z9: -2465549 | AA9: -9839057 | AC9: -1890164 | AD9: -1946282 | AE9: -2063350 | AF9: -2125231 | AG9: =SUM(AC9:AF9) -> -8025027 | AI9: -2237701 | AJ9: -2377876 | AK9: -2645483 | AL9: -2589518 | AM9: -9850577 | AO9: -2034884 | AP9: -2105849.3 | AS9: =SUM(AO9:AR9) -> -4140733.3
A10: =IF(Menu!$D$7="Português/Portuguese",B10,C10) -> CPV, sem Depreciação e Exaustão | B10: CPV, sem Depreciação e Exaustão | C10: COGS, without Depreciation and Exhaustion | E10: -664920 | F10: -1211403 | G10: -1140380 | H10: -1251003 | I10: -4267706 | K10: -1760049 | L10: -2254686 | M10: -1810167 | N10: -1451228 | O10: -7276130 | Q10: -1367420 | R10: -1598279 | S10: -1530791 | T10: -1597180 | U10: -6093670 | W10: -1977519 | X10: -2375279 | Y10: -2261279 | Z10: -2192820 | AA10: -8806896 | AC10: -1608726 | AD10: -1653593 | AE10: -1776498 | AF10: -1843240 | AG10: =SUM(AC10:AF10) -> -6882057 | AI10: -1932029 | AJ10: -2065693 | AK10: -2330003 | AL10: -2272791 | AM10: -8600517 | AO10: -1678660.5 | AP10: -1747745.3 | AS10: =SUM(AO10:AR10) -> -3426405.9
A11: =IF(Menu!$D$7="Português/Portuguese",B11,C11) -> Depreciação/ Exaustão alocada ao custo | B11: Depreciação/ Exaustão alocada ao custo | C11: Depreciation/Exhaustion allocated to cost | E11: -142257 | F11: -138908 | G11: -164391 | H11: -767346 | I11: -1212902 | K11: -147020 | L11: -172938 | M11: -188160 | N11: -224017 | O11: -732135 | Q11: -236307 | R11: -236955 | S11: -246878 | T11: -269456 | U11: -989596 | W11: -249945 | X11: -247231 | Y11: -262256 | Z11: -272729 | AA11: -1032161 | AC11: -281438 | AD11: -292689 | AE11: -286852 | AF11: -281991 | AG11: =SUM(AC11:AF11) -> -1142970 | AI11: -305671 | AJ11: -312183 | AK11: -315480 | AL11: -316726 | AM11: -1250060 | AO11: -356223.03 | AP11: -358104 | AS11: =SUM(AO11:AR11) -> -714327.03
A12: =IF(Menu!$D$7="Português/Portuguese",B12,C12) -> Lucro Bruto | B12: Lucro Bruto | C12: Gross Profit | E12: 1014287 | F12: 1526919 | G12: 2934058 | H12: 2833659 | I12: 8308923 | K12: 3731501 | L12: 5265702 | M12: 1059260 | N12: 975141 | O12: 11031604 | Q12: 2287985 | R12: 844065 | S12: 945869 | T12: 2111380 | U12: 6189299 | W12: 2286867 | X12: 1391502 | Y12: 2316017 | Z12: 3046982 | AA12: 9041369 | AC12: 1620595 | AD12: 2242775 | AE12: 1903486 | AF12: 2704434 | AG12: =SUM(AC12:AF12) -> 8471290 | AI12: 1673681 | AJ12: 1660326 | AK12: 2500589 | AL12: 2339947 | AM12: 8174544 | AO12: 1669249 | AP12: 1507354.7 | AS12: =SUM(AO12:AR12) -> 3176603.7
A13: =IF(Menu!$D$7="Português/Portuguese",B13,C13) -> Margem Bruta (%) | B13: Margem Bruta (%) | C13: Gross Margin (%) | E13: 0.55685262 | F13: 0.53069063 | G13: 0.69218598 | H13: 0.58401779 | I13: 0.60255298 | K13: 0.66178144 | L13: 0.68445065 | M13: 0.34643659 | N13: 0.36792414 | O13: 0.57939495 | Q13: 0.58791221 | R13: 0.31503203 | S13: 0.34729422 | T13: 0.53076207 | U13: 0.46632275 | W13: 0.50657938 | X13: 0.34666115 | Y13: 0.47856021 | Z13: 0.55273739 | AA13: 0.47887526 | AC13: 0.46160816 | AD13: 0.53538899 | AE13: 0.47984994 | AF13: 0.55996306 | AG13: =IFERROR(AG12/AG6,0) -> 0.51352614 | AI13: 0.42790016 | AJ13: 0.41115477 | AK13: 0.48592179 | AL13: =AL12/AL6 -> 0.47468579 | AM13: 0.45350841 | AO13: =AO12/AO6 -> 0.450645 | AP13: =AP12/AP6 -> 0.41717952 | AS13: =AS12/AS6 -> 0.43412019
A14: =IF(Menu!$D$7="Português/Portuguese",B14,C14) -> Despesas/Receitas Operacionais | B14: Despesas/Receitas Operacionais | C14: Operating expenses/income | E14: -483100 | F14: -326737 | G14: -626665 | H14: -612011 | I14: -2006533 | K14: -322624 | L14: -792276 | M14: -31872 | N14: -415334 | O14: -1562106 | Q14: -218290 | R14: -180460 | S14: -261914 | T14: -776065 | U14: -1436729 | W14: -1138329 | X14: -306494 | Y14: -544884 | Z14: -1015288 | AA14: -3004994 | AC14: -785945 | AD14: -521097 | AE14: -1063024 | AF14: -1133915 | AG14: =SUM(AC14:AF14) -> -3503981 | AI14: -550002 | AJ14: -728151 | AK14: -877148 | AL14: -1008103 | AM14: -3163404 | AO14: -745123 | AP14: -744744 | AS14: =SUM(AO14:AR14) -> -1489867
A15: =IF(Menu!$D$7="Português/Portuguese",B15,C15) -> Despesas com Vendas | B15: Despesas com Vendas | C15: Selling expenses | E15: -204104 | F15: -236394 | G15: -398052 | H15: -381417 | I15: -1219967 | K15: -183141 | L15: -450766 | M15: -299027 | N15: -319325 | O15: -1252259 | Q15: -80265 | R15: -148577 | S15: -235784 | T15: -564216 | U15: -1028842 | W15: -479489 | X15: -500198 | Y15: -552875 | Z15: -517708 | AA15: -2050270 | AC15: -737420 | AD15: -866547 | AE15: -1006784 | AF15: -926922 | AG15: =SUM(AC15:AF15) -> -3537673 | AI15: -507748 | AJ15: -653036 | AK15: -783065 | AL15: -850872 | AM15: -2794721 | AO15: -563644.27 | AP15: -795991 | AS15: =SUM(AO15:AR15) -> -1359635.3
A16: =IF(Menu!$D$7="Português/Portuguese",B16,C16) -> Despesas Gerais e Administrativas | B16: Despesas Gerais e Administrativas | C16: General and administrative expenses | E16: -40019 | F16: -38257 | G16: -37866 | H16: -43107 | I16: 159249 | K16: -30727 | L16: -32226 | M16: -37560 | N16: -29608 | O16: -130121 | Q16: -29370 | R16: -25001 | S16: -30935 | T16: -31870 | U16: -117176 | W16: -38925 | X16: -40423 | Y16: -37673 | Z16: -43114 | AA16: -160135 | AC16: -41264 | AD16: -50467 | AE16: -44740 | AF16: -44310 | AG16: 180714 | AI16: -44338 | AJ16: -51165 | AK16: -41571 | AL16: -44536 | AM16: -181609 | AO16: -41953.654 | AP16: -51377 | AS16: =SUM(AO16:AR16) -> -93330.654
A17: Depreciação e Amortização em Despesas | E17: -11 | F17: -12 | G17: -12 | H17: -12 | I17: 47 | K17: -12 | L17: -12 | M17: -11 | N17: -9 | O17: -44 | Q17: -6 | R17: -1 | S17: -1 | T17: -264 | U17: -272 | W17: -265 | X17: -263 | Y17: -264 | Z17: -262 | AA17: -1054 | AC17: -265 | AD17: -392 | AE17: -339 | AF17: -342 | AG17: =SUM(AC17:AF17) -> -1338 | AI17: -4685 | AJ17: -4107 | AK17: -2983 | AL17: -8180 | AM17: -19955 | AO17: -508.39898 | AP17: -507 | AS17: =SUM(AO17:AR17) -> -1015.399
A18: =IF(Menu!$D$7="Português/Portuguese",B18,C18) -> Outras Receitas Operacionais | B18: Outras Receitas Operacionais | C18: Other operating income | E18: -20989 | F18: 4018 | G18: 5392 | H18: 2487 | I18: 32886 | K18: 3580 | L18: -2130 | M18: 3532 | N18: 24986 | O18: 29968 | Q18: 407 | R18: 24448 | S18: -7453 | T18: -12872 | U18: 4530 | W18: 708 | X18: 218 | Y18: 738 | Z18: 127046 | AA18: 128710 | AC18: 1623 | AD18: 478722 | AE18: -6827 | AF18: -30116 | AG18: 449434 | AI18: 40943 | AJ18: 48203 | AK18: 3322 | AL18: 5986 | AM18: 98454 | AO18: 29737 | AP18: 199861 | AS18: =SUM(AO18:AR18) -> 229598
A19: =IF(Menu!$D$7="Português/Portuguese",B19,C19) -> Outras Despesas Operacionais | B19: Outras Despesas Operacionais | C19: Other operating expenses | E19: -197542 | F19: -76084 | G19: -214567 | H19: -220499 | I19: -708692 | K19: -119066 | L19: -333755 | M19: 249041 | N19: -97925 | O19: -301705 | Q19: -120098 | R19: -57925 | S19: -34424 | T19: -199084 | U19: -411531 | W19: -634579 | X19: 188155 | Y19: -9339 | Z19: -618677 | AA19: -1074439 | AC19: -48753 | AD19: -128593 | AE19: -54623 | AF19: -177600 | AG19: -415604 | AI19: -71216 | AJ19: -141776 | AK19: -113252 | AL19: -165429 | AM19: -491673 | AO19: -165778 | AP19: -179351 | AS19: =SUM(AO19:AR19) -> -345129
A20: =IF(Menu!$D$7="Português/Portuguese",B20,C20) -> Resultado de Equivalência Patrimonial | B20: Resultado de Equivalência Patrimonial | C20: Equity Result with Affiliated Companies | E20: -20435 | F20: 19992 | G20: 18440 | H20: 30537 | I20: 48534 | K20: 6742 | L20: 26613 | M20: 52153 | N20: 6547 | O20: 92055 | Q20: 11042 | R20: 26596 | S20: 46683 | T20: 32241 | U20: 116562 | W20: 14221 | X20: 46017 | Y20: 54529 | Z20: 37427 | AA20: 152194 | AC20: 40134 | AD20: 46180 | AE20: 50289 | AF20: 45375 | AG20: =SUM(AC20:AF20) -> 181978 | AI20: 37042 | AJ20: 73730 | AK20: 60401 | AL20: 54928 | AM20: 226102 | AO20: -2976 | AP20: 82621 | AS20: =SUM(AO20:AR20) -> 79645
A21: =IF(Menu!$D$7="Português/Portuguese",B21,C21) -> Lucro Operacional Antes do Resultado Financeiro | B21: Lucro Operacional Antes do Resultado Financeiro | C21: Operating Profit Before Financial Result | E21: 573165 | F21: 1200182 | G21: 2307393 | H21: 2221648 | I21: 6302388 | K21: 3408877 | L21: 4473426 | M21: 1027389 | N21: 559807 | O21: 9469498 | Q21: 2069695 | R21: 663605 | S21: 683955 | T21: 1335315 | U21: 4752570 | W21: 1148538 | X21: 1085008 | Y21: 1771133 | Z21: 2031694 | AA21: 6036375 | AC21: 834650 | AD21: 1721678 | AE21: 840462 | AF21: 1570519 | AG21: =SUM(AC21:AF21) -> 4967309 | AI21: 1123679 | AJ21: 932177 | AK21: 1623442 | AL21: 1331844 | AM21: 5011142 | AO21: 924126 | AP21: 762610.7 | AS21: =SUM(AO21:AR21) -> 1686736.7
A22: =IF(Menu!$D$7="Português/Portuguese",B22,C22) -> Receitas Financeiras | B22: Receitas Financeiras | C22: Financial Income | E22: 10236 | F22: 7393 | G22: 5317 | H22: 5274 | I22: 28220 | K22: 9535 | L22: 23864 | M22: 58148 | N22: 58001 | O22: 149548 | Q22: 77227 | R22: 54967 | S22: 109316 | T22: 102737 | U22: 344247 | W22: 127864 | X22: 124169 | Y22: 119653 | Z22: 164795 | AA22: 536481 | AC22: 132704 | AD22: 172528 | AE22: 166406 | AF22: 248140 | AG22: =SUM(AC22:AF22) -> 719778 | AI22: 302859 | AJ22: 96558 | AK22: 203327 | AL22: 184457 | AM22: 787202 | AO22: 115756 | AP22: 119518 | AS22: =SUM(AO22:AR22) -> 235274
A23: =IF(Menu!$D$7="Português/Portuguese",B23,C23) -> Despesas Financeiras | B23: Despesas Financeiras | C23: Financial Expenses | E23: -70351 | F23: -62065 | G23: -76775 | H23: -194990 | I23: -404181 | K23: -90595 | L23: -71565 | M23: -187293 | N23: -131452 | O23: -480905 | Q23: -138851 | R23: -148624 | S23: -165305 | T23: -199233 | U23: -652013 | W23: -217186 | X23: -331646 | Y23: -288465 | Z23: -270947 | AA23: -1108244 | AC23: -335060 | AD23: -310881 | AE23: -386015 | AF23: -560059 | AG23: =SUM(AC23:AF23) -> -1592015 | AI23: -571358 | AJ23: -324316 | AK23: -358688 | AL23: -373085 | AM23: -1627447 | AO23: -378039 | AP23: -327898 | AS23: =SUM(AO23:AR23) -> -705937
A24: =IF(Menu!$D$7="Português/Portuguese",B24,C24) -> Variação Cambial Líquida de Instrumentos Financeiros | B24: Variação Cambial Líquida de Instrumentos Financeiros | C24: Net Foreign Exchange Variation on Financial Instruments | E24: 94093 | F24: -32555 | G24: -24306 | H24: -173662 | I24: -136430 | K24: 157120 | L24: -591101 | M24: 267423 | N24: 233061 | O24: 66503 | Q24: -903390 | R24: 661973 | S24: 119047 | T24: -342032 | U24: -464402 | W24: -291830 | X24: -298837 | Y24: 171568 | Z24: -238955 | AA24: -658054 | AC24: 158266 | AD24: 574764 | AE24: -205622 | AF24: 1126647 | AG24: =SUM(AC24:AF24) -> 1654055 | AI24: -1046865 | AJ24: -522301 | AK24: -411267 | AL24: 257876 | AM24: -1722557 | AO24: -363725 | AP24: =-282236-1 -> -282237 | AS24: =SUM(AO24:AR24) -> -645962
A25: =IF(Menu!$D$7="Português/Portuguese",B25,C25) -> Outras Despesas Financeiras | B25: Outras Despesas Financeiras | C25: Other Financial Expenses | E25: 0 | F25: 0 | G25: 0 | H25: 0 | I25: 0 | K25: 0 | L25: 0 | M25: 0 | N25: 0 | O25: 0 | Q25: 0 | R25: 0 | S25: 0 | T25: 0 | U25: 0 | W25: 0 | X25: 0 | Y25: 0 | Z25: 0 | AA25: 0 | AC25: 0 | AD25: 0 | AE25: 0 | AF25: 0 | AG25: =SUM(AC25:AF25) -> 0 | AI25: 0 | AJ25: 0 | AK25: 0 | AL25: 0 | AM25: 0 | AO25: 0 | AP25: 0 | AS25: =SUM(AO25:AR25) -> 0
A26: =IF(Menu!$D$7="Português/Portuguese",B26,C26) -> Resultado Antes dos Tributos sobre o Lucro | B26: Resultado Antes dos Tributos sobre o Lucro | C26: Profit Before Income Taxes | E26: 607143 | F26: 1112955 | G26: 2211629 | H26: 1858270 | I26: 5789997 | K26: 3484937 | L26: 3834624 | M26: 1165667 | N26: 719417 | O26: 9204644 | Q26: 1104681 | R26: 1231921 | S26: 747013 | T26: 896787 | U26: 3980402 | W26: 767386 | X26: 578694 | Y26: 1773890 | Z26: 1686587 | AA26: 4806558 | AC26: 790560 | AD26: 2158089 | AE26: 415231 | AF26: 2385247 | AG26: =SUM(AC26:AF26) -> 5749127 | AI26: -191685 | AJ26: 182119 | AK26: 1056815 | AL26: 1401093 | AM26: 2448341 | AO26: 298118 | AP26: 271994 | AS26: =SUM(AO26:AR26) -> 570112
A27: =IF(Menu!$D$7="Português/Portuguese",B27,C27) -> Imposto de Renda e Contribuição Social sobre o Lucro | B27: Imposto de Renda e Contribuição Social sobre o Lucro | C27: Income Tax and Social Contribution | E27: -205903 | F27: -292954 | G27: -744148 | H27: -516282 | I27: -1759287 | K27: -1122276 | L27: -1333984 | M27: -361603 | N27: -15815 | O27: -2833678 | Q27: -365540 | R27: -406200 | S27: -232956 | T27: -25408 | U27: -1030104 | W27: -251589 | X27: -84514 | Y27: -573962 | Z27: -327756 | AA27: -1237821 | AC27: -232622 | AD27: -650647 | AE27: 31075 | AF27: -369213 | AG27: =SUM(AC27:AF27) -> -1221407 | AI27: -165603 | AJ27: -66352 | AK27: -360548 | AL27: -206679 | AM27: -799182 | AO27: -75991 | AP27: -52599 | AS27: =SUM(AO27:AR27) -> -128590
A28: =IF(Menu!$D$7="Português/Portuguese",B28,C28) -> Resultado Líquido das Operações Continuadas | B28: Resultado Líquido das Operações Continuadas | C28: Net Profit from Continuing Operations | E28: 401240 | F28: 820001 | G28: 1467481 | H28: 1341988 | I28: 4030710 | K28: 2362661 | L28: 2500640 | M28: 804064 | N28: 703602 | O28: 6370966 | Q28: 739141 | R28: 825721 | S28: 514057 | T28: 871379 | U28: 2950298 | W28: 515797 | X28: 494180 | Y28: 1199928 | Z28: 1358831 | AA28: 3568737 | AC28: 557938 | AD28: 1507442 | AE28: 446306 | AF28: 2016034 | AG28: =SUM(AC28:AF28) -> 4527720 | AI28: -357288 | AJ28: 115767 | AK28: 696267 | AL28: 1194414 | AM28: 1649159 | AO28: 222127 | AP28: 219395 | AS28: =SUM(AO28:AR28) -> 441522
