Workbook

Sheet Português
H3: Relações com Investidores
H4: E-mail para dúvidas: ri@materdei.com.br
D6: 2018 | E6: 2019 | F6: 2020 | G6: 2021 | H6: 2022 | I6: 2023 | J6: 2024 | K6: 2025 | L6: 6M26 | N6: 1T20 | O6: 2T20 | P6: 3T20 | Q6: 4T20 | R6: 1T21 | S6: 2T21 | T6: 3T21 | U6: 4T21 | V6: 1T22 | W6: 2T22 | X6: 3T22 | Y6: 4T22 | Z6: 1T23 | AA6: 2T23 | AB6: 3T23 | AC6: 4T23 | AD6: 1T24 | AE6: 2T24 | AF6: 3T24 | AG6: 4T24 | AH6: 1T25 | AI6: 2T25 | AJ6: 3T25 | AK6: 4T25 | AL6: 1T26 | AM6: 2T26
B7: Indicadores operacionais
B8: Capacidade (EoP) | D8: 675 | E8: 1081 | F8: 1081 | G8: 1469 | H8: 2497 | I8: =+H8 -> 2497 | J8: 2212 | K8: 2212 | L8: 2212 | N8: 1081 | O8: 1081 | P8: 1081 | Q8: 1081 | R8: 1081 | S8: 1081 | T8: 1081 | U8: =G8 -> 1469 | V8: 1829 | W8: 2324 | X8: 2497 | Y8: 2497 | Z8: 2497 | AA8: =Z8 -> 2497 | AB8: =AA8 -> 2497 | AC8: =+AB8 -> 2497 | AD8: 2497 | AE8: 2497 | AF8: 2212 | AG8: 2212 | AH8: 2212 | AI8: 2212 | AJ8: 2212 | AK8: 2212 | AL8: 2212 | AM8: 2212
B9: Leitos operacionais (AoP) | D9: 433 | E9: 508.66027 | F9: 524.43989 | G9: 653 | H9: 1290 | I9: 1561.6274 | J9: 1463.2049 | K9: 1212.7589 | L9: 1197 | N9: 515.59341 | O9: 497.76923 | P9: 515.09783 | Q9: 569 | R9: 624.46667 | S9: 646.32967 | T9: 573.97826 | U9: 767 | V9: 967.33333 | W9: 1281 | X9: 1411 | Y9: 1494 | Z9: 1533 | AA9: 1572 | AB9: 1590 | AC9: 1551 | AD9: 1534 | AE9: 1602 | AF9: 1532 | AG9: 1187.4239 | AH9: 1166 | AI9: 1231 | AJ9: 1246 | AK9: 1207.0435 | AL9: 1168 | AM9: 1225
B10: Leitos utilizados (AoP) | D10: 312.91781 | E10: 343.4274 | F10: 319.31148 | G10: 457 | H10: 903 | I10: 1107.7781 | J10: 1097.3661 | K10: 919.99178 | L10: 940.842 | N10: 326.82418 | O10: 261.92308 | P10: 326.78261 | Q10: 361 | R10: 425.46667 | S10: 482.6044 | T10: 389.57609 | U10: 531 | V10: 725.7158 | W10: 906 | X10: 974.70652 | Y10: =Y11*Y9 -> 1000.98 | Z10: 1084 | AA10: 1145 | AB10: 1107 | AC10: 1095 | AD10: 1214 | AE10: 1211 | AF10: 1115 | AG10: 851.63043 | AH10: 865.172 | AI10: 959.79045 | AJ10: 951 | AK10: 903.71739 | AL10: 918.048 | AM10: 964.075
B11: Taxa de ocupação operacional (AoP) | D11: =D10/D9 -> 0.72267392 | E11: =E10/E9 -> 0.67516064 | F11: =F10/F9 -> 0.60886191 | G11: =G10/G9 -> 0.69984686 | H11: =H10/H9 -> 0.7 | I11: 0.70937413 | J11: 0.74997432 | K11: =K10/K9 -> 0.75859413 | L11: 0.786 | N11: =N10/N9 -> 0.63387966 | O11: =O10/O9 -> 0.52619379 | P11: 0.63440883 | Q11: =Q10/Q9 -> 0.6344464 | R11: =R10/R9 -> 0.68132807 | S11: =S10/S9 -> 0.74668458 | T11: =T10/T9 -> 0.67872969 | U11: =U10/U9 -> 0.69230769 | V11: =V10/V9 -> 0.75022309 | W11: =W10/W9 -> 0.70725995 | X11: =X10/X9 -> 0.6907913 | Y11: 0.67 | Z11: =Z10/Z9 -> 0.70711024 | AA11: =AA10/AA9 -> 0.7283715 | AB11: =AB10/AB9 -> 0.69622642 | AC11: =AC10/AC9 -> 0.70599613 | AD11: =AD10/AD9 -> 0.79139505 | AE11: =AE10/AE9 -> 0.75593009 | AF11: =AF10/AF9 -> 0.72780679 | AG11: 0.71720843 | AH11: 0.742 | AI11: 0.77968355 | AJ11: =AJ10/AJ9 -> 0.76324238 | AK11: =AK10/AK9 -> 0.74870326 | AL11: 0.786 | AM11: 0.787
B12: Ticket médio (R$ Milhões por leito utilizado) | D12: =D17/D10/1000 -> 2.1402809 | E12: =E17/E10/1000 -> 2.2715922 | F12: =F17/F10/1000 -> 2.414041 | G12: =G17/G10/1000 -> 2.4124289 | H12: =H17/H10/1000 -> 2.1896228 | I12: =I17/I10/1000 -> 2.241309 | J12: 2.2936903 | K12: 2.6605956 | L12: 2.86 | N12: =(N17/(N10*91))*365/1000 -> 2.2404282 | O12: =(O17/(O10*91))*365/1000 -> 2.3868374 | P12: =(P17/(P10*92))*365/1000 -> 2.5413781 | Q12: =(Q17/(Q10*92))*365/1000 -> 2.4517187 | R12: =(R17/(R10*90))*365/1000 -> 2.3287385 | S12: =(S17/(S10*91))*365/1000 -> 2.3975705 | T12: =(T17/(T10*92))*365/1000 -> 2.6541909 | U12: =(U17/(U10*92))*365/1000 -> 2.3092235 | V12: =(V17/(V10*90))*365/1000 -> 2.1709184 | W12: =(W17/(W10*91))*365/1000 -> 2.1803856 | X12: =(X17/(X10*92))*365/1000 -> 2.1508471 | Y12: =(Y17/(Y10*92))*365/1000 -> 2.2506149 | Z12: =(Z17/(Z10*90))*365/1000 -> 2.1893041 | AA12: =(AA17/(AA10*91))*365/1000 -> 2.1699661 | AB12: =(AB17/(AB10*92))*365/1000 -> 2.3095665 | AC12: =(AC17/(AC10*92))*365/1000 -> 2.2964565 | AD12: =(AD17/(AD10*91))*366/1000 -> 2.1896887 | AE12: =(AE17/(AE10*91))*366/1000 -> 2.2026524 | AF12: =(AF17/(AF10*92))*366/1000 -> 2.302678 | AG12: 2.5575202 | AH12: 2.6356769 | AI12: 2.55 | AJ12: 2.67 | AK12: 2.7911166 | AL12: 2.86 | AM12: 2.87
B16: Demonstração do Resultado do Exercício (R$ Mil) - Consolidado | D16: 2018 | E16: 2019 | F16: 2020 | G16: 2021 | H16: 2022 | I16: 2023 | J16: 2024 | K16: 2025 | L16: 6M26 | N16: 1T20 | O16: 2T20 | P16: 3T20 | Q16: 4T20 | R16: 1T21 | S16: 2T21 | T16: 3T21 | U16: 4T21 | V16: 1T22 | W16: 2T22 | X16: 3T22 | Y16: 4T22 | Z16: 1T23 | AA16: 2T23 | AB16: 3T23 | AC16: 4T23 | AD16: 1T24 | AE16: 2T24 | AF16: 3T24 | AG16: 4T24 | AH16: 1T25 | AI16: 2T25 | AJ16: 3T25 | AK16: 4T25 | AL16: 1T26 | AM16: 2T26
B17: Receita bruta | D17: =SUM(D18:D20) -> 669732 | E17: =SUM(E18:E20) -> 780127 | F17: =SUM(F18:F20) -> 770831 | G17: =SUM(G18:G20) -> 1102480 | H17: =SUM(H18:H20) -> 1977229.4 | I17: =SUM(I18:I20) -> 2482873 | J17: =SUM(J18:J20) -> 2517018 | K17: 2442297 | L17: 1332783 | N17: =SUM(N18:N20) -> 182555 | O17: =SUM(O18:O20) -> 155863.75 | P17: =SUM(P18:P20) -> 209326 | Q17: =SUM(Q18:Q20) -> 223086.25 | R17: =SUM(R18:R20) -> 244307 | S17: =SUM(S18:S20) -> 288477 | T17: =SUM(T18:T20) -> 260627 | U17: =SUM(U18:U20) -> 309069 | ... AE17: =SUM(AE18:AE20) -> 663209 | AF17: 645379 | AG17: 547491 | AH17: 560355 | AI17: 609862 | AJ17: 637565 | AK17: 634515 | AL17: 644322 | AM17: 688461
B18: Convênios | D18: 627463 | E18: 727808 | F18: 708037 | G18: 1012784 | H18: =SUM(V18:Y18) -> 1839190.4 | I18: 2314041 | J18: 2325779 | K18: 2263840 | L18: 1238524 | N18: 168270 | O18: 143910.75 | P18: 188899 | Q18: =F18-SUM(N18:P18) -> 206957.25 | R18: 222167 | S18: 263231 | T18: 240826 | U18: 286560 | V18: 363607 | W18: 455345.74 | X18: 491556.93 | Y18: 528680.77 | Z18: 544767 | AA18: 578623 | AB18: 596143 | AC18: 594508 | AD18: 613499 | AE18: 612081 | AF18: 596398 | AG18: 503801 | AH18: 517268 | AI18: 565214 | AJ18: 591490 | AK18: 589868 | AL18: 597269 | AM18: 641255
B19: Particulares | D19: 28174 | E19: 36298 | F19: 46627 | G19: 71171 | H19: =SUM(V19:Y19) -> 113108 | I19: 139425 | J19: 157318 | K19: 142152 | L19: 73455 | N19: 9250 | O19: 7636 | P19: 14463 | Q19: =F19-SUM(N19:P19) -> 15278 | R19: 17741 | S19: 21135 | T19: 14818 | U19: 17477 | V19: 19211 | W19: 31141.565 | X19: 30994 | Y19: 31761.435 | Z19: 32771 | AA19: 33680 | AB19: 39151 | AC19: 33823 | AD19: 39139 | AE19: 42279 | AF19: 40239 | AG19: 35661 | AH19: 33865 | AI19: 35602 | AJ19: 36877 | AK19: 35808 | AL19: 36975 | AM19: 36480
B20: Outras receitas | D20: 14095 | E20: 16021 | F20: 16167 | G20: 18525 | H20: =SUM(V20:Y20) -> 24931 | I20: =18557+10758+92 -> 29407 | J20: 33921 | K20: 36305 | L20: 20804 | N20: 5035 | O20: 4317 | P20: 5964 | Q20: =F20-SUM(N20:P20) -> 851 | R20: 4399 | S20: 4111 | T20: 4983 | U20: 5032 | V20: 5654 | W20: 6017 | X20: 5868 | Y20: 7392 | Z20: =2435+913+4288 -> 7636 | AA20: 7148 | AB20: 9132 | AC20: 5491 | AD20: =3228+59+5014 -> 8301 | AE20: =5410+3439 -> 8849 | AF20: 8742 | AG20: 8029 | AH20: 9222 | AI20: 9046 | AJ20: 9198 | AK20: 8839 | AL20: 10078 | AM20: 10726
B21: Impostos, deduções e glosas¹ | D21: -43176 | E21: -47488 | F21: -52970 | G21: -78167 | H21: =SUM(V21:Y21) -> -214097.43 | I21: =-133943-7157-154108 -> -295208 | J21: -291017 | K21: -267012 | L21: -144192 | N21: -12314 | O21: -11888 | P21: -13968 | Q21: =F21-SUM(N21:P21) -> -14800 | R21: -17547 | S21: -19547 | T21: -20225 | U21: -20848 | V21: -45745 | W21: -58097.124 | X21: -54534.926 | Y21: -55720.38 | Z21: -61115 | AA21: -65296 | AB21: -76199 | AC21: -92598 | AD21: -78140 | AE21: =-34674-2530-40662 -> -77866 | AF21: -74558 | AG21: -60453 | AH21: -61037 | AI21: -64055 | AJ21: -69708 | AK21: -72212 | AL21: -69364 | AM21: -74828
B22: Receita líquida | D22: =SUM(D17,D21) -> 626556 | E22: =SUM(E17,E21) -> 732639 | F22: =SUM(F17,F21) -> 717861 | G22: =SUM(G17,G21) -> 1024313 | H22: =SUM(H17,H21) -> 1763132 | I22: =SUM(I17,I21) -> 2187665 | J22: 2226001 | K22: 2175285 | L22: 1188591 | N22: =SUM(N17,N21) -> 170241 | O22: =SUM(O17,O21) -> 143975.75 | P22: =SUM(P17,P21) -> 195358 | Q22: =SUM(Q17,Q21) -> 208286.25 | R22: =SUM(R17,R21) -> 226760 | S22: =SUM(S17,S21) -> 268930 | T22: =SUM(T17,T21) -> 240402 | U22: =SUM(U17,U21) -> 288221 | ... W22: =SUM(W17,W21) -> 434407.18 | X22: =SUM(X18:X21) -> 473884 | Y22: =SUM(Y18:Y21) -> 512113.82 | Z22: =SUM(Z18:Z21) -> 524059 | AA22: =SUM(AA18:AA21) -> 554155 | AB22: =SUM(AB18:AB21) -> 568227 | AC22: =SUM(AC18:AC21) -> 541224 | AD22: =SUM(AD18:AD21) -> 582799 | AE22: =SUM(AE18:AE21) -> 585343 | ... AG22: =SUM(AG18:AG21) -> 487038 | AH22: 499318 | AI22: 545807 | AJ22: 567857 | AK22: 562303 | AL22: 574958 | AM22: 613633
B23: Custo dos serviços prestados | D23: =SUM(D24:D29) -> -341640.35 | E23: =SUM(E24:E29) -> -396956 | F23: =SUM(F24:F29) -> -455665 | G23: =SUM(G24:G29) -> -619652 | H23: =SUM(H24:H29) -> -1139945 | I23: =SUM(I24:I29) -> -1475816 | J23: -1555404 | K23: -1523868 | L23: -827938 | N23: =SUM(N24:N29) -> -110159 | O23: =SUM(O24:O29) -> -104386 | P23: =SUM(P24:P29) -> -112867.6 | Q23: =SUM(Q24:Q29) -> -128252.4 | R23: =SUM(R24:R29) -> -137895 | S23: =SUM(S24:S29) -> -149990.6 | T23: =SUM(T24:T29) -> -156084 | U23: =SUM(U24:U29) -> -175682.4 | ... AF23: =SUM(AF24:AF29) -> -397247 | AG23: -358011 | AH23: -355530 | AI23: -380981.94 | AJ23: -396737.06 | AK23: -390619 | AL23: -401037 | AM23: -426901
B24: Materiais e Medicamentos | D24: -161439 | E24: -178904.75 | F24: -194181 | G24: -283228 | H24: =SUM(V24:Y24) -> -426534 | I24: -528486 | J24: -547158 | K24: -579991 | L24: -325881 | N24: -45936 | O24: -41531 | P24: -48927 | Q24: =F24-SUM(N24:P24) -> -57787 | R24: -65905 | S24: -71005 | T24: -73123 | U24: -73195 | V24: -89377 | W24: -99666.085 | X24: -115892 | Y24: -121598.91 | Z24: -125526 | AA24: -134909 | AB24: -135431 | AC24: -132620 | AD24: -133559 | AE24: =-148187 -> -148187 | AF24: -135669 | AG24: -129743 | AH24: -129756 | AI24: -147156 | AJ24: -154787 | AK24: -148292 | AL24: -155683 | AM24: -170198
B25: Pessoal | D25: -62839.184 | E25: -76654.258 | F25: -114226 | G25: -157509 | H25: =SUM(V25:Y25) -> -318703 | I25: -409441 | J25: -448711 | K25: -431076 | L25: -230335 | N25: -25625 | O25: -27649 | P25: -28361 | Q25: =F25-SUM(N25:P25) -> -32591 | R25: -33644 | S25: -39174 | T25: -39295 | U25: -45396 | V25: -63168 | W25: -79921.076 | X25: -77832 | Y25: -97781.924 | Z25: -92816 | AA25: -104545 | AB25: -108681 | AC25: -103399 | AD25: -112403 | AE25: =-116418 -> -116418 | AF25: -119559 | AG25: -100331 | AH25: -104189 | AI25: -106245 | AJ25: -110867 | AK25: -109775 | AL25: -113881 | AM25: -116454
B26: Prestação de serviços médicos | D26: -30430 | E26: -33002.036 | F26: -31857 | G26: -52573 | H26: =SUM(V26:Y26) -> -171596 | I26: -252300 | J26: -258070 | K26: -231631 | L26: -127315 | N26: -9081 | O26: -8161 | P26: -7977 | Q26: =F26-SUM(N26:P26) -> -6638 | R26: -9468 | S26: -9787 | T26: -12728 | U26: -20590 | V26: -28406 | W26: -40427.213 | X26: -50252 | Y26: -52510.787 | Z26: -57269 | AA26: -60792 | AB26: -67526 | AC26: -66713 | AD26: -67613 | AE26: =-67091 -> -67091 | AF26: -68922 | AG26: -54444 | AH26: -55074 | AI26: -57401 | AJ26: -59719 | AK26: -59437 | AL26: -60619 | AM26: -66696
B27: Manutenção e conservação | D27: -23184 | E27: -29633.096 | F27: -32719 | G27: -37059 | H27: =SUM(V27:Y27) -> -61571 | I27: -87706 | J27: -99475 | K27: -92464 | L27: -48919 | N27: -8347 | O27: -7758 | P27: -7338 | Q27: =F27-SUM(N27:P27) -> -9276 | R27: -8470 | S27: -8382 | T27: -8667 | U27: -11540 | V27: -10422 | W27: -14072.807 | X27: -16986 | Y27: -20090.193 | Z27: -19547 | AA27: -22216 | AB27: -22259 | AC27: -23684 | AD27: -25478 | AE27: =-26990 -> -26990 | AF27: -24544 | AG27: -22463 | AH27: -21536 | AI27: -22945 | AJ27: -23103 | AK27: -24880 | AL27: -24153 | AM27: -24766
B28: Depreciação e Amortização | D28: -28906 | E28: -34146.615 | F28: -29809 | G28: -32486 | H28: =SUM(V28:Y28) -> -74328 | I28: -82432 | J28: -88707 | K28: -89870 | L28: -42479 | N28: -7146 | O28: -7774 | P28: -5831.6 | Q28: =F28-SUM(N28:P28) -> -9057.4 | R28: -7054 | S28: -7315.6 | T28: -7368 | U28: -10748.4 | V28: -12691 | W28: -16370 | X28: -19566 | Y28: -25701 | Z28: -20902 | AA28: -20193 | AB28: -20591 | AC28: -20746 | AD28: -21880 | AE28: =-21841 -> -21841 | AF28: -21428 | AG28: -23558 | AH28: -22034 | AI28: -21983.935 | AJ28: -22429.065 | AK28: -23423 | AL28: -21101 | AM28: -21378
B29: Outros custos | D29: -34842.162 | E29: -44615.247 | F29: -52873 | G29: =-44851-11946 -> -56797 | H29: =SUM(V29:Y29) -> -87213 | I29: -115451 | J29: -113283 | K29: -98836 | L29: -53009 | N29: -14024 | O29: -11513 | P29: -14433 | Q29: =F29-SUM(N29:P29) -> -12903 | R29: -13354 | S29: -14327 | T29: -14903 | U29: -14213 | V29: =-5096-13771 -> -18867 | W29: -22332.497 | X29: =-16298-7602 -> -23900 | Y29: -22113.503 | Z29: -28852 | AA29: =-17270-9755 -> -27025 | AB29: =-18620-9634 -> -28254 | AC29: -31320 | AD29: -28758 | AE29: =-20067-9861 -> -29928 | AF29: -27125 | AG29: -27472 | AH29: -22941 | AI29: -25251 | AJ29: -25832 | AK29: -24812 | AL29: -25600 | AM29: -27409
B30: Lucro bruto | D30: =D22+D23 -> 284915.65 | E30: =E22+E23 -> 335683 | F30: =F22+F23 -> 262196 | G30: =G22+G23 -> 404661 | H30: =H22+H23 -> 623187 | I30: =I22+I23 -> 711849 | J30: 670597 | K30: 651417 | L30: 360653 | N30: =N22+N23 -> 60082 | O30: =O22+O23 -> 39589.75 | P30: =P22+P23 -> 82490.4 | Q30: =Q22+Q23 -> 80033.85 | R30: =R22+R23 -> 88865 | S30: =S22+S23 -> 118939.4 | T30: =T22+T23 -> 84318 | U30: =U22+U23 -> 112538.6 | ... AF30: =AF22+AF23 -> 173574 | AG30: 129027 | AH30: 143788 | AI30: 164825.06 | AJ30: 171119.94 | AK30: 171684 | AL30: 173921 | AM30: 186732
B31: % margem bruta | D31: =D30/D22 -> 0.45473294 | E31: =E30/E22 -> 0.45818336 | F31: =F30/F22 -> 0.3652462 | G31: =G30/G22 -> 0.395056 | H31: =H30/H22 -> 0.35345453 | I31: =I30/I22 -> 0.32539214 | J31: 0.30125638 | K31: 0.29946283 | L31: 0.30342902 | N31: =N30/N22 -> 0.35292321 | O31: =O30/O22 -> 0.27497513 | P31: =P30/P22 -> 0.42225248 | Q31: =Q30/Q22 -> 0.38424932 | R31: =R30/R22 -> 0.3918901 | S31: =S30/S22 -> 0.44226899 | T31: =T30/T22 -> 0.35073751 | U31: =U30/U22 -> 0.3904594 | ... AF31: =AF30/AF22 -> 0.30407781 | AG31: 0.26492183 | AH31: 0.28796879 | AI31: =AI30/AI22 -> 0.30198415 | AJ31: 0.30134336 | AK31: 0.30532293 | AL31: 0.3024934 | AM31: 0.30430567
B32: Despesas gerais e administrativas | D32: =SUM(D33:D35) -> -96027 | E32: =SUM(E33:E35) -> -116567 | F32: =SUM(F33:F35) -> -89258 | G32: =SUM(G33:G35) -> -134118.2 | H32: =SUM(H33:H35) -> -269092 | I32: =SUM(I33:I35) -> -296288 | J32: -298709 | K32: -276928 | L32: -147131 | N32: =SUM(N33:N35) -> -22530 | O32: =SUM(O33:O35) -> -22462 | P32: =SUM(P33:P35) -> -21549.4 | Q32: =SUM(Q33:Q35) -> -22716.6 | R32: =SUM(R33:R35) -> -25780 | S32: =SUM(S33:S35) -> -26562.4 | T32: =SUM(T33:T35) -> -24967 | U32: =SUM(U33:U35) -> -56808.8 | ... AF32: =SUM(AF33:AF35) -> -79928 | AG32: -69175 | AH32: -67234 | AI32: -68256.4 | AJ32: -70862.6 | AK32: -70575 | AL32: -71733 | AM32: -75398
B33: Pessoal | D33: -78534 | E33: -93849.249 | F33: -68980 | G33: -93808 | H33: =SUM(V33:Y33) -> -155741 | I33: -189607 | J33: -190625 | K33: -169552 | L33: -86861 | N33: -18169 | O33: -17872 | P33: -14706 | Q33: =F33-SUM(N33:P33) -> -18233 | R33: -20773 | S33: -23339 | T33: -21243 | U33: -28453 | V33: -30061 | W33: -34542.234 | X33: -43792 | Y33: -47345.766 | Z33: -44543 | AA33: -46709 | AB33: -48157 | AC33: -50198 | AD33: -46336 | AE33: =-50488 -> -50488 | AF33: -50492 | AG33: -43309 | AH33: -43422 | AI33: -42434 | AJ33: -41678 | AK33: -42018 | AL33: -43099 | AM33: -43762
B34: Depreciação e amortização | D34: -6571 | E34: -11908.931 | F34: -8091 | G34: -8366.2 | H34: =SUM(V34:Y34) -> -15744 | I34: -19570 | J34: -20334 | K34: -21235 | L34: -15733 | N34: -1838 | O34: -1892 | P34: -3777.4 | Q34: =F34-SUM(N34:P34) -> -583.6 | R34: -1764 | S34: -1828.4 | T34: -1842 | U34: -2931.8 | V34: -3477.2 | W34: -3749.961 | X34: -4081 | Y34: -4435.839 | Z34: -4749 | AA34: -4661 | AB34: -4905 | AC34: -5255 | AD34: -5514 | AE34: =-5674 -> -5674 | AF34: -5816 | AG34: -3330 | AH34: -5232 | AI34: -5214.4 | AJ34: -5326.6 | AK34: -5462 | AL34: -7775 | AM34: -7958
B35: Outras despesas | D35: -10922 | E35: -10808.82 | F35: -12187 | G35: -31944 | H35: =SUM(V35:Y35) -> -97607 | I35: =-2705-60587-23819 -> -87111 | J35: -87750 | K35: -86141 | L35: -44537 | N35: -2523 | O35: -2698 | P35: -3066 | Q35: =F35-SUM(N35:P35) -> -3900 | R35: -3243 | S35: -1395 | T35: -1882 | U35: -25424 | V35: -18696 | W35: -30747.026 | X35: -22547 | Y35: -25616.974 | Z35: -22123 | AA35: -21272 | AB35: =-7147-15580-446 -> -23173 | AC35: -20543 | AD35: =-5652-550-14517 -> -20719 | AE35: =-734-14576-5565 -> -20875 | AF35: -23620 | AG35: -22536 | AH35: -18580 | AI35: -20608 | AJ35: -23858 | AK35: -23095 | AL35: -20859 | AM35: -23678
B36: Outras receitas (despesas) operacionais | D36: -4493 | E36: -8157 | F36: -56136 | G36: -28275 | H36: =SUM(V36:Y36) -> -16193 | I36: =(2655+5393) -> 8048 | J36: 46529 | K36: -20764 | L36: -8789 | N36: -9788 | O36: -3349 | P36: -4912 | Q36: =F36-SUM(N36:P36) -> -38087 | R36: -9815 | S36: -8597 | T36: 558 | U36: -10421 | V36: =-2736+61 -> -2675 | W36: -5502.6545 | X36: =-6053+1150 -> -4903 | Y36: -3112.3455 | Z36: -1515 | AA36: =-259+10559 -> 10300 | AB36: =-509+17 -> -492 | AC36: -245 | AD36: =-8161-231 -> -8392 | AE36: =-5803-225 -> -6028 | AF36: =70945-791 -> 70154 | AG36: -9205 | AH36: -7240 | AI36: =-8573 -> -8573 | AJ36: -2152 | AK36: -2799 | AL36: -6713 | AM36: -2076
B37: Imparidade de ativos - CPC 31 | D37: 0 | E37: 0 | F37: 0 | G37: 0 | H37: 0 | I37: 0 | J37: -754264 | K37: 0 | L37: 0 | V37: 0 | W37: 0 | X37: 0 | Y37: 0 | Z37: 0 | AA37: 0 | AB37: 0 | AC37: 0 | AD37: 0 | AE37: -744142 | AF37: =-754264+744142 -> -10122 | AG37: 0 | AH37: 0 | AJ37: 0 | AK37: 0 | AL37: 0 | AM37: 0
B38: EBIT | D38: =D30+D32+D36 -> 184395.65 | E38: =E30+E32+E36 -> 210959 | F38: =F30+F32+F36 -> 116802 | G38: =G30+G32+G36 -> 242267.8 | H38: =H30+H32+H36 -> 337902 | I38: =I30+I32+I36 -> 423609 | J38: -335847 | K38: 353725 | L38: 204733 | N38: =N30+N32+N36 -> 27764 | O38: =O30+O32+O36 -> 13778.75 | P38: =P30+P32+P36 -> 56029 | Q38: =Q30+Q32+Q36 -> 19230.25 | R38: =R30+R32+R36 -> 53270 | S38: =S30+S32+S36 -> 83780 | T38: =T30+T32+T36 -> 59909 | U38: =U30+U32+U36 -> 45308.8 | ... AD38: =AD30+AD32+AD36 -> 112147 | AE38: =AE30+AE32+AE36+AE37 -> -652319 | AF38: =AF30+AF32+AF36+AF37 -> 153678 | AG38: 50647 | AH38: 69314 | AI38: 87995.665 | AJ38: 98105.335 | AK38: 98310 | AL38: 95475 | AM38: 109258
B39: Receitas financeiras | D39: 25584 | E39: 22734 | F39: 13244 | G39: 66874 | H39: =SUM(V39:Y39) -> 90426 | I39: 59459 | J39: 89616 | K39: 115628 | L39: 54181 | N39: 4204 | O39: 1547 | P39: 4328 | Q39: =F39-SUM(N39:P39) -> 3165 | R39: 4578 | S39: 13827 | T39: 21525 | U39: 26944 | V39: 30477 | W39: 24531.033 | X39: 19271 | Y39: 16146.967 | Z39: 12514 | AA39: 13843 | AB39: 14382 | AC39: 18720 | AD39: 13827 | AE39: 14019 | AF39: 34106 | AG39: 27664 | AH39: 26543 | AI39: 29909 | AJ39: 30202 | AK39: 28974 | AL39: 25788 | AM39: 28393
B40: Despesas financeiras | D40: -19573 | E40: -22595 | F40: -27284 | G40: -88662 | H40: =SUM(V40:Y40) -> -242494 | I40: -274275 | J40: -252379 | K40: -302268 | L40: -141183 | N40: -8912 | O40: -5515 | P40: -5361 | Q40: =F40-SUM(N40:P40) -> -7496 | R40: -18271 | S40: -17385 | T40: -15828 | U40: -37178 | V40: -49809 | W40: -62867.967 | X40: -58777 | Y40: -71040.033 | Z40: -69855 | AA40: -70545 | AB40: -70260 | AC40: -63615 | AD40: -63114 | AE40: =-60646 -> -60646 | AF40: -65963 | AG40: -62656 | AH40: -65683 | AI40: -76328 | AJ40: -85706 | AK40: -74551 | AL40: -70169 | AM40: -71014
B41: Resultado financeiro líquido | D41: =SUM(D39:D40) -> 6011 | E41: =SUM(E39:E40) -> 139 | F41: =SUM(F39:F40) -> -14040 | G41: =SUM(G39:G40) -> -21788 | H41: =SUM(H39:H40) -> -152068 | I41: =SUM(I39:I40) -> -214816 | J41: -162763 | K41: -186640 | L41: -87002 | N41: =SUM(N39:N40) -> -4708 | O41: =SUM(O39:O40) -> -3968 | P41: =SUM(P39:P40) -> -1033 | Q41: =SUM(Q39:Q40) -> -4331 | R41: =SUM(R39:R40) -> -13693 | S41: =SUM(S39:S40) -> -3558 | T41: =SUM(T39:T40) -> 5697 | U41: =SUM(U39:U40) -> -10234 | ... AB41: =SUM(AB39:AB40) -> -55878 | AC41: -44895 | AD41: =SUM(AD39:AD40) -> -49287 | AE41: =SUM(AE39:AE40) -> -46627 | AF41: =SUM(AF39:AF40) -> -31857 | AG41: -34992 | AH41: -39140 | AI41: -46419 | AJ41: -55504 | AK41: -45577 | AL41: -44381 | AM41: -42621
B42: EBT | D42: =D38+D41 -> 190406.65 | E42: =E38+E41 -> 211098 | F42: =F38+F41 -> 102762 | G42: =G38+G41 -> 220479.8 | H42: =H38+H41 -> 185834 | I42: =I38+I41 -> 208793 | J42: =J38+J41 -> -498610 | K42: 167085 | L42: 117731 | N42: =N38+N41 -> 23056 | O42: =O38+O41 -> 9810.75 | P42: =P38+P41 -> 54996 | Q42: =Q38+Q41 -> 14899.25 | R42: =R38+R41 -> 39577 | S42: =S38+S41 -> 80222 | T42: =T38+T41 -> 65606 | U42: =U38+U41 -> 35074.8 | ... AF42: =AF38+AF41 -> 121821 | AG42: 15655 | AH42: 30174 | AI42: 41576.665 | AJ42: 42601.335 | AK42: 52733 | AL42: 51094 | AM42: 66637
B43: Total IR e CSLL | D43: -65972 | E43: -72994 | F43: -30119 | G43: -73634 | H43: =SUM(V43:Y43) -> -63147 | I43: -67546 | J43: 174706 | K43: -55169 | L43: -40178 | N43: -7659 | O43: -3335 | P43: -18341 | Q43: =F43-SUM(N43:P43) -> -784 | R43: -13123 | S43: -26998 | T43: -21972 | U43: -11541 | V43: -14594 | W43: -13964.588 | X43: -15365 | Y43: -19223.412 | Z43: -16294 | AA43: -20487 | AB43: -17649 | AC43: -13116 | AD43: -16901 | AE43: 240407 | AF43: -41290 | AG43: -7510 | AH43: -10001 | AI43: -14486 | AJ43: -15119 | AK43: -15563 | AL43: -18528 | AM43: -21650
B44: Lucro líquido do exercício | D44: =D42+D43 -> 124434.65 | E44: =E42+E43 -> 138104 | F44: =F42+F43 -> 72643 | G44: =G42+G43 -> 146845.8 | H44: =H42+H43 -> 122687 | I44: =I42+I43 -> 141247 | J44: =J42+J43 -> -323904 | K44: 111916 | L44: 77553 | N44: =N42+N43 -> 15397 | O44: =O42+O43 -> 6475.75 | P44: =P42+P43 -> 36655 | Q44: =Q42+Q43 -> 14115.25 | R44: =R42+R43 -> 26454 | S44: =S42+S43 -> 53224 | T44: =T42+T43 -> 43634 | U44: =U42+U43 -> 23533.8 | ... AD44: =AD42+AD43 -> 45959 | AE44: -458539 | AF44: =AF42+AF43 -> 80531 | AG44: 8145 | AH44: 20173 | AI44: 27090.665 | AJ44: 27482.335 | AK44: 37170 | AL44: 32566 | AM44: 44987
B45: % margem líquida | D45: =D44/D22 -> 0.19860101 | E45: =E44/E22 -> 0.18850211 | F45: =F44/F22 -> 0.10119369 | G45: =G44/G22 -> 0.14336028 | H45: =H44/H22 -> 0.069584694 | I45: =I44/I22 -> 0.064565187 | J45: -0.14550937 | K45: 0.051448891 | L45: 0.065247844 | N45: =N44/N22 -> 0.090442373 | O45: =O44/O22 -> 0.044978061 | P45: =P44/P22 -> 0.18762989 | Q45: =Q44/Q22 -> 0.067768516 | R45: =R44/R22 -> 0.11666079 | S45: =S44/S22 -> 0.19791024 | T45: =T44/T22 -> 0.18150431 | U45: =U44/U22 -> 0.081651927 | ... AF45: =AF44/AF22 -> 0.14107925 | AG45: 0.016723541 | AH45: 0.040401107 | AI45: =AI44/AI22 -> 0.049634146 | AJ45: 0.048396578 | AK45: 0.066103151 | AL45: 0.056640659 | AM45: 0.07331255
B46: Atribuível aos acionistas controladores | D46: =D44 -> 124434.65 | E46: =E44 -> 138104 | F46: =F44 -> 72643 | G46: 144919 | H46: =SUM(V46:Y46) -> 103505 | I46: 119654 | J46: -338440 | K46: 110511 | L46: 77450 | N46: =N44 -> 15397 | O46: =O44 -> 6475.75 | P46: =P44 -> 36655 | Q46: =Q44 -> 14115.25 | R46: =R44 -> 26454 | S46: =S44 -> 53224 | T46: =T44 -> 43634 | U46: 21607 | V46: 26585 | W46: 29221.353 | X46: 33725 | Y46: 13973.647 | Z46: 27213 | AA46: 38092 | AB46: 28548 | AC46: 25801 | AD46: 42183 | AE46: -464267 | AF46: 75366 | AG46: 8278 | AH46: 19931 | AI46: 26234.54 | AJ46: 26865 | AK46: 37480 | AL46: 33205 | AM46: 44245
...

Sheet English
H3: Investor Relations
H4: E-mail for questions: ri@materdei.com.br
D6: 2018 | E6: 2019 | F6: 2020 | G6: 2021 | H6: 2022 | I6: 2023 | J6: 2024 | K6: 2025 | L6: 6M26 | N6: 1Q20 | O6: 2Q20 | P6: 3Q20 | Q6: 4Q20 | R6: 1Q21 | S6: 2Q21 | T6: 3Q21 | U6: 4Q21 | V6: 1Q22 | W6: 2Q22 | X6: 3Q22 | Y6: 4Q22 | Z6: 1Q23 | AA6: 2Q23 | AB6: 3Q23 | AC6: 4Q23 | AD6: 1Q24 | AE6: 2Q24 | AF6: 3Q24 | AG6: 4Q24 | AH6: 1Q25 | AI6: 2Q25 | AJ6: 3Q25 | AK6: 4Q25 | AL6: 1Q26 | AM6: 2Q26
B7: Operational Indicators
B8: Capacity (EoP) | D8: =Português!D8 -> 675 | E8: =Português!E8 -> 1081 | F8: =Português!F8 -> 1081 | G8: =Português!G8 -> 1469 | H8: =Português!H8 -> 2497 | I8: =Português!I8 -> 2497 | J8: 2212 | K8: 2212 | L8: 2212 | N8: =Português!N8 -> 1081 | O8: =Português!O8 -> 1081 | P8: =Português!P8 -> 1081 | Q8: =Português!Q8 -> 1081 | R8: =Português!R8 -> 1081 | S8: =Português!S8 -> 1081 | T8: =Português!T8 -> 1081 | U8: =Português!U8 -> 1469 | ... AF8: =Português!AF8 -> 2212 | AG8: 2212 | AH8: 2212 | AI8: 2212 | AJ8: 2212 | AK8: 2212 | AL8: 2212 | AM8: 2212
B9: Operational beds (AoP) | D9: =Português!D9 -> 433 | E9: =Português!E9 -> 508.66027 | F9: =Português!F9 -> 524.43989 | G9: =Português!G9 -> 653 | H9: =Português!H9 -> 1290 | I9: =Português!I9 -> 1561.6274 | J9: 1463.2049 | K9: 1212.7589 | L9: 1197 | N9: =Português!N9 -> 515.59341 | O9: =Português!O9 -> 497.76923 | P9: =Português!P9 -> 515.09783 | Q9: =Português!Q9 -> 569 | R9: =Português!R9 -> 624.46667 | S9: =Português!S9 -> 646.32967 | T9: =Português!T9 -> 573.97826 | U9: =Português!U9 -> 767 | ... AF9: =Português!AF9 -> 1532 | AG9: 1187.4239 | AH9: 1166 | AI9: 1231 | AJ9: 1246 | AK9: 1207.0435 | AL9: 1168 | AM9: 1225
B10: Used beds (AoP) | D10: =Português!D10 -> 312.91781 | E10: =Português!E10 -> 343.4274 | F10: =Português!F10 -> 319.31148 | G10: =Português!G10 -> 457 | H10: =Português!H10 -> 903 | I10: =Português!I10 -> 1107.7781 | J10: 1097.3661 | K10: 919.99178 | L10: 940.842 | N10: =Português!N10 -> 326.82418 | O10: =Português!O10 -> 261.92308 | P10: =Português!P10 -> 326.78261 | Q10: =Português!Q10 -> 361 | R10: =Português!R10 -> 425.46667 | S10: =Português!S10 -> 482.6044 | T10: =Português!T10 -> 389.57609 | U10: =Português!U10 -> 531 | ... AF10: =Português!AF10 -> 1115 | AG10: 851.63043 | AH10: 865.172 | AI10: 959.79045 | AJ10: 951 | AK10: 903.71739 | AL10: 918.048 | AM10: 964.075
B11: Occupancy rate (AoP) | D11: =D10/D9 -> 0.72267392 | E11: =E10/E9 -> 0.67516064 | F11: =F10/F9 -> 0.60886191 | G11: =G10/G9 -> 0.69984686 | H11: =H10/H9 -> 0.7 | I11: =I10/I9 -> 0.70937413 | J11: 0.74997432 | K11: =K10/K9 -> 0.75859413 | L11: 0.786 | N11: =N10/N9 -> 0.63387966 | O11: =O10/O9 -> 0.52619379 | P11: =P10/P9 -> 0.63440883 | Q11: =Q10/Q9 -> 0.6344464 | R11: =R10/R9 -> 0.68132807 | S11: =S10/S9 -> 0.74668458 | T11: =T10/T9 -> 0.67872969 | U11: =U10/U9 -> 0.69230769 | ... AF11: =AF10/AF9 -> 0.72780679 | AG11: 0.71720843 | AH11: 0.742 | AI11: 0.77968355 | AJ11: =AJ10/AJ9 -> 0.76324238 | AK11: =AK10/AK9 -> 0.74870326 | AL11: 0.786 | AM11: 0.787
B12: Average ticket* (R$ Millions per used bed) | D12: =Português!D12 -> 2.1402809 | E12: =Português!E12 -> 2.2715922 | F12: =Português!F12 -> 2.414041 | G12: =Português!G12 -> 2.4124289 | H12: =Português!H12 -> 2.1896228 | I12: =Português!I12 -> 2.241309 | J12: 2.2936903 | K12: 2.6605956 | L12: 2.86 | N12: =Português!N12 -> 2.2404282 | O12: =Português!O12 -> 2.3868374 | P12: =Português!P12 -> 2.5413781 | Q12: =Português!Q12 -> 2.4517187 | R12: =Português!R12 -> 2.3287385 | S12: =Português!S12 -> 2.3975705 | T12: =Português!T12 -> 2.6541909 | U12: =Português!U12 -> 2.3092235 | ... AF12: =Português!AF12 -> 2.302678 | AG12: 2.5575202 | AH12: 2.6356769 | AI12: 2.55 | AJ12: 2.67 | AK12: 2.7911166 | AL12: 2.86 | AM12: 2.87
B13: * Occupancy rate is calculated according to ANAHP’s (National Association of Private Hospitals) methodology, considering only as occupied beds the ones used by overnight patients;
B14: ** For quarters, the gross revenue is annualized
B16: Income Statement (R$ Thousands) - Consolidated | D16: =D6 -> 2018 | E16: =E6 -> 2019 | F16: =F6 -> 2020 | G16: =G6 -> 2021 | H16: 2022 | I16: 2023 | J16: 2024 | K16: 2025 | L16: 1Q26 | N16: =N6 -> 1Q20 | O16: =O6 -> 2Q20 | P16: =P6 -> 3Q20 | Q16: =Q6 -> 4Q20 | R16: =R6 -> 1Q21 | S16: =S6 -> 2Q21 | T16: =T6 -> 3Q21 | U16: =U6 -> 4Q21 | ... W16: =W6 -> 2Q22 | X16: 3Q22 | Y16: =Y6 -> 4Q22 | Z16: 1Q23 | AA16: 2Q23 | AB16: 3Q23 | AC16: 4Q23 | AD16: 1Q24 | AE16: 2Q24 | AF16: 3Q24 | AG16: 4Q24 | AH16: 1Q25 | AI16: 2Q25 | AJ16: 3Q25 | AK16: 4Q25 | AL16: 1Q26 | AM16: 2Q26
B17: Gross Revenue | D17: =SUM(D18:D20) -> 669732 | E17: =SUM(E18:E20) -> 780127 | F17: =SUM(F18:F20) -> 770831 | G17: =SUM(G18:G20) -> 1102480 | H17: =SUM(H18:H20) -> 1977229.4 | I17: =SUM(I18:I20) -> 2482873 | J17: 2517018 | K17: 2442297 | L17: 644322 | N17: =SUM(N18:N20) -> 182555 | O17: =SUM(O18:O20) -> 155863.75 | P17: =SUM(P18:P20) -> 209326 | Q17: =SUM(Q18:Q20) -> 223086.25 | R17: =SUM(R18:R20) -> 244307 | S17: =SUM(S18:S20) -> 288477 | T17: =SUM(T18:T20) -> 260627 | U17: =SUM(U18:U20) -> 309069 | ... AF17: =SUM(AF18:AF20) -> 645379 | AG17: 547491 | AH17: 560355 | AI17: 609862 | AJ17: 637565 | AK17: 634515 | AL17: 644322 | AM17: 688461
B18: Healthcare operators | D18: =Português!D18 -> 627463 | E18: =Português!E18 -> 727808 | F18: =Português!F18 -> 708037 | G18: =Português!G18 -> 1012784 | H18: =Português!H18 -> 1839190.4 | I18: =Português!I18 -> 2314041 | J18: 2325779 | K18: 2263840 | L18: 597269 | N18: =Português!N18 -> 168270 | O18: =Português!O18 -> 143910.75 | P18: =Português!P18 -> 188899 | Q18: =Português!Q18 -> 206957.25 | R18: =Português!R18 -> 222167 | S18: =Português!S18 -> 263231 | T18: =Português!T18 -> 240826 | U18: =Português!U18 -> 286560 | ... AF18: =Português!AF18 -> 596398 | AG18: 503801 | AH18: 517268 | AI18: 565214 | AJ18: 591490 | AK18: 589868 | AL18: 597269 | AM18: 641255
B19: Out-of-pocket patients | D19: =Português!D19 -> 28174 | E19: =Português!E19 -> 36298 | F19: =Português!F19 -> 46627 | G19: =Português!G19 -> 71171 | H19: =Português!H19 -> 113108 | I19: =Português!I19 -> 139425 | J19: 157318 | K19: 142152 | L19: 36975 | N19: =Português!N19 -> 9250 | O19: =Português!O19 -> 7636 | P19: =Português!P19 -> 14463 | Q19: =Português!Q19 -> 15278 | R19: =Português!R19 -> 17741 | S19: =Português!S19 -> 21135 | T19: =Português!T19 -> 14818 | U19: =Português!U19 -> 17477 | ... AF19: =Português!AF19 -> 40239 | AG19: 35661 | AH19: 33865 | AI19: 35602 | AJ19: 36877 | AK19: 35808 | AL19: 36975 | AM19: 36480
B20: Other revenues | D20: =Português!D20 -> 14095 | E20: =Português!E20 -> 16021 | F20: =Português!F20 -> 16167 | G20: =Português!G20 -> 18525 | H20: =Português!H20 -> 24931 | I20: =Português!I20 -> 29407 | J20: 33921 | K20: 36305 | L20: 10078 | N20: =Português!N20 -> 5035 | O20: =Português!O20 -> 4317 | P20: =Português!P20 -> 5964 | Q20: =Português!Q20 -> 851 | R20: =Português!R20 -> 4399 | S20: =Português!S20 -> 4111 | T20: =Português!T20 -> 4983 | U20: =Português!U20 -> 5032 | ... AF20: =Português!AF20 -> 8742 | AG20: 8029 | AH20: 9222 | AI20: 9046 | AJ20: 9198 | AK20: 8839 | AL20: 10078 | AM20: 10726
B21: Taxes and deductions | D21: =Português!D21 -> -43176 | E21: =Português!E21 -> -47488 | F21: =Português!F21 -> -52970 | G21: =Português!G21 -> -78167 | H21: =Português!H21 -> -214097.43 | I21: =Português!I21 -> -295208 | J21: -291017 | K21: -267012 | L21: -69364 | N21: =Português!N21 -> -12314 | O21: =Português!O21 -> -11888 | P21: =Português!P21 -> -13968 | Q21: =Português!Q21 -> -14800 | R21: =Português!R21 -> -17547 | S21: =Português!S21 -> -19547 | T21: =Português!T21 -> -20225 | U21: =Português!U21 -> -20848 | ... AF21: =Português!AF21 -> -74558 | AG21: -60453 | AH21: -61037 | AI21: -64055 | AJ21: -69708 | AK21: -72212 | AL21: -69364 | AM21: -74828
B22: Net revenue | D22: =D17+D21 -> 626556 | E22: =E17+E21 -> 732639 | F22: =F17+F21 -> 717861 | G22: =G17+G21 -> 1024313 | H22: =H17+H21 -> 1763132 | I22: =I17+I21 -> 2187665 | J22: 2226001 | K22: 2175285 | L22: 574958 | N22: =N17+N21 -> 170241 | O22: =O17+O21 -> 143975.75 | P22: =P17+P21 -> 195358 | Q22: =Q17+Q21 -> 208286.25 | R22: =R17+R21 -> 226760 | S22: =S17+S21 -> 268930 | T22: =T17+T21 -> 240402 | U22: =U17+U21 -> 288221 | ... AF22: =AF17+AF21 -> 570821 | AG22: 487038 | AH22: 499318 | AI22: 545807 | AJ22: 567857 | AK22: 562303 | AL22: 574958 | AM22: 613633
B23: Cost of services provided | D23: =SUM(D24:D29) -> -341640.35 | E23: =SUM(E24:E29) -> -396956 | F23: =SUM(F24:F29) -> -455665 | G23: =SUM(G24:G29) -> -619652 | H23: =SUM(H24:H29) -> -1139945 | I23: =SUM(I24:I29) -> -1475816 | J23: -1555404 | K23: -1523868 | L23: -401037 | N23: =SUM(N24:N29) -> -110159 | O23: =SUM(O24:O29) -> -104386 | P23: =SUM(P24:P29) -> -112867.6 | Q23: =SUM(Q24:Q29) -> -128252.4 | R23: =SUM(R24:R29) -> -137895 | S23: =SUM(S24:S29) -> -149990.6 | T23: =SUM(T24:T29) -> -156084 | U23: =SUM(U24:U29) -> -175682.4 | ... AF23: =SUM(AF24:AF29) -> -397247 | AG23: -358011 | AH23: -355530 | AI23: -380981.94 | AJ23: -396737.06 | AK23: -390619 | AL23: -401037 | AM23: -426901
B24: Medical supplies and Drugs | D24: =Português!D24 -> -161439 | E24: =Português!E24 -> -178904.75 | F24: =Português!F24 -> -194181 | G24: =Português!G24 -> -283228 | H24: =Português!H24 -> -426534 | I24: =Português!I24 -> -528486 | J24: -547158 | K24: -579991 | L24: -155683 | N24: =Português!N24 -> -45936 | O24: =Português!O24 -> -41531 | P24: =Português!P24 -> -48927 | Q24: =Português!Q24 -> -57787 | R24: =Português!R24 -> -65905 | S24: =Português!S24 -> -71005 | T24: =Português!T24 -> -73123 | U24: =Português!U24 -> -73195 | ... AF24: =Português!AF24 -> -135669 | AG24: -129743 | AH24: -129756 | AI24: -147156 | AJ24: -154787 | AK24: -148292 | AL24: -155683 | AM24: -170198
B25: Personnel | D25: =Português!D25 -> -62839.184 | E25: =Português!E25 -> -76654.258 | F25: =Português!F25 -> -114226 | G25: =Português!G25 -> -157509 | H25: =Português!H25 -> -318703 | I25: =Português!I25 -> -409441 | J25: -448711 | K25: -431076 | L25: -113881 | N25: =Português!N25 -> -25625 | O25: =Português!O25 -> -27649 | P25: =Português!P25 -> -28361 | Q25: =Português!Q25 -> -32591 | R25: =Português!R25 -> -33644 | S25: =Português!S25 -> -39174 | T25: =Português!T25 -> -39295 | U25: =Português!U25 -> -45396 | ... AF25: =Português!AF25 -> -119559 | AG25: -100331 | AH25: -104189 | AI25: -106245 | AJ25: -110867 | AK25: -109775 | AL25: -113881 | AM25: -116454
B26: Medical services | D26: =Português!D26 -> -30430 | E26: =Português!E26 -> -33002.036 | F26: =Português!F26 -> -31857 | G26: =Português!G26 -> -52573 | H26: =Português!H26 -> -171596 | I26: =Português!I26 -> -252300 | J26: -258070 | K26: -231631 | L26: -60619 | N26: =Português!N26 -> -9081 | O26: =Português!O26 -> -8161 | P26: =Português!P26 -> -7977 | Q26: =Português!Q26 -> -6638 | R26: =Português!R26 -> -9468 | S26: =Português!S26 -> -9787 | T26: =Português!T26 -> -12728 | U26: =Português!U26 -> -20590 | ... AF26: =Português!AF26 -> -68922 | AG26: -54444 | AH26: -55074 | AI26: -57401 | AJ26: -59719 | AK26: -59437 | AL26: -60619 | AM26: -66696
B27: Maintenance and conservation | D27: =Português!D27 -> -23184 | E27: =Português!E27 -> -29633.096 | F27: =Português!F27 -> -32719 | G27: =Português!G27 -> -37059 | H27: =Português!H27 -> -61571 | I27: =Português!I27 -> -87706 | J27: -99475 | K27: -92464 | L27: -24153 | N27: =Português!N27 -> -8347 | O27: =Português!O27 -> -7758 | P27: =Português!P27 -> -7338 | Q27: =Português!Q27 -> -9276 | R27: =Português!R27 -> -8470 | S27: =Português!S27 -> -8382 | T27: =Português!T27 -> -8667 | U27: =Português!U27 -> -11540 | ... AF27: =Português!AF27 -> -24544 | AG27: -22463 | AH27: -21536 | AI27: -22945 | AJ27: -23103 | AK27: -24880 | AL27: -24153 | AM27: -24766
B28: Depreciation and amortization | D28: =Português!D28 -> -28906 | E28: =Português!E28 -> -34146.615 | F28: =Português!F28 -> -29809 | G28: =Português!G28 -> -32486 | H28: =Português!H28 -> -74328 | I28: =Português!I28 -> -82432 | J28: -88707 | K28: -89870 | L28: -21101 | N28: =Português!N28 -> -7146 | O28: =Português!O28 -> -7774 | P28: =Português!P28 -> -5831.6 | Q28: =Português!Q28 -> -9057.4 | R28: =Português!R28 -> -7054 | S28: =Português!S28 -> -7315.6 | T28: =Português!T28 -> -7368 | U28: =Português!U28 -> -10748.4 | ... AF28: =Português!AF28 -> -21428 | AG28: -23558 | AH28: -22034 | AI28: -21983.935 | AJ28: -22429.065 | AK28: -23423 | AL28: -21101 | AM28: -21378
B29: Other costs | D29: =Português!D29 -> -34842.162 | E29: =Português!E29 -> -44615.247 | F29: =Português!F29 -> -52873 | G29: =Português!G29 -> -56797 | H29: =Português!H29 -> -87213 | I29: =Português!I29 -> -115451 | J29: -113283 | K29: -98836 | L29: -25600 | N29: =Português!N29 -> -14024 | O29: =Português!O29 -> -11513 | P29: =Português!P29 -> -14433 | Q29: =Português!Q29 -> -12903 | R29: =Português!R29 -> -13354 | S29: =Português!S29 -> -14327 | T29: =Português!T29 -> -14903 | U29: =Português!U29 -> -14213 | ... AF29: =Português!AF29 -> -27125 | AG29: -27472 | AH29: -22941 | AI29: -25251 | AJ29: -25832 | AK29: -24812 | AL29: -25600 | AM29: -27409
B30: Gross Profit | D30: =SUM(D22:D23) -> 284915.65 | E30: =SUM(E22:E23) -> 335683 | F30: =SUM(F22:F23) -> 262196 | G30: =SUM(G22:G23) -> 404661 | H30: =SUM(H22:H23) -> 623187 | I30: =SUM(I22:I23) -> 711849 | J30: 670597 | K30: 651417 | L30: 173921 | N30: =SUM(N22:N23) -> 60082 | O30: =SUM(O22:O23) -> 39589.75 | P30: =SUM(P22:P23) -> 82490.4 | Q30: =SUM(Q22:Q23) -> 80033.85 | R30: =SUM(R22:R23) -> 88865 | S30: =SUM(S22:S23) -> 118939.4 | T30: =SUM(T22:T23) -> 84318 | U30: =SUM(U22:U23) -> 112538.6 | ... AF30: =SUM(AF22:AF23) -> 173574 | AG30: 129027 | AH30: 143788 | AI30: 164825.06 | AJ30: 171119.94 | AK30: 171684 | AL30: 173921 | AM30: 186732
B31: % gross margin | D31: =D30/D22 -> 0.45473294 | E31: =E30/E22 -> 0.45818336 | F31: =F30/F22 -> 0.3652462 | G31: =G30/G22 -> 0.395056 | H31: =H30/H22 -> 0.35345453 | I31: =I30/I22 -> 0.32539214 | J31: 0.30125638 | K31: 0.29946283 | L31: 0.3024934 | N31: =N30/N22 -> 0.35292321 | O31: =O30/O22 -> 0.27497513 | P31: =P30/P22 -> 0.42225248 | Q31: =Q30/Q22 -> 0.38424932 | R31: =R30/R22 -> 0.3918901 | S31: =S30/S22 -> 0.44226899 | T31: =T30/T22 -> 0.35073751 | U31: =U30/U22 -> 0.3904594 | ... AF31: =AF30/AF22 -> 0.30407781 | AG31: 0.26492183 | AH31: 0.28796879 | AI31: =AI30/AI22 -> 0.30198415 | AJ31: 0.30134336 | AK31: 0.30532293 | AL31: 0.3024934 | AM31: 0.30430567
B32: General and administrative expenses | D32: =SUM(D33:D35) -> -96027 | E32: =SUM(E33:E35) -> -116567 | F32: =SUM(F33:F35) -> -89258 | G32: =SUM(G33:G35) -> -134118.2 | H32: =SUM(H33:H35) -> -269092 | I32: =SUM(I33:I35) -> -296288 | J32: -298709 | K32: -276928 | L32: -71733 | N32: =SUM(N33:N35) -> -22530 | O32: =SUM(O33:O35) -> -22462 | P32: =SUM(P33:P35) -> -21549.4 | Q32: =SUM(Q33:Q35) -> -22716.6 | R32: =SUM(R33:R35) -> -25780 | S32: =SUM(S33:S35) -> -26562.4 | T32: =SUM(T33:T35) -> -24967 | U32: =SUM(U33:U35) -> -56808.8 | ... AF32: =SUM(AF33:AF35) -> -79928 | AG32: -69175 | AH32: -67234 | AI32: -68256.4 | AJ32: -70862.6 | AK32: -70575 | AL32: -71733 | AM32: -75398
B33: Personnel | D33: =Português!D33 -> -78534 | E33: =Português!E33 -> -93849.249 | F33: =Português!F33 -> -68980 | G33: =Português!G33 -> -93808 | H33: =Português!H33 -> -155741 | I33: =Português!I33 -> -189607 | J33: -190625 | K33: -169552 | L33: -43099 | N33: =Português!N33 -> -18169 | O33: =Português!O33 -> -17872 | P33: =Português!P33 -> -14706 | Q33: =Português!Q33 -> -18233 | R33: =Português!R33 -> -20773 | S33: =Português!S33 -> -23339 | T33: =Português!T33 -> -21243 | U33: =Português!U33 -> -28453 | ... AF33: =Português!AF33 -> -50492 | AG33: -43309 | AH33: -43422 | AI33: -42434 | AJ33: -41678 | AK33: -42018 | AL33: -43099 | AM33: -43762
B34: Depreciation and amortization | D34: =Português!D34 -> -6571 | E34: =Português!E34 -> -11908.931 | F34: =Português!F34 -> -8091 | G34: =Português!G34 -> -8366.2 | H34: =Português!H34 -> -15744 | I34: =Português!I34 -> -19570 | J34: -20334 | K34: -21235 | L34: -7775 | N34: =Português!N34 -> -1838 | O34: =Português!O34 -> -1892 | P34: =Português!P34 -> -3777.4 | Q34: =Português!Q34 -> -583.6 | R34: =Português!R34 -> -1764 | S34: =Português!S34 -> -1828.4 | T34: =Português!T34 -> -1842 | U34: =Português!U34 -> -2931.8 | ... AF34: =Português!AF34 -> -5816 | AG34: -3330 | AH34: -5232 | AI34: -5214.4 | AJ34: -5326.6 | AK34: -5462 | AL34: -7775 | AM34: -7958
B35: Other expenses | D35: =Português!D35 -> -10922 | E35: =Português!E35 -> -10808.82 | F35: =Português!F35 -> -12187 | G35: =Português!G35 -> -31944 | H35: =Português!H35 -> -97607 | I35: =Português!I35 -> -87111 | J35: -87750 | K35: -86141 | L35: -20859 | N35: =Português!N35 -> -2523 | O35: =Português!O35 -> -2698 | P35: =Português!P35 -> -3066 | Q35: =Português!Q35 -> -3900 | R35: =Português!R35 -> -3243 | S35: =Português!S35 -> -1395 | T35: =Português!T35 -> -1882 | U35: =Português!U35 -> -25424 | ... AF35: =Português!AF35 -> -23620 | AG35: -22536 | AH35: -18580 | AI35: -20608 | AJ35: -23858 | AK35: -23095 | AL35: -20859 | AM35: -23678
B36: Other operating income (expenses) | D36: =Português!D36 -> -4493 | E36: =Português!E36 -> -8157 | F36: =Português!F36 -> -56136 | G36: =Português!G36 -> -28275 | H36: =Português!H36 -> -16193 | I36: =Português!I36 -> 8048 | J36: 46529 | K36: -20764 | L36: -6713 | N36: =Português!N36 -> -9788 | O36: =Português!O36 -> -3349 | P36: =Português!P36 -> -4912 | Q36: =Português!Q36 -> -38087 | R36: =Português!R36 -> -9815 | S36: =Português!S36 -> -8597 | T36: =Português!T36 -> 558 | U36: =Português!U36 -> -10421 | ... AF36: =Português!AF36 -> 70154 | AG36: -9205 | AH36: -7240 | AI36: =-8573 -> -8573 | AJ36: -2152 | AK36: -2799 | AL36: -6713 | AM36: -2076
B37: Impairment of assets | D37: =Português!D37 -> 0 | E37: =Português!E37 -> 0 | F37: =Português!F37 -> 0 | G37: =Português!G37 -> 0 | H37: =Português!H37 -> 0 | I37: =Português!I37 -> 0 | J37: -754264 | K37: 0 | L37: 0 | V37: =Português!V37 -> 0 | W37: =Português!W37 -> 0 | X37: =Português!X37 -> 0 | Y37: =Português!Y37 -> 0 | Z37: =Português!Z37 -> 0 | AA37: =Português!AA37 -> 0 | AB37: =Português!AB37 -> 0 | AC37: =Português!AC37 -> 0 | ... AF37: =Português!AF37 -> -10122 | AG37: 0 | AH37: 0 | AJ37: 0 | AK37: 0 | AL37: 0 | AM37: 0
B38: EBIT | D38: =(D30+D32+D36) -> 184395.65 | E38: =(E30+E32+E36) -> 210959 | F38: =(F30+F32+F36) -> 116802 | G38: =(G30+G32+G36) -> 242267.8 | H38: =(H30+H32+H36) -> 337902 | I38: =(I30+I32+I36) -> 423609 | J38: -335847 | K38: 353725 | L38: 95475 | N38: =(N30+N32+N36) -> 27764 | O38: =(O30+O32+O36) -> 13778.75 | P38: =(P30+P32+P36) -> 56029 | Q38: =(Q30+Q32+Q36) -> 19230.25 | R38: =(R30+R32+R36) -> 53270 | S38: =(S30+S32+S36) -> 83780 | T38: =(T30+T32+T36) -> 59909 | U38: =(U30+U32+U36) -> 45308.8 | ... AD38: =(AD30+AD32+AD36) -> 112147 | AE38: =(AE30+AE32+AE36+AE37) -> -652319 | AF38: =(AF30+AF32+AF36+AF37) -> 153678 | AG38: 50647 | AH38: 69314 | AI38: 87995.665 | AJ38: 98105.335 | AK38: 98310 | AL38: 95475 | AM38: 109258
B39: Financial revenues | D39: =Português!D39 -> 25584 | E39: =Português!E39 -> 22734 | F39: =Português!F39 -> 13244 | G39: =Português!G39 -> 66874 | H39: =Português!H39 -> 90426 | I39: =Português!I39 -> 59459 | J39: 89616 | K39: 115628 | L39: 25788 | N39: =Português!N39 -> 4204 | O39: =Português!O39 -> 1547 | P39: =Português!P39 -> 4328 | Q39: =Português!Q39 -> 3165 | R39: =Português!R39 -> 4578 | S39: =Português!S39 -> 13827 | T39: =Português!T39 -> 21525 | U39: =Português!U39 -> 26944 | ... AF39: =Português!AF39 -> 34106 | AG39: 27664 | AH39: 26543 | AI39: 29909 | AJ39: 30202 | AK39: 28974 | AL39: 25788 | AM39: 28393
B40: Financial expenses | D40: =Português!D40 -> -19573 | E40: =Português!E40 -> -22595 | F40: =Português!F40 -> -27284 | G40: =Português!G40 -> -88662 | H40: =Português!H40 -> -242494 | I40: =Português!I40 -> -274275 | J40: -252379 | K40: -302268 | L40: -70169 | N40: =Português!N40 -> -8912 | O40: =Português!O40 -> -5515 | P40: =Português!P40 -> -5361 | Q40: =Português!Q40 -> -7496 | R40: =Português!R40 -> -18271 | S40: =Português!S40 -> -17385 | T40: =Português!T40 -> -15828 | U40: =Português!U40 -> -37178 | ... AF40: =Português!AF40 -> -65963 | AG40: -62656 | AH40: -65683 | AI40: -76328 | AJ40: -85706 | AK40: -74551 | AL40: -70169 | AM40: -71014
B41: Net financial result | D41: =SUM(D39:D40) -> 6011 | E41: =SUM(E39:E40) -> 139 | F41: =SUM(F39:F40) -> -14040 | G41: =SUM(G39:G40) -> -21788 | H41: =SUM(H39:H40) -> -152068 | I41: =SUM(I39:I40) -> -214816 | J41: -162763 | K41: -186640 | L41: -44381 | N41: =SUM(N39:N40) -> -4708 | O41: =SUM(O39:O40) -> -3968 | P41: =SUM(P39:P40) -> -1033 | Q41: =SUM(Q39:Q40) -> -4331 | R41: =SUM(R39:R40) -> -13693 | S41: =SUM(S39:S40) -> -3558 | T41: =SUM(T39:T40) -> 5697 | U41: =SUM(U39:U40) -> -10234 | ... AF41: =SUM(AF39:AF40) -> -31857 | AG41: -34992 | AH41: -39140 | AI41: -46419 | AJ41: -55504 | AK41: -45577 | AL41: -44381 | AM41: -42621
B42: EBT | D42: =D38+D41 -> 190406.65 | E42: =E38+E41 -> 211098 | F42: =F38+F41 -> 102762 | G42: =G38+G41 -> 220479.8 | H42: =H38+H41 -> 185834 | I42: =I38+I41 -> 208793 | J42: -498610 | K42: 167085 | L42: 51094 | N42: =N38+N41 -> 23056 | O42: =O38+O41 -> 9810.75 | P42: =P38+P41 -> 54996 | Q42: =Q38+Q41 -> 14899.25 | R42: =R38+R41 -> 39577 | S42: =S38+S41 -> 80222 | T42: =T38+T41 -> 65606 | U42: =U38+U41 -> 35074.8 | ... AF42: =AF38+AF41 -> 121821 | AG42: 15655 | AH42: 30174 | AI42: 41576.665 | AJ42: 42601.335 | AK42: 52733 | AL42: 51094 | AM42: 66637
B43: Income Tax and Social Contribution | D43: =Português!D43 -> -65972 | E43: =Português!E43 -> -72994 | F43: =Português!F43 -> -30119 | G43: =Português!G43 -> -73634 | H43: =Português!H43 -> -63147 | I43: =Português!I43 -> -67546 | J43: 174706 | K43: -55169 | L43: -18528 | N43: =Português!N43 -> -7659 | O43: =Português!O43 -> -3335 | P43: =Português!P43 -> -18341 | Q43: =Português!Q43 -> -784 | R43: =Português!R43 -> -13123 | S43: =Português!S43 -> -26998 | T43: =Português!T43 -> -21972 | U43: =Português!U43 -> -11541 | ... AF43: =Português!AF43 -> -41290 | AG43: -7510 | AH43: -10001 | AI43: -14486 | AJ43: -15119 | AK43: -15563 | AL43: -18528 | AM43: -21650
B44: Net income | D44: =D42+D43 -> 124434.65 | E44: =E42+E43 -> 138104 | F44: =F42+F43 -> 72643 | G44: =G42+G43 -> 146845.8 | H44: =H42+H43 -> 122687 | I44: =I42+I43 -> 141247 | J44: -323904 | K44: 111916 | L44: 32566 | N44: =N42+N43 -> 15397 | O44: =O42+O43 -> 6475.75 | P44: =P42+P43 -> 36655 | Q44: =Q42+Q43 -> 14115.25 | R44: =R42+R43 -> 26454 | S44: =S42+S43 -> 53224 | T44: =T42+T43 -> 43634 | U44: =U42+U43 -> 23533.8 | ... AF44: =AF42+AF43 -> 80531 | AG44: 8145 | AH44: 20173 | AI44: 27090.665 | AJ44: 27482.335 | AK44: 37170 | AL44: 32566 | AM44: 44987
...
